{"text_format":"1","workbook":"xlsx","n_sheets":11,"sheets":["Contents & 6mo Restriction","Data","Data Issues","OSEP Category Totals","OSEP Category Charts","Outcome 1 Ratings","Outcome 2 Ratings","Outcome 3 Ratings","Category A","Category E","Lookup"],"not_rendered":{"charts":14,"images":0,"macros":1,"external_links":0,"defined_names":1,"comments":0,"pivot_tables":0},"unopened":[],"bounds":{"document_bytes":16777216,"sheet_cells":100000,"rows_first":2000,"rows_last":500,"rows_between":2000,"halvings":0,"cell_chars":16384,"cell_head_chars":4096},"cells_cut":0,"cells_raw":0,"read":"whole","date_system":"1900"}

{"sheet":"Contents & 6mo Restriction","index":0,"n_rows":69,"n_cols":58,"rows_kept":69,"cut":false,"hidden":false,"merged":[[1,4,2,7],[3,4,4,9],[5,4,7,9],[8,4,10,9],[1,8,2,9]]}
[null,null,null,null,null,null,null,null,null,null,null,null,null,null,null,null,null,null,null,null,null,null,null,null,null,null,null,null,null,null,null,null,null,null,null,null,null,null,null,null,null,null,null,null,null,null,null,null,null,null,null,null,null,null,null,null,false]
["COS Calculator Contents",null,null,null,{"$f":"IF(BE1=FALSE,\"Check this box to include all children.\",\"Uncheck this box to exclude children with less than 6 months between entry and exit date.\")","v":"Check this box to include all children."}]
[]
["Worksheet Tab ",null,"Contents",null,"If the box is checked, the program will include all children regardless of the time between entry date and exit date."]
["Data",null,null,null,null,null,null,null,null,null,null,null,null,null,null,null,null,null,null,null,null,null,null,null,null,null,null,null,null,null,null,null,null,null,null,null,null,null,null,null,null,null,null,null,null,null,null,null,null,null,null,null,null,null,null,null,null,"If the cases entered into the calculator have NOT been verified to ensure that they meet the state’s criteria for six-months of consecutive service, ‘unselect’ the checkbox above to ensure that cases with fewer than 182 days (six months) between the entry date and exit date are excluded. "]
[null,null,"Raw data (see section below for tips for working with raw data)",null,"If the box is not checked, the program will include only those children with six months between entry date and exit date (defined as 182 days).",null,null,null,null,null,null,null,null,null,null,null,null,null,null,null,null,null,null,null,null,null,null,null,null,null,null,null,null,null,null,null,null,null,null,null,null,null,null,null,null,null,null,null,null,null,null,null,null,null,null,null,null,"If the cases entered into the calculator have been verified to ensure that they meet the state’s criteria for six-months of consecutive service, ‘select’ the checkbox to ensure that all cases are included. If the checkbox is NOT selected, cases with fewer than 182 days (six months) between the entry date and exit date will be excluded. "]
["OSEP Category Totals"]
[null,null,"Number and percentage of children in each OSEP progress category for each outcome"]
[null,null,"Summary statement percentages for each outcome",null,"If your state uses a criteria other than 182 days to define six months of consecutive service, apply your state’s criteria and only include children in the data tab meeting those criteria. Leave the box checked."]
["OSEP Category Charts"]
[null,null,"Charts showing the percentage of children in each OSEP progress category for each outcome"]
[null,null,"Charts showing the summary statement percentages for each outcome"]
["Outcome 1 Ratings"]
[null,null,"Table showing number and percentage of children with 1 - 7 COS ratings at entry for outcome 1"]
[null,null,"Table showing number and percentage of children with 1 - 7 COS ratings at exit for outcome 1"]
[null,null,"Chart showing COS 1-7 rating distributions at entry and exit for outcome 1"]
[null,null,"Chart showing COS 1-7 rating distributions at entry for outcome 1"]
[null,null,"Chart showing COS 1-7 rating distributions at exit for outcome 1"]
["Outcome 2 Ratings"]
[null,null,"Table showing number and percentage of children with 1 - 7 COS ratings at entry for outcome 2"]
[null,null,"Table showing number and percentage of children with 1 - 7 COS ratings at exit for outcome 2"]
[null,null,"Chart showing COS 1-7 rating distributions at entry and exit for outcome 2"]
[null,null,"Chart showing COS 1-7 rating distributions at entry for outcome 2"]
[null,null,"Chart showing COS 1-7 rating distributions at exit for outcome 2"]
["Outcome 3 Ratings"]
[null,null,"Table showing number and percentage of children with 1 - 7 COS ratings at entry for outcome 3"]
[null,null,"Table showing number and percentage of children with 1 - 7 COS ratings at exit for outcome 3"]
[null,null,"Chart showing COS 1-7 rating distributions at entry and exit for outcome 3"]
[null,null,"Chart showing COS 1-7 rating distributions at entry for outcome 3"]
[null,null,"Chart showing COS 1-7 rating distributions at exit for outcome 3"]
["Category A"]
[null,null,"Number and percentage of children with various combinations of progress category a               across all three outcomes"]
["Category E"]
[null,null,"Number and percentage of children with various combinations of progress category e           across all three outcomes"]
["Data Issues"]
[null,null,"Table summarizing common data issues including missing entry and exit dates, missing progress information, service less than six months, and impossible combinations of data entered"]
["Rules"]
[null,null,"Rules for conversion of raw data into OSEP progress categories"]
["Lookup"]
[null,null,"Lookup chart for computing OSEP progress categories"]
[]
[]
[]
["Additional Tips & Tricks "]
[]
["Information on the COS Calculator"]
[null,null,"Information on the COSF Calculator, including a brief guidance document and any updates will be posted on the ECO Center website at www.the-eco-center.org . See ECO Resources, then Child Outcomes Summary Form, and click on the tab \"calculating progress.\""]
[]
["To Sort or Filter Auto-Generated Data Columns"]
[null,null,"To sort or filter data, click on the black arrow in the lower right corner of the preferred OSEP category box. Select the choice indicating the way you want data sorted or filtered. The arrow will then turn blue. To return to all cases again, click on the arrow and then on “all”.  If you have sorted several of the categories (i.e., have several blue arrows), you must click \"all\" on all of the categories to return your data to their initial state."]
[null,null,"This feature is useful for identifying impossible cases or cases missing progress information so that you can examine these cases and see if additional information is available to correct the data problem. It can also be used, for instance to look just at those in one particular progress category on an outcome and see what the entry and exit distributions look like for that group of children. Please note: This calculator does not auto-generate a crosstab showing entry and exit ratings, though data can be sorted or filtered and copied and pasted into a software program where users can generate that information to learn more about the patterns of movement in the data between entry and exit. Also, when data are filtered in the COS calculator, charts and tables do not automatically update. However, you could copy and paste that subset of data into another blank COS calculator to see the tables and charts for that subset."]
[]
["To Sort or Filter Raw Data Columns"]
[null,null,"Portions of the COS calculator are protected to ensure that it auto-generates information. As a result, sorting and filtering regular data columns can work somewhat differently than in a regular Excel file. To sort data, first highlight all of the columns of entered data fields (start with B21 and highlight across to N21 and then highlight down through the full amount of data entered; you cannot just highlight the entire worksheet). Then, regular sorting functions apply, allowing you to sort by any of the columns included in the highlighted sections. This feature is useful for selecting specific entry and exit dates or sorting by program or id.  Please note that when the data is sorting, the auto-computed OSEP category fields will temporarily disappear. After the entered data re-sort, the OSEP category fields will re-compute on the new line. "]
[null,null," ALSO NOTE: If you have entered additional data columns (e.g., demographics, child characteristics, etc.) in columns EF and beyond, these data will not sort with the highlighted data.  For this reason, we recommend repeating the ID column as the first item in column EF if you add data into those columns. This will ensure that you can appropriately match the rows of data again after the data have been sorted."]
[]
["To Cut, Copy, and Paste Data"]
[null,null,"Portions of the COS calculator are protected to ensure that it auto-generates information. As a result, cutting, copying, and pasting regular data columns can work somewhat differently than in a regular Excel file. To copy and paste data, first highlight all of the columns of entered data fields (start with B21 and highlight across to N21 and then highlight down through for as many rows as desired of data entered; you cannot just highlight the entire worksheet). Then, regular copying and pasting functions apply.  NOTE: If you have entered additional data columns (e.g., demographics, child characteristics, etc.) in columns EF and beyond, these data will not be highlighted, and therefore will not copy with the other data.  For this reason, we recommend repeating the ID column as the first item in column EF if you add data in those columns so that you can manipulate those data separately."]
[]
[]
[]
[]
["Additional Tips & Tricks (Continued)"]
[]
["To Add Additional Rows to the Data"]
[null,null,"To add additional rows to the data set, please follow these steps: After opening the file (you may need to click on the \"Enable Macros\" button in a security warning message box when you open the file), enter data in cell B 21. Then, keeping the cursor/tab in cell B21, press *Ctr-R*. A row will be added above this cell with all macros enabled such that you can enter data. Once you enter the data, the OSEP progress categories will be calculated automatically for all 3 outcomes."]
[]
["To Add Additional Columns to the Data"]
[null,null,"Additional columns of data may be added started in data column EF of the data worksheet. Because of limitations in sorting, copying, and pasting discussed above, we encourage users who may add additional columns of data to have the first additional column repeat the child's ID. This will allow ready access to linking rows of data again if they become disconnected from sorting activities."]

{"sheet":"Data","index":1,"n_rows":12007,"n_cols":135,"rows_kept":562,"cut":true,"hidden":false,"merged":[[17,12,17,20],[2,2,2,20],[16,2,16,11],[4,2,4,11],[5,2,5,11],[6,2,6,11],[7,2,7,11],[8,2,8,11],[9,2,9,11],[10,2,10,11],[15,2,15,11],[9,132,14,134],[11,2,11,11],[12,2,12,11],[13,2,13,11],[14,2,14,11],[16,12,16,20],[13,12,13,20],[4,12,4,20],[5,12,5,20],[6,12,6,20],[7,12,7,20],[8,12,8,20],[9,12,9,20],[10,12,10,20],[11,12,11,20],[12,12,12,20],[14,12,14,20],[15,12,15,20]],"bounds":{"rows_first":250,"rows_last":62,"rows_between":250,"halvings":3}}
[]
[]
[null,null,"Conversion of Child Outcomes Summary Form (COSF) data to OSEP Reporting Categories"]
[]
[null,null,"Instructions",null,null,null,null,null,null,null,null,null,"OSEP Categories Key"]
[null,null,"Entry",null,null,null,null,null,null,null,null,null,"a - Children who did not improve functioning"]
[null,null,"Enter child ID in \"ID\" column.",null,null,null,null,null,null,null,null,null,"b - Children who improved functioning but not sufficient to move nearer to"]
[null,null,"Enter date from outcomes summary form in Entry \"Date\" column (format MM/DD/YY)",null,null,null,null,null,null,null,null,null,"     functioning comparable to same age peers"]
[null,null,"Enter rating numbers (1 through 7) for Entry outcomes 1, 2 and 3",null,null,null,null,null,null,null,null,null,"c - Children who improved functioning to a level nearer to same-aged peers"]
[null,null,"To add a row, press Ctrl + r (press and hold the Ctrl key then tap the r key)",null,null,null,null,null,null,null,null,null,"     but did not reach it ",null,null,null,null,null,null,null,null,null,null,null,null,null,null,null,null,null,null,null,null,null,null,null,null,null,null,null,null,null,null,null,null,null,null,null,null,null,null,null,null,null,null,null,null,null,null,null,null,null,null,null,null,null,null,null,null,null,null,null,null,null,null,null,null,null,null,null,null,null,null,null,null,null,null,null,null,null,null,null,null,null,null,null,null,null,null,null,null,null,null,null,null,null,null,null,null,null,null,null,null,null,null,null,null,null,null,null,null,null,null,null,null,null,null,null,null,null,null,null,{"$f":"\"*  \"&IF('Contents & 6mo Restriction'!BE1,\"You have selected to view data that includes children regardless of how long they've been in the program.\",\"You have selected to view data only for children who have been in the program for 6 months or more.\")&CHAR(10)&CHAR(10)&\"See 'Contents & Tips' tab for more info\"","v":"*  You have selected to view data only for children who have been in the program for 6 months or more.\n\nSee 'Contents & Tips' tab for more info"}]
[null,null,"Exit",null,null,null,null,null,null,null,null,null,"d - Children who improved functioning to reach a level comparable to"]
[null,null,"Locate child ID in \"ID\" column",null,null,null,null,null,null,null,null,null,"     same-aged peers"]
[null,null,"Enter date from outcomes summary form in Exit \"Date\" column (format MM/DD/YY) - must be at least 6 months after that for Entry",null,null,null,null,null,null,null,null,null,"e - Children who maintained functioning at a level comparable to"]
[null,null,"Enter rating numbers (1 through 7) for Exit Outcome 1, Exit Outcome 2, and Exit Outcome 3",null,null,null,null,null,null,null,null,null,"     same-aged peers"]
[null,null,"Indicate whether or not progress was made for each outcome since Entry (yes or no, format \"y\" or \"n\").",null,null,null,null,null,null,null,null,null,"Progress? - No determination of progress has been provided yet (please fix)"]
[null,null,"Reporting categories as shown at right will appear in \"OSEP Category\" columns",null,null,null,null,null,null,null,null,null,"Impossible - The combination does not result in a progress category assignment. "]
[null,null,"Totals: click on \"OSEP Category Totals\" worksheet below to see a running tally of entries",null,null,null,null,null,null,null,null,null,"     Either the entry or exit ratings are missing or the progress category does not"]
[null,null,null,null,null,null,null,null,null,null,null,null,"     correspond with entry and exit ratings. (Please fix)."]
[null,null,null,"Entry",null,null,null,"Exit",null,null,null,null,null,null,"place","OC 1","OC 2","OC 3","Outcome 1","Outcome 2","Outcome 3",null,null,null,null,null,null,null,null,null,null,null,null,null,null,null,null,null,null,null,null,null,null,null,null,null,null,null,null,null,null,null,null,null,null,null,null,null,null,null,null,null,null,null,null,null,null,null,null,null,null,null,null,null,null,null,null,null,null,null,null,null,null,null,null,null,null,null,null,null,null,null,null,null,null,null,null,null,null,null,null,null,null,null,null,null,null,null,null,null,null,null,null,null,null,null,null,null,null,null,null,null,null,null,null,null,null,null,null,null,null,null,null,null,"Service is less than 6 months"]
[null,"ID","Program","Date","Outcome 1","Outcome 2","Outcome 3","Date","Outcome 1","Progress","Outcome 2","Progress","Outcome 3","Progress","holder","concat","concat","concat","OSEP\nCategory","OSEP\nCategory","OSEP\nCategory",null,"Entry/ExitTimeSpan\n1 is < 182 days\n0=182 days or more or no restriction","Use this Row\nTest for data in column B, C, e, F, or G","At least one usable outcome\nEntry/ExitTimeSpan=0 AND\nOutcome 1, 2, or 3 has a letter","At least one usable outcome\nEntry/ExitTimeSpan=0 AND\nOutcomes 1, 2, 3 all have letters","count this as 6 months or at least 182 days or override?","is this at least 6 months later?","is this at least 182 days later?","override (calculate 8/30, 8/31, 10/31, and 12/31 differently)",null,null,null,null,null,null,null,null,null,null,null,null,null,null,null,null,null,null,null,null,null,null,null,null,null,null,null,null,null,null,null,null,null,null,null,null,null,null,null,null,null,null,null,null,null,null,null,null,null,null,null,null,null,null,null,null,null,null,null,null,null,null,null,null,null,null,null,null,null,null,null,null,null,null,null,null,null,null,null,null,null,null,null,null,null,null,null,null,null,null,null,null,null,null,null,null,null,null,null,null,null,null,"Impossible","progress?","or missing date"]
[null,null,null,null,null,null,null,null,null,null,null,null,null,null,"X",{"$f":"CONCATENATE(E21,I21,J21,O21)","v":"X"},{"$f":"CONCATENATE(F21,K21,L21,O21)","v":"X"},{"$f":"CONCATENATE(G21,M21,N21,O21)","v":"X"},{"$f":"VLOOKUP(P21,Lookup!A:B,2,FALSE)","v":"--"},{"$f":"VLOOKUP(Q21,Lookup!A:B,2,FALSE)","v":"--"},{"$f":"VLOOKUP(R21,Lookup!A:B,2,FALSE)","v":"--"},null,{"$f":"IF(E21&F21&G21&I21&K21&M21=\"\",\"\",IF(OR(H21=\"\",D21=\"\",AND(AC21=0,'Contents & 6mo Restriction'!$BE$1=FALSE)),1,0))","v":""},{"$f":"IF(CONCATENATE(B21,C21,E21,F21,G21)=\"\",\"\",1)","v":""},{"$f":"IF(AND(W21=0,OR(S21=\"a\",S21=\"b\",S21=\"c\",S21=\"d\",S21=\"e\",T21=\"a\",T21=\"b\",T21=\"c\",T21=\"d\",T21=\"e\",U21=\"a\",U21=\"b\",U21=\"c\",U21=\"d\",U21=\"e\")),1,0)","v":0},{"$f":"IF(AND(OR(S21=\"a\",S21=\"b\",S21=\"c\",S21=\"d\",S21=\"e\"),OR(T21=\"a\",T21=\"b\",T21=\"c\",T21=\"d\",T21=\"e\"),OR(U21=\"a\",U21=\"b\",U21=\"c\",U21=\"d\",U21=\"e\"),W21=0),1,0)","v":0},{"$f":"IF(SUM(AB21:AD21)>0,1,0)","v":0},{"$f":"IF(H21>=DATE(YEAR(D21),MONTH(D21)+6,DAY(D21)),1,0)","v":0},{"$f":"IF(H21-D21>=182,1,0)","v":0},{"$f":"IF(OR(AND(MONTH(D21)=8,DAY(D21)=30,H21-D21>=182),AND(MONTH(D21)=8,DAY(D21)=31,H21-D21>=181),AND(MONTH(D21)=10,DAY(D21)=31,H21-D21>=181),AND(MONTH(D21)=12,DAY(D21)=31,H21-D21>=181)),1,0)","v":0},null,null,null,null,null,null,null,null,null,null,null,null,null,null,null,null,null,null,null,null,null,null,null,null,null,null,null,null,null,null,null,null,null,null,null,null,null,null,null,null,null,null,null,null,null,null,null,null,null,null,null,null,null,null,null,null,null,null,null,null,null,null,null,null,null,null,null,null,null,null,null,null,null,null,null,null,null,null,null,null,null,null,null,null,null,null,null,null,null,null,null,null,null,null,null,null,null,null,null,null,null,null,{"$f":"IF(ISERROR(FIND(\"Impossible\",S21&T21&U21)),0,1)","v":0},{"$f":"IF(ISERROR(FIND(\"progress\",S21&T21&U21)),0,1)","v":0},{"$f":"IFERROR(W21,\"Please enter valid dates\")","v":""}]
[null,null,null,null,null,null,null,null,null,null,null,null,null,null,"X","X","X","X",{"$f":"VLOOKUP(P22,Lookup!A:B,2,FALSE)","v":"--"},{"$f":"VLOOKUP(Q22,Lookup!A:B,2,FALSE)","v":"--"},{"$f":"VLOOKUP(R22,Lookup!A:B,2,FALSE)","v":"--"},null,{"$f":"IF(E22&F22&G22&I22&K22&M22=\"\",\"\",IF(OR(H22=\"\",D22=\"\",AND(AC22=0,'Contents & 6mo Restriction'!$BE$1=FALSE)),1,0))","v":""},{"$f":"IF(CONCATENATE(B22,C22,E22,F22,G22)=\"\",\"\",1)","v":""},{"$f":"IF(AND(W22=0,OR(S22=\"a\",S22=\"b\",S22=\"c\",S22=\"d\",S22=\"e\",T22=\"a\",T22=\"b\",T22=\"c\",T22=\"d\",T22=\"e\",U22=\"a\",U22=\"b\",U22=\"c\",U22=\"d\",U22=\"e\")),1,0)","v":0},{"$f":"IF(AND(OR(S22=\"a\",S22=\"b\",S22=\"c\",S22=\"d\",S22=\"e\"),OR(T22=\"a\",T22=\"b\",T22=\"c\",T22=\"d\",T22=\"e\"),OR(U22=\"a\",U22=\"b\",U22=\"c\",U22=\"d\",U22=\"e\"),W22=0),1,0)","v":0},{"$f":"IF(SUM(AB22:AD22)>0,1,0)","v":0},{"$f":"IF(H22>=DATE(YEAR(D22),MONTH(D22)+6,DAY(D22)),1,0)","v":0},{"$f":"IF(H22-D22>=182,1,0)","v":0},{"$f":"IF(OR(AND(MONTH(D22)=8,DAY(D22)=30,H22-D22>=182),AND(MONTH(D22)=8,DAY(D22)=31,H22-D22>=181),AND(MONTH(D22)=10,DAY(D22)=31,H22-D22>=181),AND(MONTH(D22)=12,DAY(D22)=31,H22-D22>=181)),1,0)","v":0},null,null,null,null,null,null,null,null,null,null,null,null,null,null,null,null,null,null,null,null,null,null,null,null,null,null,null,null,null,null,null,null,null,null,null,null,null,null,null,null,null,null,null,null,null,null,null,null,null,null,null,null,null,null,null,null,null,null,null,null,null,null,null,null,null,null,null,null,null,null,null,null,null,null,null,null,null,null,null,null,null,null,null,null,null,null,null,null,null,null,null,null,null,null,null,null,null,null,null,null,null,null,{"$f":"IF(ISERROR(FIND(\"Impossible\",S22&T22&U22)),0,1)","v":0},0,{"$f":"IFERROR(W22,\"Please enter valid dates\")","v":""}]
[null,null,null,null,null,null,null,null,null,null,null,null,null,null,"X","X","X","X",{"$f":"VLOOKUP(P23,Lookup!A:B,2,FALSE)","v":"--"},{"$f":"VLOOKUP(Q23,Lookup!A:B,2,FALSE)","v":"--"},{"$f":"VLOOKUP(R23,Lookup!A:B,2,FALSE)","v":"--"},null,{"$f":"IF(E23&F23&G23&I23&K23&M23=\"\",\"\",IF(OR(H23=\"\",D23=\"\",AND(AC23=0,'Contents & 6mo Restriction'!$BE$1=FALSE)),1,0))","v":""},"",0,0,0,0,0,0,null,null,null,null,null,null,null,null,null,null,null,null,null,null,null,null,null,null,null,null,null,null,null,null,null,null,null,null,null,null,null,null,null,null,null,null,null,null,null,null,null,null,null,null,null,null,null,null,null,null,null,null,null,null,null,null,null,null,null,null,null,null,null,null,null,null,null,null,null,null,null,null,null,null,null,null,null,null,null,null,null,null,null,null,null,null,null,null,null,null,null,null,null,null,null,null,null,null,null,null,null,null,{"$f":"IF(ISERROR(FIND(\"Impossible\",S23&T23&U23)),0,1)","v":0},0,""]
[null,null,null,null,null,null,null,null,null,null,null,null,null,null,"X","X","X","X",{"$f":"VLOOKUP(P24,Lookup!A:B,2,FALSE)","v":"--"},{"$f":"VLOOKUP(Q24,Lookup!A:B,2,FALSE)","v":"--"},{"$f":"VLOOKUP(R24,Lookup!A:B,2,FALSE)","v":"--"},null,{"$f":"IF(E24&F24&G24&I24&K24&M24=\"\",\"\",IF(OR(H24=\"\",D24=\"\",AND(AC24=0,'Contents & 6mo Restriction'!$BE$1=FALSE)),1,0))","v":""},"",0,0,0,0,0,0,null,null,null,null,null,null,null,null,null,null,null,null,null,null,null,null,null,null,null,null,null,null,null,null,null,null,null,null,null,null,null,null,null,null,null,null,null,null,null,null,null,null,null,null,null,null,null,null,null,null,null,null,null,null,null,null,null,null,null,null,null,null,null,null,null,null,null,null,null,null,null,null,null,null,null,null,null,null,null,null,null,null,null,null,null,null,null,null,null,null,null,null,null,null,null,null,null,null,null,null,null,null,{"$f":"IF(ISERROR(FIND(\"Impossible\",S24&T24&U24)),0,1)","v":0},0,""]
[null,null,null,null,null,null,null,null,null,null,null,null,null,null,"X","X","X","X",{"$f":"VLOOKUP(P25,Lookup!A:B,2,FALSE)","v":"--"},{"$f":"VLOOKUP(Q25,Lookup!A:B,2,FALSE)","v":"--"},{"$f":"VLOOKUP(R25,Lookup!A:B,2,FALSE)","v":"--"},null,{"$f":"IF(E25&F25&G25&I25&K25&M25=\"\",\"\",IF(OR(H25=\"\",D25=\"\",AND(AC25=0,'Contents & 6mo Restriction'!$BE$1=FALSE)),1,0))","v":""},"",0,0,0,0,0,0,null,null,null,null,null,null,null,null,null,null,null,null,null,null,null,null,null,null,null,null,null,null,null,null,null,null,null,null,null,null,null,null,null,null,null,null,null,null,null,null,null,null,null,null,null,null,null,null,null,null,null,null,null,null,null,null,null,null,null,null,null,null,null,null,null,null,null,null,null,null,null,null,null,null,null,null,null,null,null,null,null,null,null,null,null,null,null,null,null,null,null,null,null,null,null,null,null,null,null,null,null,null,{"$f":"IF(ISERROR(FIND(\"Impossible\",S25&T25&U25)),0,1)","v":0},0,""]
[null,null,null,null,null,null,null,null,null,null,null,null,null,null,"X","X","X","X",{"$f":"VLOOKUP(P26,Lookup!A:B,2,FALSE)","v":"--"},{"$f":"VLOOKUP(Q26,Lookup!A:B,2,FALSE)","v":"--"},{"$f":"VLOOKUP(R26,Lookup!A:B,2,FALSE)","v":"--"},null,{"$f":"IF(E26&F26&G26&I26&K26&M26=\"\",\"\",IF(OR(H26=\"\",D26=\"\",AND(AC26=0,'Contents & 6mo Restriction'!$BE$1=FALSE)),1,0))","v":""},"",0,0,0,0,0,0,null,null,null,null,null,null,null,null,null,null,null,null,null,null,null,null,null,null,null,null,null,null,null,null,null,null,null,null,null,null,null,null,null,null,null,null,null,null,null,null,null,null,null,null,null,null,null,null,null,null,null,null,null,null,null,null,null,null,null,null,null,null,null,null,null,null,null,null,null,null,null,null,null,null,null,null,null,null,null,null,null,null,null,null,null,null,null,null,null,null,null,null,null,null,null,null,null,null,null,null,null,null,{"$f":"IF(ISERROR(FIND(\"Impossible\",S26&T26&U26)),0,1)","v":0},0,""]
[null,null,null,null,null,null,null,null,null,null,null,null,null,null,"X","X","X","X",{"$f":"VLOOKUP(P27,Lookup!A:B,2,FALSE)","v":"--"},{"$f":"VLOOKUP(Q27,Lookup!A:B,2,FALSE)","v":"--"},{"$f":"VLOOKUP(R27,Lookup!A:B,2,FALSE)","v":"--"},null,{"$f":"IF(E27&F27&G27&I27&K27&M27=\"\",\"\",IF(OR(H27=\"\",D27=\"\",AND(AC27=0,'Contents & 6mo Restriction'!$BE$1=FALSE)),1,0))","v":""},"",0,0,0,0,0,0,null,null,null,null,null,null,null,null,null,null,null,null,null,null,null,null,null,null,null,null,null,null,null,null,null,null,null,null,null,null,null,null,null,null,null,null,null,null,null,null,null,null,null,null,null,null,null,null,null,null,null,null,null,null,null,null,null,null,null,null,null,null,null,null,null,null,null,null,null,null,null,null,null,null,null,null,null,null,null,null,null,null,null,null,null,null,null,null,null,null,null,null,null,null,null,null,null,null,null,null,null,null,0,0,""]
[null,null,null,null,null,null,null,null,null,null,null,null,null,null,"X","X","X","X",{"$f":"VLOOKUP(P28,Lookup!A:B,2,FALSE)","v":"--"},{"$f":"VLOOKUP(Q28,Lookup!A:B,2,FALSE)","v":"--"},{"$f":"VLOOKUP(R28,Lookup!A:B,2,FALSE)","v":"--"},null,{"$f":"IF(E28&F28&G28&I28&K28&M28=\"\",\"\",IF(OR(H28=\"\",D28=\"\",AND(AC28=0,'Contents & 6mo Restriction'!$BE$1=FALSE)),1,0))","v":""},"",0,0,0,0,0,0,null,null,null,null,null,null,null,null,null,null,null,null,null,null,null,null,null,null,null,null,null,null,null,null,null,null,null,null,null,null,null,null,null,null,null,null,null,null,null,null,null,null,null,null,null,null,null,null,null,null,null,null,null,null,null,null,null,null,null,null,null,null,null,null,null,null,null,null,null,null,null,null,null,null,null,null,null,null,null,null,null,null,null,null,null,null,null,null,null,null,null,null,null,null,null,null,null,null,null,null,null,null,0,0,""]
[null,null,null,null,null,null,null,null,null,null,null,null,null,null,"X","X","X","X",{"$f":"VLOOKUP(P29,Lookup!A:B,2,FALSE)","v":"--"},{"$f":"VLOOKUP(Q29,Lookup!A:B,2,FALSE)","v":"--"},{"$f":"VLOOKUP(R29,Lookup!A:B,2,FALSE)","v":"--"},null,{"$f":"IF(E29&F29&G29&I29&K29&M29=\"\",\"\",IF(OR(H29=\"\",D29=\"\",AND(AC29=0,'Contents & 6mo Restriction'!$BE$1=FALSE)),1,0))","v":""},"",0,0,0,0,0,0,null,null,null,null,null,null,null,null,null,null,null,null,null,null,null,null,null,null,null,null,null,null,null,null,null,null,null,null,null,null,null,null,null,null,null,null,null,null,null,null,null,null,null,null,null,null,null,null,null,null,null,null,null,null,null,null,null,null,null,null,null,null,null,null,null,null,null,null,null,null,null,null,null,null,null,null,null,null,null,null,null,null,null,null,null,null,null,null,null,null,null,null,null,null,null,null,null,null,null,null,null,null,0,0,""]
[null,null,null,null,null,null,null,null,null,null,null,null,null,null,"X","X","X","X",{"$f":"VLOOKUP(P30,Lookup!A:B,2,FALSE)","v":"--"},{"$f":"VLOOKUP(Q30,Lookup!A:B,2,FALSE)","v":"--"},{"$f":"VLOOKUP(R30,Lookup!A:B,2,FALSE)","v":"--"},null,{"$f":"IF(E30&F30&G30&I30&K30&M30=\"\",\"\",IF(OR(H30=\"\",D30=\"\",AND(AC30=0,'Contents & 6mo Restriction'!$BE$1=FALSE)),1,0))","v":""},"",0,0,0,0,0,0,null,null,null,null,null,null,null,null,null,null,null,null,null,null,null,null,null,null,null,null,null,null,null,null,null,null,null,null,null,null,null,null,null,null,null,null,null,null,null,null,null,null,null,null,null,null,null,null,null,null,null,null,null,null,null,null,null,null,null,null,null,null,null,null,null,null,null,null,null,null,null,null,null,null,null,null,null,null,null,null,null,null,null,null,null,null,null,null,null,null,null,null,null,null,null,null,null,null,null,null,null,null,0,0,""]
[null,null,null,null,null,null,null,null,null,null,null,null,null,null,"X",{"$f":"CONCATENATE(E31,I31,J31,O31)","v":"X"},{"$f":"CONCATENATE(F31,K31,L31,O31)","v":"X"},{"$f":"CONCATENATE(G31,M31,N31,O31)","v":"X"},{"$f":"VLOOKUP(P31,Lookup!A:B,2,FALSE)","v":"--"},{"$f":"VLOOKUP(Q31,Lookup!A:B,2,FALSE)","v":"--"},{"$f":"VLOOKUP(R31,Lookup!A:B,2,FALSE)","v":"--"},null,{"$f":"IF(E31&F31&G31&I31&K31&M31=\"\",\"\",IF(OR(H31=\"\",D31=\"\",AND(AC31=0,'Contents & 6mo Restriction'!$BE$1=FALSE)),1,0))","v":""},"",0,0,0,0,0,0,null,null,null,null,null,null,null,null,null,null,null,null,null,null,null,null,null,null,null,null,null,null,null,null,null,null,null,null,null,null,null,null,null,null,null,null,null,null,null,null,null,null,null,null,null,null,null,null,null,null,null,null,null,null,null,null,null,null,null,null,null,null,null,null,null,null,null,null,null,null,null,null,null,null,null,null,null,null,null,null,null,null,null,null,null,null,null,null,null,null,null,null,null,null,null,null,null,null,null,null,null,null,0,0,""]
[null,null,null,null,null,null,null,null,null,null,null,null,null,null,"X","X","X","X",{"$f":"VLOOKUP(P32,Lookup!A:B,2,FALSE)","v":"--"},{"$f":"VLOOKUP(Q32,Lookup!A:B,2,FALSE)","v":"--"},{"$f":"VLOOKUP(R32,Lookup!A:B,2,FALSE)","v":"--"},null,{"$f":"IF(E32&F32&G32&I32&K32&M32=\"\",\"\",IF(OR(H32=\"\",D32=\"\",AND(AC32=0,'Contents & 6mo Restriction'!$BE$1=FALSE)),1,0))","v":""},"",0,0,0,0,0,0,null,null,null,null,null,null,null,null,null,null,null,null,null,null,null,null,null,null,null,null,null,null,null,null,null,null,null,null,null,null,null,null,null,null,null,null,null,null,null,null,null,null,null,null,null,null,null,null,null,null,null,null,null,null,null,null,null,null,null,null,null,null,null,null,null,null,null,null,null,null,null,null,null,null,null,null,null,null,null,null,null,null,null,null,null,null,null,null,null,null,null,null,null,null,null,null,null,null,null,null,null,null,0,0,""]
[null,null,null,null,null,null,null,null,null,null,null,null,null,null,"X","X","X","X",{"$f":"VLOOKUP(P33,Lookup!A:B,2,FALSE)","v":"--"},{"$f":"VLOOKUP(Q33,Lookup!A:B,2,FALSE)","v":"--"},{"$f":"VLOOKUP(R33,Lookup!A:B,2,FALSE)","v":"--"},null,{"$f":"IF(E33&F33&G33&I33&K33&M33=\"\",\"\",IF(OR(H33=\"\",D33=\"\",AND(AC33=0,'Contents & 6mo Restriction'!$BE$1=FALSE)),1,0))","v":""},"",0,0,0,0,0,0,null,null,null,null,null,null,null,null,null,null,null,null,null,null,null,null,null,null,null,null,null,null,null,null,null,null,null,null,null,null,null,null,null,null,null,null,null,null,null,null,null,null,null,null,null,null,null,null,null,null,null,null,null,null,null,null,null,null,null,null,null,null,null,null,null,null,null,null,null,null,null,null,null,null,null,null,null,null,null,null,null,null,null,null,null,null,null,null,null,null,null,null,null,null,null,null,null,null,null,null,null,null,0,0,""]
[null,null,null,null,null,null,null,null,null,null,null,null,null,null,"X","X","X","X",{"$f":"VLOOKUP(P34,Lookup!A:B,2,FALSE)","v":"--"},{"$f":"VLOOKUP(Q34,Lookup!A:B,2,FALSE)","v":"--"},{"$f":"VLOOKUP(R34,Lookup!A:B,2,FALSE)","v":"--"},null,{"$f":"IF(E34&F34&G34&I34&K34&M34=\"\",\"\",IF(OR(H34=\"\",D34=\"\",AND(AC34=0,'Contents & 6mo Restriction'!$BE$1=FALSE)),1,0))","v":""},"",0,0,0,0,0,0,null,null,null,null,null,null,null,null,null,null,null,null,null,null,null,null,null,null,null,null,null,null,null,null,null,null,null,null,null,null,null,null,null,null,null,null,null,null,null,null,null,null,null,null,null,null,null,null,null,null,null,null,null,null,null,null,null,null,null,null,null,null,null,null,null,null,null,null,null,null,null,null,null,null,null,null,null,null,null,null,null,null,null,null,null,null,null,null,null,null,null,null,null,null,null,null,null,null,null,null,null,null,0,0,""]
[null,null,null,null,null,null,null,null,null,null,null,null,null,null,"X","X","X","X",{"$f":"VLOOKUP(P35,Lookup!A:B,2,FALSE)","v":"--"},{"$f":"VLOOKUP(Q35,Lookup!A:B,2,FALSE)","v":"--"},{"$f":"VLOOKUP(R35,Lookup!A:B,2,FALSE)","v":"--"},null,{"$f":"IF(E35&F35&G35&I35&K35&M35=\"\",\"\",IF(OR(H35=\"\",D35=\"\",AND(AC35=0,'Contents & 6mo Restriction'!$BE$1=FALSE)),1,0))","v":""},"",0,0,0,0,0,0,null,null,null,null,null,null,null,null,null,null,null,null,null,null,null,null,null,null,null,null,null,null,null,null,null,null,null,null,null,null,null,null,null,null,null,null,null,null,null,null,null,null,null,null,null,null,null,null,null,null,null,null,null,null,null,null,null,null,null,null,null,null,null,null,null,null,null,null,null,null,null,null,null,null,null,null,null,null,null,null,null,null,null,null,null,null,null,null,null,null,null,null,null,null,null,null,null,null,null,null,null,null,0,0,""]
[null,null,null,null,null,null,null,null,null,null,null,null,null,null,"X","X","X","X",{"$f":"VLOOKUP(P36,Lookup!A:B,2,FALSE)","v":"--"},{"$f":"VLOOKUP(Q36,Lookup!A:B,2,FALSE)","v":"--"},{"$f":"VLOOKUP(R36,Lookup!A:B,2,FALSE)","v":"--"},null,{"$f":"IF(E36&F36&G36&I36&K36&M36=\"\",\"\",IF(OR(H36=\"\",D36=\"\",AND(AC36=0,'Contents & 6mo Restriction'!$BE$1=FALSE)),1,0))","v":""},"",0,0,0,0,0,0,null,null,null,null,null,null,null,null,null,null,null,null,null,null,null,null,null,null,null,null,null,null,null,null,null,null,null,null,null,null,null,null,null,null,null,null,null,null,null,null,null,null,null,null,null,null,null,null,null,null,null,null,null,null,null,null,null,null,null,null,null,null,null,null,null,null,null,null,null,null,null,null,null,null,null,null,null,null,null,null,null,null,null,null,null,null,null,null,null,null,null,null,null,null,null,null,null,null,null,null,null,null,0,0,""]
[null,null,null,null,null,null,null,null,null,null,null,null,null,null,"X",{"$f":"CONCATENATE(E37,I37,J37,O37)","v":"X"},{"$f":"CONCATENATE(F37,K37,L37,O37)","v":"X"},{"$f":"CONCATENATE(G37,M37,N37,O37)","v":"X"},{"$f":"VLOOKUP(P37,Lookup!A:B,2,FALSE)","v":"--"},{"$f":"VLOOKUP(Q37,Lookup!A:B,2,FALSE)","v":"--"},{"$f":"VLOOKUP(R37,Lookup!A:B,2,FALSE)","v":"--"},null,{"$f":"IF(E37&F37&G37&I37&K37&M37=\"\",\"\",IF(OR(H37=\"\",D37=\"\",AND(AC37=0,'Contents & 6mo Restriction'!$BE$1=FALSE)),1,0))","v":""},"",0,0,0,0,0,0,null,null,null,null,null,null,null,null,null,null,null,null,null,null,null,null,null,null,null,null,null,null,null,null,null,null,null,null,null,null,null,null,null,null,null,null,null,null,null,null,null,null,null,null,null,null,null,null,null,null,null,null,null,null,null,null,null,null,null,null,null,null,null,null,null,null,null,null,null,null,null,null,null,null,null,null,null,null,null,null,null,null,null,null,null,null,null,null,null,null,null,null,null,null,null,null,null,null,null,null,null,null,0,0,""]
[null,null,null,null,null,null,null,null,null,null,null,null,null,null,"X","X","X","X",{"$f":"VLOOKUP(P38,Lookup!A:B,2,FALSE)","v":"--"},{"$f":"VLOOKUP(Q38,Lookup!A:B,2,FALSE)","v":"--"},{"$f":"VLOOKUP(R38,Lookup!A:B,2,FALSE)","v":"--"},null,{"$f":"IF(E38&F38&G38&I38&K38&M38=\"\",\"\",IF(OR(H38=\"\",D38=\"\",AND(AC38=0,'Contents & 6mo Restriction'!$BE$1=FALSE)),1,0))","v":""},"",0,0,0,0,0,0,null,null,null,null,null,null,null,null,null,null,null,null,null,null,null,null,null,null,null,null,null,null,null,null,null,null,null,null,null,null,null,null,null,null,null,null,null,null,null,null,null,null,null,null,null,null,null,null,null,null,null,null,null,null,null,null,null,null,null,null,null,null,null,null,null,null,null,null,null,null,null,null,null,null,null,null,null,null,null,null,null,null,null,null,null,null,null,null,null,null,null,null,null,null,null,null,null,null,null,null,null,null,0,0,""]
[null,null,null,null,null,null,null,null,null,null,null,null,null,null,"X","X","X","X",{"$f":"VLOOKUP(P39,Lookup!A:B,2,FALSE)","v":"--"},{"$f":"VLOOKUP(Q39,Lookup!A:B,2,FALSE)","v":"--"},{"$f":"VLOOKUP(R39,Lookup!A:B,2,FALSE)","v":"--"},null,{"$f":"IF(E39&F39&G39&I39&K39&M39=\"\",\"\",IF(OR(H39=\"\",D39=\"\",AND(AC39=0,'Contents & 6mo Restriction'!$BE$1=FALSE)),1,0))","v":""},"",0,0,0,0,0,0,null,null,null,null,null,null,null,null,null,null,null,null,null,null,null,null,null,null,null,null,null,null,null,null,null,null,null,null,null,null,null,null,null,null,null,null,null,null,null,null,null,null,null,null,null,null,null,null,null,null,null,null,null,null,null,null,null,null,null,null,null,null,null,null,null,null,null,null,null,null,null,null,null,null,null,null,null,null,null,null,null,null,null,null,null,null,null,null,null,null,null,null,null,null,null,null,null,null,null,null,null,null,0,0,""]
[null,null,null,null,null,null,null,null,null,null,null,null,null,null,"X","X","X","X",{"$f":"VLOOKUP(P40,Lookup!A:B,2,FALSE)","v":"--"},{"$f":"VLOOKUP(Q40,Lookup!A:B,2,FALSE)","v":"--"},{"$f":"VLOOKUP(R40,Lookup!A:B,2,FALSE)","v":"--"},null,{"$f":"IF(E40&F40&G40&I40&K40&M40=\"\",\"\",IF(OR(H40=\"\",D40=\"\",AND(AC40=0,'Contents & 6mo Restriction'!$BE$1=FALSE)),1,0))","v":""},"",0,0,0,0,0,0,null,null,null,null,null,null,null,null,null,null,null,null,null,null,null,null,null,null,null,null,null,null,null,null,null,null,null,null,null,null,null,null,null,null,null,null,null,null,null,null,null,null,null,null,null,null,null,null,null,null,null,null,null,null,null,null,null,null,null,null,null,null,null,null,null,null,null,null,null,null,null,null,null,null,null,null,null,null,null,null,null,null,null,null,null,null,null,null,null,null,null,null,null,null,null,null,null,null,null,null,null,null,0,0,""]
[null,null,null,null,null,null,null,null,null,null,null,null,null,null,"X","X","X","X",{"$f":"VLOOKUP(P41,Lookup!A:B,2,FALSE)","v":"--"},{"$f":"VLOOKUP(Q41,Lookup!A:B,2,FALSE)","v":"--"},{"$f":"VLOOKUP(R41,Lookup!A:B,2,FALSE)","v":"--"},null,{"$f":"IF(E41&F41&G41&I41&K41&M41=\"\",\"\",IF(OR(H41=\"\",D41=\"\",AND(AC41=0,'Contents & 6mo Restriction'!$BE$1=FALSE)),1,0))","v":""},"",0,0,0,0,0,0,null,null,null,null,null,null,null,null,null,null,null,null,null,null,null,null,null,null,null,null,null,null,null,null,null,null,null,null,null,null,null,null,null,null,null,null,null,null,null,null,null,null,null,null,null,null,null,null,null,null,null,null,null,null,null,null,null,null,null,null,null,null,null,null,null,null,null,null,null,null,null,null,null,null,null,null,null,null,null,null,null,null,null,null,null,null,null,null,null,null,null,null,null,null,null,null,null,null,null,null,null,null,0,0,""]
[null,null,null,null,null,null,null,null,null,null,null,null,null,null,"X","X","X","X",{"$f":"VLOOKUP(P42,Lookup!A:B,2,FALSE)","v":"--"},{"$f":"VLOOKUP(Q42,Lookup!A:B,2,FALSE)","v":"--"},{"$f":"VLOOKUP(R42,Lookup!A:B,2,FALSE)","v":"--"},null,{"$f":"IF(E42&F42&G42&I42&K42&M42=\"\",\"\",IF(OR(H42=\"\",D42=\"\",AND(AC42=0,'Contents & 6mo Restriction'!$BE$1=FALSE)),1,0))","v":""},"",0,0,0,0,0,0,null,null,null,null,null,null,null,null,null,null,null,null,null,null,null,null,null,null,null,null,null,null,null,null,null,null,null,null,null,null,null,null,null,null,null,null,null,null,null,null,null,null,null,null,null,null,null,null,null,null,null,null,null,null,null,null,null,null,null,null,null,null,null,null,null,null,null,null,null,null,null,null,null,null,null,null,null,null,null,null,null,null,null,null,null,null,null,null,null,null,null,null,null,null,null,null,null,null,null,null,null,null,0,0,""]
[null,null,null,null,null,null,null,null,null,null,null,null,null,null,"X","X","X","X",{"$f":"VLOOKUP(P43,Lookup!A:B,2,FALSE)","v":"--"},{"$f":"VLOOKUP(Q43,Lookup!A:B,2,FALSE)","v":"--"},{"$f":"VLOOKUP(R43,Lookup!A:B,2,FALSE)","v":"--"},null,{"$f":"IF(E43&F43&G43&I43&K43&M43=\"\",\"\",IF(OR(H43=\"\",D43=\"\",AND(AC43=0,'Contents & 6mo Restriction'!$BE$1=FALSE)),1,0))","v":""},"",0,0,0,0,0,0,null,null,null,null,null,null,null,null,null,null,null,null,null,null,null,null,null,null,null,null,null,null,null,null,null,null,null,null,null,null,null,null,null,null,null,null,null,null,null,null,null,null,null,null,null,null,null,null,null,null,null,null,null,null,null,null,null,null,null,null,null,null,null,null,null,null,null,null,null,null,null,null,null,null,null,null,null,null,null,null,null,null,null,null,null,null,null,null,null,null,null,null,null,null,null,null,null,null,null,null,null,null,0,0,""]
[null,null,null,null,null,null,null,null,null,null,null,null,null,null,"X","X","X","X",{"$f":"VLOOKUP(P44,Lookup!A:B,2,FALSE)","v":"--"},{"$f":"VLOOKUP(Q44,Lookup!A:B,2,FALSE)","v":"--"},{"$f":"VLOOKUP(R44,Lookup!A:B,2,FALSE)","v":"--"},null,{"$f":"IF(E44&F44&G44&I44&K44&M44=\"\",\"\",IF(OR(H44=\"\",D44=\"\",AND(AC44=0,'Contents & 6mo Restriction'!$BE$1=FALSE)),1,0))","v":""},"",0,0,0,0,0,0,null,null,null,null,null,null,null,null,null,null,null,null,null,null,null,null,null,null,null,null,null,null,null,null,null,null,null,null,null,null,null,null,null,null,null,null,null,null,null,null,null,null,null,null,null,null,null,null,null,null,null,null,null,null,null,null,null,null,null,null,null,null,null,null,null,null,null,null,null,null,null,null,null,null,null,null,null,null,null,null,null,null,null,null,null,null,null,null,null,null,null,null,null,null,null,null,null,null,null,null,null,null,0,0,""]
[null,null,null,null,null,null,null,null,null,null,null,null,null,null,"X","X","X","X",{"$f":"VLOOKUP(P45,Lookup!A:B,2,FALSE)","v":"--"},{"$f":"VLOOKUP(Q45,Lookup!A:B,2,FALSE)","v":"--"},{"$f":"VLOOKUP(R45,Lookup!A:B,2,FALSE)","v":"--"},null,{"$f":"IF(E45&F45&G45&I45&K45&M45=\"\",\"\",IF(OR(H45=\"\",D45=\"\",AND(AC45=0,'Contents & 6mo Restriction'!$BE$1=FALSE)),1,0))","v":""},"",0,0,0,0,0,0,null,null,null,null,null,null,null,null,null,null,null,null,null,null,null,null,null,null,null,null,null,null,null,null,null,null,null,null,null,null,null,null,null,null,null,null,null,null,null,null,null,null,null,null,null,null,null,null,null,null,null,null,null,null,null,null,null,null,null,null,null,null,null,null,null,null,null,null,null,null,null,null,null,null,null,null,null,null,null,null,null,null,null,null,null,null,null,null,null,null,null,null,null,null,null,null,null,null,null,null,null,null,0,0,""]
[null,null,null,null,null,null,null,null,null,null,null,null,null,null,"X","X","X","X",{"$f":"VLOOKUP(P46,Lookup!A:B,2,FALSE)","v":"--"},{"$f":"VLOOKUP(Q46,Lookup!A:B,2,FALSE)","v":"--"},{"$f":"VLOOKUP(R46,Lookup!A:B,2,FALSE)","v":"--"},null,{"$f":"IF(E46&F46&G46&I46&K46&M46=\"\",\"\",IF(OR(H46=\"\",D46=\"\",AND(AC46=0,'Contents & 6mo Restriction'!$BE$1=FALSE)),1,0))","v":""},"",0,0,0,0,0,0,null,null,null,null,null,null,null,null,null,null,null,null,null,null,null,null,null,null,null,null,null,null,null,null,null,null,null,null,null,null,null,null,null,null,null,null,null,null,null,null,null,null,null,null,null,null,null,null,null,null,null,null,null,null,null,null,null,null,null,null,null,null,null,null,null,null,null,null,null,null,null,null,null,null,null,null,null,null,null,null,null,null,null,null,null,null,null,null,null,null,null,null,null,null,null,null,null,null,null,null,null,null,0,0,""]
[null,null,null,null,null,null,null,null,null,null,null,null,null,null,"X",{"$f":"CONCATENATE(E47,I47,J47,O47)","v":"X"},{"$f":"CONCATENATE(F47,K47,L47,O47)","v":"X"},{"$f":"CONCATENATE(G47,M47,N47,O47)","v":"X"},{"$f":"VLOOKUP(P47,Lookup!A:B,2,FALSE)","v":"--"},{"$f":"VLOOKUP(Q47,Lookup!A:B,2,FALSE)","v":"--"},{"$f":"VLOOKUP(R47,Lookup!A:B,2,FALSE)","v":"--"},null,{"$f":"IF(E47&F47&G47&I47&K47&M47=\"\",\"\",IF(OR(H47=\"\",D47=\"\",AND(AC47=0,'Contents & 6mo Restriction'!$BE$1=FALSE)),1,0))","v":""},"",0,0,0,0,0,0,null,null,null,null,null,null,null,null,null,null,null,null,null,null,null,null,null,null,null,null,null,null,null,null,null,null,null,null,null,null,null,null,null,null,null,null,null,null,null,null,null,null,null,null,null,null,null,null,null,null,null,null,null,null,null,null,null,null,null,null,null,null,null,null,null,null,null,null,null,null,null,null,null,null,null,null,null,null,null,null,null,null,null,null,null,null,null,null,null,null,null,null,null,null,null,null,null,null,null,null,null,null,0,0,""]
[null,null,null,null,null,null,null,null,null,null,null,null,null,null,"X","X","X","X",{"$f":"VLOOKUP(P48,Lookup!A:B,2,FALSE)","v":"--"},{"$f":"VLOOKUP(Q48,Lookup!A:B,2,FALSE)","v":"--"},{"$f":"VLOOKUP(R48,Lookup!A:B,2,FALSE)","v":"--"},null,{"$f":"IF(E48&F48&G48&I48&K48&M48=\"\",\"\",IF(OR(H48=\"\",D48=\"\",AND(AC48=0,'Contents & 6mo Restriction'!$BE$1=FALSE)),1,0))","v":""},"",0,0,0,0,0,0,null,null,null,null,null,null,null,null,null,null,null,null,null,null,null,null,null,null,null,null,null,null,null,null,null,null,null,null,null,null,null,null,null,null,null,null,null,null,null,null,null,null,null,null,null,null,null,null,null,null,null,null,null,null,null,null,null,null,null,null,null,null,null,null,null,null,null,null,null,null,null,null,null,null,null,null,null,null,null,null,null,null,null,null,null,null,null,null,null,null,null,null,null,null,null,null,null,null,null,null,null,null,0,0,""]
[null,null,null,null,null,null,null,null,null,null,null,null,null,null,"X","X","X","X",{"$f":"VLOOKUP(P49,Lookup!A:B,2,FALSE)","v":"--"},{"$f":"VLOOKUP(Q49,Lookup!A:B,2,FALSE)","v":"--"},{"$f":"VLOOKUP(R49,Lookup!A:B,2,FALSE)","v":"--"},null,{"$f":"IF(E49&F49&G49&I49&K49&M49=\"\",\"\",IF(OR(H49=\"\",D49=\"\",AND(AC49=0,'Contents & 6mo Restriction'!$BE$1=FALSE)),1,0))","v":""},"",0,0,0,0,0,0,null,null,null,null,null,null,null,null,null,null,null,null,null,null,null,null,null,null,null,null,null,null,null,null,null,null,null,null,null,null,null,null,null,null,null,null,null,null,null,null,null,null,null,null,null,null,null,null,null,null,null,null,null,null,null,null,null,null,null,null,null,null,null,null,null,null,null,null,null,null,null,null,null,null,null,null,null,null,null,null,null,null,null,null,null,null,null,null,null,null,null,null,null,null,null,null,null,null,null,null,null,null,0,0,""]
[null,null,null,null,null,null,null,null,null,null,null,null,null,null,"X","X","X","X",{"$f":"VLOOKUP(P50,Lookup!A:B,2,FALSE)","v":"--"},{"$f":"VLOOKUP(Q50,Lookup!A:B,2,FALSE)","v":"--"},{"$f":"VLOOKUP(R50,Lookup!A:B,2,FALSE)","v":"--"},null,{"$f":"IF(E50&F50&G50&I50&K50&M50=\"\",\"\",IF(OR(H50=\"\",D50=\"\",AND(AC50=0,'Contents & 6mo Restriction'!$BE$1=FALSE)),1,0))","v":""},"",0,0,0,0,0,0,null,null,null,null,null,null,null,null,null,null,null,null,null,null,null,null,null,null,null,null,null,null,null,null,null,null,null,null,null,null,null,null,null,null,null,null,null,null,null,null,null,null,null,null,null,null,null,null,null,null,null,null,null,null,null,null,null,null,null,null,null,null,null,null,null,null,null,null,null,null,null,null,null,null,null,null,null,null,null,null,null,null,null,null,null,null,null,null,null,null,null,null,null,null,null,null,null,null,null,null,null,null,0,0,""]
[null,null,null,null,null,null,null,null,null,null,null,null,null,null,"X",{"$f":"CONCATENATE(E51,I51,J51,O51)","v":"X"},{"$f":"CONCATENATE(F51,K51,L51,O51)","v":"X"},{"$f":"CONCATENATE(G51,M51,N51,O51)","v":"X"},{"$f":"VLOOKUP(P51,Lookup!A:B,2,FALSE)","v":"--"},{"$f":"VLOOKUP(Q51,Lookup!A:B,2,FALSE)","v":"--"},{"$f":"VLOOKUP(R51,Lookup!A:B,2,FALSE)","v":"--"},null,{"$f":"IF(E51&F51&G51&I51&K51&M51=\"\",\"\",IF(OR(H51=\"\",D51=\"\",AND(AC51=0,'Contents & 6mo Restriction'!$BE$1=FALSE)),1,0))","v":""},"",0,0,0,0,0,0,null,null,null,null,null,null,null,null,null,null,null,null,null,null,null,null,null,null,null,null,null,null,null,null,null,null,null,null,null,null,null,null,null,null,null,null,null,null,null,null,null,null,null,null,null,null,null,null,null,null,null,null,null,null,null,null,null,null,null,null,null,null,null,null,null,null,null,null,null,null,null,null,null,null,null,null,null,null,null,null,null,null,null,null,null,null,null,null,null,null,null,null,null,null,null,null,null,null,null,null,null,null,0,0,""]
[null,null,null,null,null,null,null,null,null,null,null,null,null,null,"X","X","X","X",{"$f":"VLOOKUP(P52,Lookup!A:B,2,FALSE)","v":"--"},{"$f":"VLOOKUP(Q52,Lookup!A:B,2,FALSE)","v":"--"},{"$f":"VLOOKUP(R52,Lookup!A:B,2,FALSE)","v":"--"},null,{"$f":"IF(E52&F52&G52&I52&K52&M52=\"\",\"\",IF(OR(H52=\"\",D52=\"\",AND(AC52=0,'Contents & 6mo Restriction'!$BE$1=FALSE)),1,0))","v":""},"",0,0,0,0,0,0,null,null,null,null,null,null,null,null,null,null,null,null,null,null,null,null,null,null,null,null,null,null,null,null,null,null,null,null,null,null,null,null,null,null,null,null,null,null,null,null,null,null,null,null,null,null,null,null,null,null,null,null,null,null,null,null,null,null,null,null,null,null,null,null,null,null,null,null,null,null,null,null,null,null,null,null,null,null,null,null,null,null,null,null,null,null,null,null,null,null,null,null,null,null,null,null,null,null,null,null,null,null,0,0,""]
[null,null,null,null,null,null,null,null,null,null,null,null,null,null,"X","X","X","X",{"$f":"VLOOKUP(P53,Lookup!A:B,2,FALSE)","v":"--"},{"$f":"VLOOKUP(Q53,Lookup!A:B,2,FALSE)","v":"--"},{"$f":"VLOOKUP(R53,Lookup!A:B,2,FALSE)","v":"--"},null,{"$f":"IF(E53&F53&G53&I53&K53&M53=\"\",\"\",IF(OR(H53=\"\",D53=\"\",AND(AC53=0,'Contents & 6mo Restriction'!$BE$1=FALSE)),1,0))","v":""},"",0,0,0,0,0,0,null,null,null,null,null,null,null,null,null,null,null,null,null,null,null,null,null,null,null,null,null,null,null,null,null,null,null,null,null,null,null,null,null,null,null,null,null,null,null,null,null,null,null,null,null,null,null,null,null,null,null,null,null,null,null,null,null,null,null,null,null,null,null,null,null,null,null,null,null,null,null,null,null,null,null,null,null,null,null,null,null,null,null,null,null,null,null,null,null,null,null,null,null,null,null,null,null,null,null,null,null,null,0,0,""]
[null,null,null,null,null,null,null,null,null,null,null,null,null,null,"X","X","X","X",{"$f":"VLOOKUP(P54,Lookup!A:B,2,FALSE)","v":"--"},{"$f":"VLOOKUP(Q54,Lookup!A:B,2,FALSE)","v":"--"},{"$f":"VLOOKUP(R54,Lookup!A:B,2,FALSE)","v":"--"},null,{"$f":"IF(E54&F54&G54&I54&K54&M54=\"\",\"\",IF(OR(H54=\"\",D54=\"\",AND(AC54=0,'Contents & 6mo Restriction'!$BE$1=FALSE)),1,0))","v":""},"",0,0,0,0,0,0,null,null,null,null,null,null,null,null,null,null,null,null,null,null,null,null,null,null,null,null,null,null,null,null,null,null,null,null,null,null,null,null,null,null,null,null,null,null,null,null,null,null,null,null,null,null,null,null,null,null,null,null,null,null,null,null,null,null,null,null,null,null,null,null,null,null,null,null,null,null,null,null,null,null,null,null,null,null,null,null,null,null,null,null,null,null,null,null,null,null,null,null,null,null,null,null,null,null,null,null,null,null,0,0,""]
[null,null,null,null,null,null,null,null,null,null,null,null,null,null,"X","X","X","X",{"$f":"VLOOKUP(P55,Lookup!A:B,2,FALSE)","v":"--"},{"$f":"VLOOKUP(Q55,Lookup!A:B,2,FALSE)","v":"--"},{"$f":"VLOOKUP(R55,Lookup!A:B,2,FALSE)","v":"--"},null,{"$f":"IF(E55&F55&G55&I55&K55&M55=\"\",\"\",IF(OR(H55=\"\",D55=\"\",AND(AC55=0,'Contents & 6mo Restriction'!$BE$1=FALSE)),1,0))","v":""},"",0,0,0,0,0,0,null,null,null,null,null,null,null,null,null,null,null,null,null,null,null,null,null,null,null,null,null,null,null,null,null,null,null,null,null,null,null,null,null,null,null,null,null,null,null,null,null,null,null,null,null,null,null,null,null,null,null,null,null,null,null,null,null,null,null,null,null,null,null,null,null,null,null,null,null,null,null,null,null,null,null,null,null,null,null,null,null,null,null,null,null,null,null,null,null,null,null,null,null,null,null,null,null,null,null,null,null,null,0,0,""]
[null,null,null,null,null,null,null,null,null,null,null,null,null,null,"X","X","X","X",{"$f":"VLOOKUP(P56,Lookup!A:B,2,FALSE)","v":"--"},{"$f":"VLOOKUP(Q56,Lookup!A:B,2,FALSE)","v":"--"},{"$f":"VLOOKUP(R56,Lookup!A:B,2,FALSE)","v":"--"},null,{"$f":"IF(E56&F56&G56&I56&K56&M56=\"\",\"\",IF(OR(H56=\"\",D56=\"\",AND(AC56=0,'Contents & 6mo Restriction'!$BE$1=FALSE)),1,0))","v":""},"",0,0,0,0,0,0,null,null,null,null,null,null,null,null,null,null,null,null,null,null,null,null,null,null,null,null,null,null,null,null,null,null,null,null,null,null,null,null,null,null,null,null,null,null,null,null,null,null,null,null,null,null,null,null,null,null,null,null,null,null,null,null,null,null,null,null,null,null,null,null,null,null,null,null,null,null,null,null,null,null,null,null,null,null,null,null,null,null,null,null,null,null,null,null,null,null,null,null,null,null,null,null,null,null,null,null,null,null,0,0,""]
[null,null,null,null,null,null,null,null,null,null,null,null,null,null,"X","X","X","X",{"$f":"VLOOKUP(P57,Lookup!A:B,2,FALSE)","v":"--"},{"$f":"VLOOKUP(Q57,Lookup!A:B,2,FALSE)","v":"--"},{"$f":"VLOOKUP(R57,Lookup!A:B,2,FALSE)","v":"--"},null,{"$f":"IF(E57&F57&G57&I57&K57&M57=\"\",\"\",IF(OR(H57=\"\",D57=\"\",AND(AC57=0,'Contents & 6mo Restriction'!$BE$1=FALSE)),1,0))","v":""},"",0,0,0,0,0,0,null,null,null,null,null,null,null,null,null,null,null,null,null,null,null,null,null,null,null,null,null,null,null,null,null,null,null,null,null,null,null,null,null,null,null,null,null,null,null,null,null,null,null,null,null,null,null,null,null,null,null,null,null,null,null,null,null,null,null,null,null,null,null,null,null,null,null,null,null,null,null,null,null,null,null,null,null,null,null,null,null,null,null,null,null,null,null,null,null,null,null,null,null,null,null,null,null,null,null,null,null,null,0,0,""]
[null,null,null,null,null,null,null,null,null,null,null,null,null,null,"X","X","X","X",{"$f":"VLOOKUP(P58,Lookup!A:B,2,FALSE)","v":"--"},{"$f":"VLOOKUP(Q58,Lookup!A:B,2,FALSE)","v":"--"},{"$f":"VLOOKUP(R58,Lookup!A:B,2,FALSE)","v":"--"},null,{"$f":"IF(E58&F58&G58&I58&K58&M58=\"\",\"\",IF(OR(H58=\"\",D58=\"\",AND(AC58=0,'Contents & 6mo Restriction'!$BE$1=FALSE)),1,0))","v":""},"",0,0,0,0,0,0,null,null,null,null,null,null,null,null,null,null,null,null,null,null,null,null,null,null,null,null,null,null,null,null,null,null,null,null,null,null,null,null,null,null,null,null,null,null,null,null,null,null,null,null,null,null,null,null,null,null,null,null,null,null,null,null,null,null,null,null,null,null,null,null,null,null,null,null,null,null,null,null,null,null,null,null,null,null,null,null,null,null,null,null,null,null,null,null,null,null,null,null,null,null,null,null,null,null,null,null,null,null,0,0,""]
[null,null,null,null,null,null,null,null,null,null,null,null,null,null,"X","X","X","X",{"$f":"VLOOKUP(P59,Lookup!A:B,2,FALSE)","v":"--"},{"$f":"VLOOKUP(Q59,Lookup!A:B,2,FALSE)","v":"--"},{"$f":"VLOOKUP(R59,Lookup!A:B,2,FALSE)","v":"--"},null,{"$f":"IF(E59&F59&G59&I59&K59&M59=\"\",\"\",IF(OR(H59=\"\",D59=\"\",AND(AC59=0,'Contents & 6mo Restriction'!$BE$1=FALSE)),1,0))","v":""},"",0,0,0,0,0,0,null,null,null,null,null,null,null,null,null,null,null,null,null,null,null,null,null,null,null,null,null,null,null,null,null,null,null,null,null,null,null,null,null,null,null,null,null,null,null,null,null,null,null,null,null,null,null,null,null,null,null,null,null,null,null,null,null,null,null,null,null,null,null,null,null,null,null,null,null,null,null,null,null,null,null,null,null,null,null,null,null,null,null,null,null,null,null,null,null,null,null,null,null,null,null,null,null,null,null,null,null,null,0,0,""]
[null,null,null,null,null,null,null,null,null,null,null,null,null,null,"X","X","X","X",{"$f":"VLOOKUP(P60,Lookup!A:B,2,FALSE)","v":"--"},{"$f":"VLOOKUP(Q60,Lookup!A:B,2,FALSE)","v":"--"},{"$f":"VLOOKUP(R60,Lookup!A:B,2,FALSE)","v":"--"},null,{"$f":"IF(E60&F60&G60&I60&K60&M60=\"\",\"\",IF(OR(H60=\"\",D60=\"\",AND(AC60=0,'Contents & 6mo Restriction'!$BE$1=FALSE)),1,0))","v":""},"",0,0,0,0,0,0,null,null,null,null,null,null,null,null,null,null,null,null,null,null,null,null,null,null,null,null,null,null,null,null,null,null,null,null,null,null,null,null,null,null,null,null,null,null,null,null,null,null,null,null,null,null,null,null,null,null,null,null,null,null,null,null,null,null,null,null,null,null,null,null,null,null,null,null,null,null,null,null,null,null,null,null,null,null,null,null,null,null,null,null,null,null,null,null,null,null,null,null,null,null,null,null,null,null,null,null,null,null,0,0,""]
[null,null,null,null,null,null,null,null,null,null,null,null,null,null,"X","X","X","X",{"$f":"VLOOKUP(P61,Lookup!A:B,2,FALSE)","v":"--"},{"$f":"VLOOKUP(Q61,Lookup!A:B,2,FALSE)","v":"--"},{"$f":"VLOOKUP(R61,Lookup!A:B,2,FALSE)","v":"--"},null,{"$f":"IF(E61&F61&G61&I61&K61&M61=\"\",\"\",IF(OR(H61=\"\",D61=\"\",AND(AC61=0,'Contents & 6mo Restriction'!$BE$1=FALSE)),1,0))","v":""},"",0,0,0,0,0,0,null,null,null,null,null,null,null,null,null,null,null,null,null,null,null,null,null,null,null,null,null,null,null,null,null,null,null,null,null,null,null,null,null,null,null,null,null,null,null,null,null,null,null,null,null,null,null,null,null,null,null,null,null,null,null,null,null,null,null,null,null,null,null,null,null,null,null,null,null,null,null,null,null,null,null,null,null,null,null,null,null,null,null,null,null,null,null,null,null,null,null,null,null,null,null,null,null,null,null,null,null,null,0,0,""]
[null,null,null,null,null,null,null,null,null,null,null,null,null,null,"X","X","X","X",{"$f":"VLOOKUP(P62,Lookup!A:B,2,FALSE)","v":"--"},{"$f":"VLOOKUP(Q62,Lookup!A:B,2,FALSE)","v":"--"},{"$f":"VLOOKUP(R62,Lookup!A:B,2,FALSE)","v":"--"},null,{"$f":"IF(E62&F62&G62&I62&K62&M62=\"\",\"\",IF(OR(H62=\"\",D62=\"\",AND(AC62=0,'Contents & 6mo Restriction'!$BE$1=FALSE)),1,0))","v":""},"",0,0,0,0,0,0,null,null,null,null,null,null,null,null,null,null,null,null,null,null,null,null,null,null,null,null,null,null,null,null,null,null,null,null,null,null,null,null,null,null,null,null,null,null,null,null,null,null,null,null,null,null,null,null,null,null,null,null,null,null,null,null,null,null,null,null,null,null,null,null,null,null,null,null,null,null,null,null,null,null,null,null,null,null,null,null,null,null,null,null,null,null,null,null,null,null,null,null,null,null,null,null,null,null,null,null,null,null,0,0,""]
[null,null,null,null,null,null,null,null,null,null,null,null,null,null,"X","X","X","X",{"$f":"VLOOKUP(P63,Lookup!A:B,2,FALSE)","v":"--"},{"$f":"VLOOKUP(Q63,Lookup!A:B,2,FALSE)","v":"--"},{"$f":"VLOOKUP(R63,Lookup!A:B,2,FALSE)","v":"--"},null,{"$f":"IF(E63&F63&G63&I63&K63&M63=\"\",\"\",IF(OR(H63=\"\",D63=\"\",AND(AC63=0,'Contents & 6mo Restriction'!$BE$1=FALSE)),1,0))","v":""},"",0,0,0,0,0,0,null,null,null,null,null,null,null,null,null,null,null,null,null,null,null,null,null,null,null,null,null,null,null,null,null,null,null,null,null,null,null,null,null,null,null,null,null,null,null,null,null,null,null,null,null,null,null,null,null,null,null,null,null,null,null,null,null,null,null,null,null,null,null,null,null,null,null,null,null,null,null,null,null,null,null,null,null,null,null,null,null,null,null,null,null,null,null,null,null,null,null,null,null,null,null,null,null,null,null,null,null,null,0,0,""]
[null,null,null,null,null,null,null,null,null,null,null,null,null,null,"X","X","X","X",{"$f":"VLOOKUP(P64,Lookup!A:B,2,FALSE)","v":"--"},{"$f":"VLOOKUP(Q64,Lookup!A:B,2,FALSE)","v":"--"},{"$f":"VLOOKUP(R64,Lookup!A:B,2,FALSE)","v":"--"},null,{"$f":"IF(E64&F64&G64&I64&K64&M64=\"\",\"\",IF(OR(H64=\"\",D64=\"\",AND(AC64=0,'Contents & 6mo Restriction'!$BE$1=FALSE)),1,0))","v":""},"",0,0,0,0,0,0,null,null,null,null,null,null,null,null,null,null,null,null,null,null,null,null,null,null,null,null,null,null,null,null,null,null,null,null,null,null,null,null,null,null,null,null,null,null,null,null,null,null,null,null,null,null,null,null,null,null,null,null,null,null,null,null,null,null,null,null,null,null,null,null,null,null,null,null,null,null,null,null,null,null,null,null,null,null,null,null,null,null,null,null,null,null,null,null,null,null,null,null,null,null,null,null,null,null,null,null,null,null,0,0,""]
[null,null,null,null,null,null,null,null,null,null,null,null,null,null,"X","X","X","X",{"$f":"VLOOKUP(P65,Lookup!A:B,2,FALSE)","v":"--"},{"$f":"VLOOKUP(Q65,Lookup!A:B,2,FALSE)","v":"--"},{"$f":"VLOOKUP(R65,Lookup!A:B,2,FALSE)","v":"--"},null,{"$f":"IF(E65&F65&G65&I65&K65&M65=\"\",\"\",IF(OR(H65=\"\",D65=\"\",AND(AC65=0,'Contents & 6mo Restriction'!$BE$1=FALSE)),1,0))","v":""},"",0,0,0,0,0,0,null,null,null,null,null,null,null,null,null,null,null,null,null,null,null,null,null,null,null,null,null,null,null,null,null,null,null,null,null,null,null,null,null,null,null,null,null,null,null,null,null,null,null,null,null,null,null,null,null,null,null,null,null,null,null,null,null,null,null,null,null,null,null,null,null,null,null,null,null,null,null,null,null,null,null,null,null,null,null,null,null,null,null,null,null,null,null,null,null,null,null,null,null,null,null,null,null,null,null,null,null,null,0,0,""]
[null,null,null,null,null,null,null,null,null,null,null,null,null,null,"X","X","X","X",{"$f":"VLOOKUP(P66,Lookup!A:B,2,FALSE)","v":"--"},{"$f":"VLOOKUP(Q66,Lookup!A:B,2,FALSE)","v":"--"},{"$f":"VLOOKUP(R66,Lookup!A:B,2,FALSE)","v":"--"},null,{"$f":"IF(E66&F66&G66&I66&K66&M66=\"\",\"\",IF(OR(H66=\"\",D66=\"\",AND(AC66=0,'Contents & 6mo Restriction'!$BE$1=FALSE)),1,0))","v":""},"",0,0,0,0,0,0,null,null,null,null,null,null,null,null,null,null,null,null,null,null,null,null,null,null,null,null,null,null,null,null,null,null,null,null,null,null,null,null,null,null,null,null,null,null,null,null,null,null,null,null,null,null,null,null,null,null,null,null,null,null,null,null,null,null,null,null,null,null,null,null,null,null,null,null,null,null,null,null,null,null,null,null,null,null,null,null,null,null,null,null,null,null,null,null,null,null,null,null,null,null,null,null,null,null,null,null,null,null,0,0,""]
[null,null,null,null,null,null,null,null,null,null,null,null,null,null,"X","X","X","X",{"$f":"VLOOKUP(P67,Lookup!A:B,2,FALSE)","v":"--"},{"$f":"VLOOKUP(Q67,Lookup!A:B,2,FALSE)","v":"--"},{"$f":"VLOOKUP(R67,Lookup!A:B,2,FALSE)","v":"--"},null,{"$f":"IF(E67&F67&G67&I67&K67&M67=\"\",\"\",IF(OR(H67=\"\",D67=\"\",AND(AC67=0,'Contents & 6mo Restriction'!$BE$1=FALSE)),1,0))","v":""},"",0,0,0,0,0,0,null,null,null,null,null,null,null,null,null,null,null,null,null,null,null,null,null,null,null,null,null,null,null,null,null,null,null,null,null,null,null,null,null,null,null,null,null,null,null,null,null,null,null,null,null,null,null,null,null,null,null,null,null,null,null,null,null,null,null,null,null,null,null,null,null,null,null,null,null,null,null,null,null,null,null,null,null,null,null,null,null,null,null,null,null,null,null,null,null,null,null,null,null,null,null,null,null,null,null,null,null,null,0,0,""]
[null,null,null,null,null,null,null,null,null,null,null,null,null,null,"X",{"$f":"CONCATENATE(E68,I68,J68,O68)","v":"X"},{"$f":"CONCATENATE(F68,K68,L68,O68)","v":"X"},{"$f":"CONCATENATE(G68,M68,N68,O68)","v":"X"},{"$f":"VLOOKUP(P68,Lookup!A:B,2,FALSE)","v":"--"},{"$f":"VLOOKUP(Q68,Lookup!A:B,2,FALSE)","v":"--"},{"$f":"VLOOKUP(R68,Lookup!A:B,2,FALSE)","v":"--"},null,{"$f":"IF(E68&F68&G68&I68&K68&M68=\"\",\"\",IF(OR(H68=\"\",D68=\"\",AND(AC68=0,'Contents & 6mo Restriction'!$BE$1=FALSE)),1,0))","v":""},"",0,0,0,0,0,0,null,null,null,null,null,null,null,null,null,null,null,null,null,null,null,null,null,null,null,null,null,null,null,null,null,null,null,null,null,null,null,null,null,null,null,null,null,null,null,null,null,null,null,null,null,null,null,null,null,null,null,null,null,null,null,null,null,null,null,null,null,null,null,null,null,null,null,null,null,null,null,null,null,null,null,null,null,null,null,null,null,null,null,null,null,null,null,null,null,null,null,null,null,null,null,null,null,null,null,null,null,null,0,0,""]
[null,null,null,null,null,null,null,null,null,null,null,null,null,null,"X","X","X","X",{"$f":"VLOOKUP(P69,Lookup!A:B,2,FALSE)","v":"--"},{"$f":"VLOOKUP(Q69,Lookup!A:B,2,FALSE)","v":"--"},{"$f":"VLOOKUP(R69,Lookup!A:B,2,FALSE)","v":"--"},null,{"$f":"IF(E69&F69&G69&I69&K69&M69=\"\",\"\",IF(OR(H69=\"\",D69=\"\",AND(AC69=0,'Contents & 6mo Restriction'!$BE$1=FALSE)),1,0))","v":""},"",0,0,0,0,0,0,null,null,null,null,null,null,null,null,null,null,null,null,null,null,null,null,null,null,null,null,null,null,null,null,null,null,null,null,null,null,null,null,null,null,null,null,null,null,null,null,null,null,null,null,null,null,null,null,null,null,null,null,null,null,null,null,null,null,null,null,null,null,null,null,null,null,null,null,null,null,null,null,null,null,null,null,null,null,null,null,null,null,null,null,null,null,null,null,null,null,null,null,null,null,null,null,null,null,null,null,null,null,0,0,""]
[null,null,null,null,null,null,null,null,null,null,null,null,null,null,"X","X","X","X",{"$f":"VLOOKUP(P70,Lookup!A:B,2,FALSE)","v":"--"},{"$f":"VLOOKUP(Q70,Lookup!A:B,2,FALSE)","v":"--"},{"$f":"VLOOKUP(R70,Lookup!A:B,2,FALSE)","v":"--"},null,{"$f":"IF(E70&F70&G70&I70&K70&M70=\"\",\"\",IF(OR(H70=\"\",D70=\"\",AND(AC70=0,'Contents & 6mo Restriction'!$BE$1=FALSE)),1,0))","v":""},"",0,0,0,0,0,0,null,null,null,null,null,null,null,null,null,null,null,null,null,null,null,null,null,null,null,null,null,null,null,null,null,null,null,null,null,null,null,null,null,null,null,null,null,null,null,null,null,null,null,null,null,null,null,null,null,null,null,null,null,null,null,null,null,null,null,null,null,null,null,null,null,null,null,null,null,null,null,null,null,null,null,null,null,null,null,null,null,null,null,null,null,null,null,null,null,null,null,null,null,null,null,null,null,null,null,null,null,null,0,0,""]
[null,null,null,null,null,null,null,null,null,null,null,null,null,null,"X","X","X","X",{"$f":"VLOOKUP(P71,Lookup!A:B,2,FALSE)","v":"--"},{"$f":"VLOOKUP(Q71,Lookup!A:B,2,FALSE)","v":"--"},{"$f":"VLOOKUP(R71,Lookup!A:B,2,FALSE)","v":"--"},null,{"$f":"IF(E71&F71&G71&I71&K71&M71=\"\",\"\",IF(OR(H71=\"\",D71=\"\",AND(AC71=0,'Contents & 6mo Restriction'!$BE$1=FALSE)),1,0))","v":""},"",0,0,0,0,0,0,null,null,null,null,null,null,null,null,null,null,null,null,null,null,null,null,null,null,null,null,null,null,null,null,null,null,null,null,null,null,null,null,null,null,null,null,null,null,null,null,null,null,null,null,null,null,null,null,null,null,null,null,null,null,null,null,null,null,null,null,null,null,null,null,null,null,null,null,null,null,null,null,null,null,null,null,null,null,null,null,null,null,null,null,null,null,null,null,null,null,null,null,null,null,null,null,null,null,null,null,null,null,0,0,""]
[null,null,null,null,null,null,null,null,null,null,null,null,null,null,"X","X","X","X",{"$f":"VLOOKUP(P72,Lookup!A:B,2,FALSE)","v":"--"},{"$f":"VLOOKUP(Q72,Lookup!A:B,2,FALSE)","v":"--"},{"$f":"VLOOKUP(R72,Lookup!A:B,2,FALSE)","v":"--"},null,{"$f":"IF(E72&F72&G72&I72&K72&M72=\"\",\"\",IF(OR(H72=\"\",D72=\"\",AND(AC72=0,'Contents & 6mo Restriction'!$BE$1=FALSE)),1,0))","v":""},"",0,0,0,0,0,0,null,null,null,null,null,null,null,null,null,null,null,null,null,null,null,null,null,null,null,null,null,null,null,null,null,null,null,null,null,null,null,null,null,null,null,null,null,null,null,null,null,null,null,null,null,null,null,null,null,null,null,null,null,null,null,null,null,null,null,null,null,null,null,null,null,null,null,null,null,null,null,null,null,null,null,null,null,null,null,null,null,null,null,null,null,null,null,null,null,null,null,null,null,null,null,null,null,null,null,null,null,null,0,0,""]
[null,null,null,null,null,null,null,null,null,null,null,null,null,null,"X","X","X","X",{"$f":"VLOOKUP(P73,Lookup!A:B,2,FALSE)","v":"--"},{"$f":"VLOOKUP(Q73,Lookup!A:B,2,FALSE)","v":"--"},{"$f":"VLOOKUP(R73,Lookup!A:B,2,FALSE)","v":"--"},null,{"$f":"IF(E73&F73&G73&I73&K73&M73=\"\",\"\",IF(OR(H73=\"\",D73=\"\",AND(AC73=0,'Contents & 6mo Restriction'!$BE$1=FALSE)),1,0))","v":""},"",0,0,0,0,0,0,null,null,null,null,null,null,null,null,null,null,null,null,null,null,null,null,null,null,null,null,null,null,null,null,null,null,null,null,null,null,null,null,null,null,null,null,null,null,null,null,null,null,null,null,null,null,null,null,null,null,null,null,null,null,null,null,null,null,null,null,null,null,null,null,null,null,null,null,null,null,null,null,null,null,null,null,null,null,null,null,null,null,null,null,null,null,null,null,null,null,null,null,null,null,null,null,null,null,null,null,null,null,0,0,""]
[null,null,null,null,null,null,null,null,null,null,null,null,null,null,"X","X","X","X",{"$f":"VLOOKUP(P74,Lookup!A:B,2,FALSE)","v":"--"},{"$f":"VLOOKUP(Q74,Lookup!A:B,2,FALSE)","v":"--"},{"$f":"VLOOKUP(R74,Lookup!A:B,2,FALSE)","v":"--"},null,{"$f":"IF(E74&F74&G74&I74&K74&M74=\"\",\"\",IF(OR(H74=\"\",D74=\"\",AND(AC74=0,'Contents & 6mo Restriction'!$BE$1=FALSE)),1,0))","v":""},"",0,0,0,0,0,0,null,null,null,null,null,null,null,null,null,null,null,null,null,null,null,null,null,null,null,null,null,null,null,null,null,null,null,null,null,null,null,null,null,null,null,null,null,null,null,null,null,null,null,null,null,null,null,null,null,null,null,null,null,null,null,null,null,null,null,null,null,null,null,null,null,null,null,null,null,null,null,null,null,null,null,null,null,null,null,null,null,null,null,null,null,null,null,null,null,null,null,null,null,null,null,null,null,null,null,null,null,null,0,0,""]
[null,null,null,null,null,null,null,null,null,null,null,null,null,null,"X","X","X","X",{"$f":"VLOOKUP(P75,Lookup!A:B,2,FALSE)","v":"--"},{"$f":"VLOOKUP(Q75,Lookup!A:B,2,FALSE)","v":"--"},{"$f":"VLOOKUP(R75,Lookup!A:B,2,FALSE)","v":"--"},null,{"$f":"IF(E75&F75&G75&I75&K75&M75=\"\",\"\",IF(OR(H75=\"\",D75=\"\",AND(AC75=0,'Contents & 6mo Restriction'!$BE$1=FALSE)),1,0))","v":""},"",0,0,0,0,0,0,null,null,null,null,null,null,null,null,null,null,null,null,null,null,null,null,null,null,null,null,null,null,null,null,null,null,null,null,null,null,null,null,null,null,null,null,null,null,null,null,null,null,null,null,null,null,null,null,null,null,null,null,null,null,null,null,null,null,null,null,null,null,null,null,null,null,null,null,null,null,null,null,null,null,null,null,null,null,null,null,null,null,null,null,null,null,null,null,null,null,null,null,null,null,null,null,null,null,null,null,null,null,0,0,""]
[null,null,null,null,null,null,null,null,null,null,null,null,null,null,"X","X","X","X",{"$f":"VLOOKUP(P76,Lookup!A:B,2,FALSE)","v":"--"},{"$f":"VLOOKUP(Q76,Lookup!A:B,2,FALSE)","v":"--"},{"$f":"VLOOKUP(R76,Lookup!A:B,2,FALSE)","v":"--"},null,{"$f":"IF(E76&F76&G76&I76&K76&M76=\"\",\"\",IF(OR(H76=\"\",D76=\"\",AND(AC76=0,'Contents & 6mo Restriction'!$BE$1=FALSE)),1,0))","v":""},"",0,0,0,0,0,0,null,null,null,null,null,null,null,null,null,null,null,null,null,null,null,null,null,null,null,null,null,null,null,null,null,null,null,null,null,null,null,null,null,null,null,null,null,null,null,null,null,null,null,null,null,null,null,null,null,null,null,null,null,null,null,null,null,null,null,null,null,null,null,null,null,null,null,null,null,null,null,null,null,null,null,null,null,null,null,null,null,null,null,null,null,null,null,null,null,null,null,null,null,null,null,null,null,null,null,null,null,null,0,0,""]
[null,null,null,null,null,null,null,null,null,null,null,null,null,null,"X","X","X","X",{"$f":"VLOOKUP(P77,Lookup!A:B,2,FALSE)","v":"--"},{"$f":"VLOOKUP(Q77,Lookup!A:B,2,FALSE)","v":"--"},{"$f":"VLOOKUP(R77,Lookup!A:B,2,FALSE)","v":"--"},null,{"$f":"IF(E77&F77&G77&I77&K77&M77=\"\",\"\",IF(OR(H77=\"\",D77=\"\",AND(AC77=0,'Contents & 6mo Restriction'!$BE$1=FALSE)),1,0))","v":""},"",0,0,0,0,0,0,null,null,null,null,null,null,null,null,null,null,null,null,null,null,null,null,null,null,null,null,null,null,null,null,null,null,null,null,null,null,null,null,null,null,null,null,null,null,null,null,null,null,null,null,null,null,null,null,null,null,null,null,null,null,null,null,null,null,null,null,null,null,null,null,null,null,null,null,null,null,null,null,null,null,null,null,null,null,null,null,null,null,null,null,null,null,null,null,null,null,null,null,null,null,null,null,null,null,null,null,null,null,0,0,""]
[null,null,null,null,null,null,null,null,null,null,null,null,null,null,"X","X","X","X",{"$f":"VLOOKUP(P78,Lookup!A:B,2,FALSE)","v":"--"},{"$f":"VLOOKUP(Q78,Lookup!A:B,2,FALSE)","v":"--"},{"$f":"VLOOKUP(R78,Lookup!A:B,2,FALSE)","v":"--"},null,{"$f":"IF(E78&F78&G78&I78&K78&M78=\"\",\"\",IF(OR(H78=\"\",D78=\"\",AND(AC78=0,'Contents & 6mo Restriction'!$BE$1=FALSE)),1,0))","v":""},"",0,0,0,0,0,0,null,null,null,null,null,null,null,null,null,null,null,null,null,null,null,null,null,null,null,null,null,null,null,null,null,null,null,null,null,null,null,null,null,null,null,null,null,null,null,null,null,null,null,null,null,null,null,null,null,null,null,null,null,null,null,null,null,null,null,null,null,null,null,null,null,null,null,null,null,null,null,null,null,null,null,null,null,null,null,null,null,null,null,null,null,null,null,null,null,null,null,null,null,null,null,null,null,null,null,null,null,null,0,0,""]
[null,null,null,null,null,null,null,null,null,null,null,null,null,null,"X","X","X","X",{"$f":"VLOOKUP(P79,Lookup!A:B,2,FALSE)","v":"--"},{"$f":"VLOOKUP(Q79,Lookup!A:B,2,FALSE)","v":"--"},{"$f":"VLOOKUP(R79,Lookup!A:B,2,FALSE)","v":"--"},null,{"$f":"IF(E79&F79&G79&I79&K79&M79=\"\",\"\",IF(OR(H79=\"\",D79=\"\",AND(AC79=0,'Contents & 6mo Restriction'!$BE$1=FALSE)),1,0))","v":""},"",0,0,0,0,0,0,null,null,null,null,null,null,null,null,null,null,null,null,null,null,null,null,null,null,null,null,null,null,null,null,null,null,null,null,null,null,null,null,null,null,null,null,null,null,null,null,null,null,null,null,null,null,null,null,null,null,null,null,null,null,null,null,null,null,null,null,null,null,null,null,null,null,null,null,null,null,null,null,null,null,null,null,null,null,null,null,null,null,null,null,null,null,null,null,null,null,null,null,null,null,null,null,null,null,null,null,null,null,0,0,""]
[null,null,null,null,null,null,null,null,null,null,null,null,null,null,"X","X","X","X",{"$f":"VLOOKUP(P80,Lookup!A:B,2,FALSE)","v":"--"},{"$f":"VLOOKUP(Q80,Lookup!A:B,2,FALSE)","v":"--"},{"$f":"VLOOKUP(R80,Lookup!A:B,2,FALSE)","v":"--"},null,{"$f":"IF(E80&F80&G80&I80&K80&M80=\"\",\"\",IF(OR(H80=\"\",D80=\"\",AND(AC80=0,'Contents & 6mo Restriction'!$BE$1=FALSE)),1,0))","v":""},"",0,0,0,0,0,0,null,null,null,null,null,null,null,null,null,null,null,null,null,null,null,null,null,null,null,null,null,null,null,null,null,null,null,null,null,null,null,null,null,null,null,null,null,null,null,null,null,null,null,null,null,null,null,null,null,null,null,null,null,null,null,null,null,null,null,null,null,null,null,null,null,null,null,null,null,null,null,null,null,null,null,null,null,null,null,null,null,null,null,null,null,null,null,null,null,null,null,null,null,null,null,null,null,null,null,null,null,null,0,0,""]
[null,null,null,null,null,null,null,null,null,null,null,null,null,null,"X","X","X","X",{"$f":"VLOOKUP(P81,Lookup!A:B,2,FALSE)","v":"--"},{"$f":"VLOOKUP(Q81,Lookup!A:B,2,FALSE)","v":"--"},{"$f":"VLOOKUP(R81,Lookup!A:B,2,FALSE)","v":"--"},null,{"$f":"IF(E81&F81&G81&I81&K81&M81=\"\",\"\",IF(OR(H81=\"\",D81=\"\",AND(AC81=0,'Contents & 6mo Restriction'!$BE$1=FALSE)),1,0))","v":""},"",0,0,0,0,0,0,null,null,null,null,null,null,null,null,null,null,null,null,null,null,null,null,null,null,null,null,null,null,null,null,null,null,null,null,null,null,null,null,null,null,null,null,null,null,null,null,null,null,null,null,null,null,null,null,null,null,null,null,null,null,null,null,null,null,null,null,null,null,null,null,null,null,null,null,null,null,null,null,null,null,null,null,null,null,null,null,null,null,null,null,null,null,null,null,null,null,null,null,null,null,null,null,null,null,null,null,null,null,0,0,""]
[null,null,null,null,null,null,null,null,null,null,null,null,null,null,"X","X","X","X",{"$f":"VLOOKUP(P82,Lookup!A:B,2,FALSE)","v":"--"},{"$f":"VLOOKUP(Q82,Lookup!A:B,2,FALSE)","v":"--"},{"$f":"VLOOKUP(R82,Lookup!A:B,2,FALSE)","v":"--"},null,{"$f":"IF(E82&F82&G82&I82&K82&M82=\"\",\"\",IF(OR(H82=\"\",D82=\"\",AND(AC82=0,'Contents & 6mo Restriction'!$BE$1=FALSE)),1,0))","v":""},"",0,0,0,0,0,0,null,null,null,null,null,null,null,null,null,null,null,null,null,null,null,null,null,null,null,null,null,null,null,null,null,null,null,null,null,null,null,null,null,null,null,null,null,null,null,null,null,null,null,null,null,null,null,null,null,null,null,null,null,null,null,null,null,null,null,null,null,null,null,null,null,null,null,null,null,null,null,null,null,null,null,null,null,null,null,null,null,null,null,null,null,null,null,null,null,null,null,null,null,null,null,null,null,null,null,null,null,null,0,0,""]
[null,null,null,null,null,null,null,null,null,null,null,null,null,null,"X","X","X","X",{"$f":"VLOOKUP(P83,Lookup!A:B,2,FALSE)","v":"--"},{"$f":"VLOOKUP(Q83,Lookup!A:B,2,FALSE)","v":"--"},{"$f":"VLOOKUP(R83,Lookup!A:B,2,FALSE)","v":"--"},null,{"$f":"IF(E83&F83&G83&I83&K83&M83=\"\",\"\",IF(OR(H83=\"\",D83=\"\",AND(AC83=0,'Contents & 6mo Restriction'!$BE$1=FALSE)),1,0))","v":""},"",0,0,0,0,0,0,null,null,null,null,null,null,null,null,null,null,null,null,null,null,null,null,null,null,null,null,null,null,null,null,null,null,null,null,null,null,null,null,null,null,null,null,null,null,null,null,null,null,null,null,null,null,null,null,null,null,null,null,null,null,null,null,null,null,null,null,null,null,null,null,null,null,null,null,null,null,null,null,null,null,null,null,null,null,null,null,null,null,null,null,null,null,null,null,null,null,null,null,null,null,null,null,null,null,null,null,null,null,0,0,""]
[null,null,null,null,null,null,null,null,null,null,null,null,null,null,"X","X","X","X",{"$f":"VLOOKUP(P84,Lookup!A:B,2,FALSE)","v":"--"},{"$f":"VLOOKUP(Q84,Lookup!A:B,2,FALSE)","v":"--"},{"$f":"VLOOKUP(R84,Lookup!A:B,2,FALSE)","v":"--"},null,{"$f":"IF(E84&F84&G84&I84&K84&M84=\"\",\"\",IF(OR(H84=\"\",D84=\"\",AND(AC84=0,'Contents & 6mo Restriction'!$BE$1=FALSE)),1,0))","v":""},"",0,0,0,0,0,0,null,null,null,null,null,null,null,null,null,null,null,null,null,null,null,null,null,null,null,null,null,null,null,null,null,null,null,null,null,null,null,null,null,null,null,null,null,null,null,null,null,null,null,null,null,null,null,null,null,null,null,null,null,null,null,null,null,null,null,null,null,null,null,null,null,null,null,null,null,null,null,null,null,null,null,null,null,null,null,null,null,null,null,null,null,null,null,null,null,null,null,null,null,null,null,null,null,null,null,null,null,null,0,0,""]
[null,null,null,null,null,null,null,null,null,null,null,null,null,null,"X","X","X","X",{"$f":"VLOOKUP(P85,Lookup!A:B,2,FALSE)","v":"--"},{"$f":"VLOOKUP(Q85,Lookup!A:B,2,FALSE)","v":"--"},{"$f":"VLOOKUP(R85,Lookup!A:B,2,FALSE)","v":"--"},null,{"$f":"IF(E85&F85&G85&I85&K85&M85=\"\",\"\",IF(OR(H85=\"\",D85=\"\",AND(AC85=0,'Contents & 6mo Restriction'!$BE$1=FALSE)),1,0))","v":""},"",0,0,0,0,0,0,null,null,null,null,null,null,null,null,null,null,null,null,null,null,null,null,null,null,null,null,null,null,null,null,null,null,null,null,null,null,null,null,null,null,null,null,null,null,null,null,null,null,null,null,null,null,null,null,null,null,null,null,null,null,null,null,null,null,null,null,null,null,null,null,null,null,null,null,null,null,null,null,null,null,null,null,null,null,null,null,null,null,null,null,null,null,null,null,null,null,null,null,null,null,null,null,null,null,null,null,null,null,0,{"$f":"IF(ISERROR(FIND(\"progress\",S85&T85&U85)),0,1)","v":0},""]
[null,null,null,null,null,null,null,null,null,null,null,null,null,null,"X","X","X","X",{"$f":"VLOOKUP(P86,Lookup!A:B,2,FALSE)","v":"--"},{"$f":"VLOOKUP(Q86,Lookup!A:B,2,FALSE)","v":"--"},{"$f":"VLOOKUP(R86,Lookup!A:B,2,FALSE)","v":"--"},null,{"$f":"IF(E86&F86&G86&I86&K86&M86=\"\",\"\",IF(OR(H86=\"\",D86=\"\",AND(AC86=0,'Contents & 6mo Restriction'!$BE$1=FALSE)),1,0))","v":""},{"$f":"IF(CONCATENATE(B86,C86,E86,F86,G86)=\"\",\"\",1)","v":""},{"$f":"IF(AND(W86=0,OR(S86=\"a\",S86=\"b\",S86=\"c\",S86=\"d\",S86=\"e\",T86=\"a\",T86=\"b\",T86=\"c\",T86=\"d\",T86=\"e\",U86=\"a\",U86=\"b\",U86=\"c\",U86=\"d\",U86=\"e\")),1,0)","v":0},{"$f":"IF(AND(OR(S86=\"a\",S86=\"b\",S86=\"c\",S86=\"d\",S86=\"e\"),OR(T86=\"a\",T86=\"b\",T86=\"c\",T86=\"d\",T86=\"e\"),OR(U86=\"a\",U86=\"b\",U86=\"c\",U86=\"d\",U86=\"e\"),W86=0),1,0)","v":0},{"$f":"IF(SUM(AB86:AD86)>0,1,0)","v":0},{"$f":"IF(H86>=DATE(YEAR(D86),MONTH(D86)+6,DAY(D86)),1,0)","v":0},{"$f":"IF(H86-D86>=182,1,0)","v":0},{"$f":"IF(OR(AND(MONTH(D86)=8,DAY(D86)=30,H86-D86>=182),AND(MONTH(D86)=8,DAY(D86)=31,H86-D86>=181),AND(MONTH(D86)=10,DAY(D86)=31,H86-D86>=181),AND(MONTH(D86)=12,DAY(D86)=31,H86-D86>=181)),1,0)","v":0},null,null,null,null,null,null,null,null,null,null,null,null,null,null,null,null,null,null,null,null,null,null,null,null,null,null,null,null,null,null,null,null,null,null,null,null,null,null,null,null,null,null,null,null,null,null,null,null,null,null,null,null,null,null,null,null,null,null,null,null,null,null,null,null,null,null,null,null,null,null,null,null,null,null,null,null,null,null,null,null,null,null,null,null,null,null,null,null,null,null,null,null,null,null,null,null,null,null,null,null,null,null,0,0,{"$f":"IFERROR(W86,\"Please enter valid dates\")","v":""}]
[null,null,null,null,null,null,null,null,null,null,null,null,null,null,"X","X","X","X",{"$f":"VLOOKUP(P87,Lookup!A:B,2,FALSE)","v":"--"},{"$f":"VLOOKUP(Q87,Lookup!A:B,2,FALSE)","v":"--"},{"$f":"VLOOKUP(R87,Lookup!A:B,2,FALSE)","v":"--"},null,{"$f":"IF(E87&F87&G87&I87&K87&M87=\"\",\"\",IF(OR(H87=\"\",D87=\"\",AND(AC87=0,'Contents & 6mo Restriction'!$BE$1=FALSE)),1,0))","v":""},"",0,0,0,0,0,0,null,null,null,null,null,null,null,null,null,null,null,null,null,null,null,null,null,null,null,null,null,null,null,null,null,null,null,null,null,null,null,null,null,null,null,null,null,null,null,null,null,null,null,null,null,null,null,null,null,null,null,null,null,null,null,null,null,null,null,null,null,null,null,null,null,null,null,null,null,null,null,null,null,null,null,null,null,null,null,null,null,null,null,null,null,null,null,null,null,null,null,null,null,null,null,null,null,null,null,null,null,null,0,0,""]
[null,null,null,null,null,null,null,null,null,null,null,null,null,null,"X","X","X","X",{"$f":"VLOOKUP(P88,Lookup!A:B,2,FALSE)","v":"--"},{"$f":"VLOOKUP(Q88,Lookup!A:B,2,FALSE)","v":"--"},{"$f":"VLOOKUP(R88,Lookup!A:B,2,FALSE)","v":"--"},null,{"$f":"IF(E88&F88&G88&I88&K88&M88=\"\",\"\",IF(OR(H88=\"\",D88=\"\",AND(AC88=0,'Contents & 6mo Restriction'!$BE$1=FALSE)),1,0))","v":""},"",0,0,0,0,0,0,null,null,null,null,null,null,null,null,null,null,null,null,null,null,null,null,null,null,null,null,null,null,null,null,null,null,null,null,null,null,null,null,null,null,null,null,null,null,null,null,null,null,null,null,null,null,null,null,null,null,null,null,null,null,null,null,null,null,null,null,null,null,null,null,null,null,null,null,null,null,null,null,null,null,null,null,null,null,null,null,null,null,null,null,null,null,null,null,null,null,null,null,null,null,null,null,null,null,null,null,null,null,0,0,""]
[null,null,null,null,null,null,null,null,null,null,null,null,null,null,"X","X","X","X",{"$f":"VLOOKUP(P89,Lookup!A:B,2,FALSE)","v":"--"},{"$f":"VLOOKUP(Q89,Lookup!A:B,2,FALSE)","v":"--"},{"$f":"VLOOKUP(R89,Lookup!A:B,2,FALSE)","v":"--"},null,{"$f":"IF(E89&F89&G89&I89&K89&M89=\"\",\"\",IF(OR(H89=\"\",D89=\"\",AND(AC89=0,'Contents & 6mo Restriction'!$BE$1=FALSE)),1,0))","v":""},"",0,0,0,0,0,0,null,null,null,null,null,null,null,null,null,null,null,null,null,null,null,null,null,null,null,null,null,null,null,null,null,null,null,null,null,null,null,null,null,null,null,null,null,null,null,null,null,null,null,null,null,null,null,null,null,null,null,null,null,null,null,null,null,null,null,null,null,null,null,null,null,null,null,null,null,null,null,null,null,null,null,null,null,null,null,null,null,null,null,null,null,null,null,null,null,null,null,null,null,null,null,null,null,null,null,null,null,null,0,0,""]
[null,null,null,null,null,null,null,null,null,null,null,null,null,null,"X","X","X","X",{"$f":"VLOOKUP(P90,Lookup!A:B,2,FALSE)","v":"--"},{"$f":"VLOOKUP(Q90,Lookup!A:B,2,FALSE)","v":"--"},{"$f":"VLOOKUP(R90,Lookup!A:B,2,FALSE)","v":"--"},null,{"$f":"IF(E90&F90&G90&I90&K90&M90=\"\",\"\",IF(OR(H90=\"\",D90=\"\",AND(AC90=0,'Contents & 6mo Restriction'!$BE$1=FALSE)),1,0))","v":""},"",0,0,0,0,0,0,null,null,null,null,null,null,null,null,null,null,null,null,null,null,null,null,null,null,null,null,null,null,null,null,null,null,null,null,null,null,null,null,null,null,null,null,null,null,null,null,null,null,null,null,null,null,null,null,null,null,null,null,null,null,null,null,null,null,null,null,null,null,null,null,null,null,null,null,null,null,null,null,null,null,null,null,null,null,null,null,null,null,null,null,null,null,null,null,null,null,null,null,null,null,null,null,null,null,null,null,null,null,{"$f":"IF(ISERROR(FIND(\"Impossible\",S90&T90&U90)),0,1)","v":0},0,""]
[null,null,null,null,null,null,null,null,null,null,null,null,null,null,"X","X","X","X",{"$f":"VLOOKUP(P91,Lookup!A:B,2,FALSE)","v":"--"},{"$f":"VLOOKUP(Q91,Lookup!A:B,2,FALSE)","v":"--"},{"$f":"VLOOKUP(R91,Lookup!A:B,2,FALSE)","v":"--"},null,{"$f":"IF(E91&F91&G91&I91&K91&M91=\"\",\"\",IF(OR(H91=\"\",D91=\"\",AND(AC91=0,'Contents & 6mo Restriction'!$BE$1=FALSE)),1,0))","v":""},"",0,0,0,0,0,0,null,null,null,null,null,null,null,null,null,null,null,null,null,null,null,null,null,null,null,null,null,null,null,null,null,null,null,null,null,null,null,null,null,null,null,null,null,null,null,null,null,null,null,null,null,null,null,null,null,null,null,null,null,null,null,null,null,null,null,null,null,null,null,null,null,null,null,null,null,null,null,null,null,null,null,null,null,null,null,null,null,null,null,null,null,null,null,null,null,null,null,null,null,null,null,null,null,null,null,null,null,null,0,0,""]
[null,null,null,null,null,null,null,null,null,null,null,null,null,null,"X","X","X","X",{"$f":"VLOOKUP(P92,Lookup!A:B,2,FALSE)","v":"--"},{"$f":"VLOOKUP(Q92,Lookup!A:B,2,FALSE)","v":"--"},{"$f":"VLOOKUP(R92,Lookup!A:B,2,FALSE)","v":"--"},null,{"$f":"IF(E92&F92&G92&I92&K92&M92=\"\",\"\",IF(OR(H92=\"\",D92=\"\",AND(AC92=0,'Contents & 6mo Restriction'!$BE$1=FALSE)),1,0))","v":""},"",0,0,0,0,0,0,null,null,null,null,null,null,null,null,null,null,null,null,null,null,null,null,null,null,null,null,null,null,null,null,null,null,null,null,null,null,null,null,null,null,null,null,null,null,null,null,null,null,null,null,null,null,null,null,null,null,null,null,null,null,null,null,null,null,null,null,null,null,null,null,null,null,null,null,null,null,null,null,null,null,null,null,null,null,null,null,null,null,null,null,null,null,null,null,null,null,null,null,null,null,null,null,null,null,null,null,null,null,0,0,""]
[null,null,null,null,null,null,null,null,null,null,null,null,null,null,"X","X","X","X",{"$f":"VLOOKUP(P93,Lookup!A:B,2,FALSE)","v":"--"},{"$f":"VLOOKUP(Q93,Lookup!A:B,2,FALSE)","v":"--"},{"$f":"VLOOKUP(R93,Lookup!A:B,2,FALSE)","v":"--"},null,{"$f":"IF(E93&F93&G93&I93&K93&M93=\"\",\"\",IF(OR(H93=\"\",D93=\"\",AND(AC93=0,'Contents & 6mo Restriction'!$BE$1=FALSE)),1,0))","v":""},"",0,0,0,0,0,0,null,null,null,null,null,null,null,null,null,null,null,null,null,null,null,null,null,null,null,null,null,null,null,null,null,null,null,null,null,null,null,null,null,null,null,null,null,null,null,null,null,null,null,null,null,null,null,null,null,null,null,null,null,null,null,null,null,null,null,null,null,null,null,null,null,null,null,null,null,null,null,null,null,null,null,null,null,null,null,null,null,null,null,null,null,null,null,null,null,null,null,null,null,null,null,null,null,null,null,null,null,null,0,0,""]
[null,null,null,null,null,null,null,null,null,null,null,null,null,null,"X","X","X","X",{"$f":"VLOOKUP(P94,Lookup!A:B,2,FALSE)","v":"--"},{"$f":"VLOOKUP(Q94,Lookup!A:B,2,FALSE)","v":"--"},{"$f":"VLOOKUP(R94,Lookup!A:B,2,FALSE)","v":"--"},null,{"$f":"IF(E94&F94&G94&I94&K94&M94=\"\",\"\",IF(OR(H94=\"\",D94=\"\",AND(AC94=0,'Contents & 6mo Restriction'!$BE$1=FALSE)),1,0))","v":""},"",0,0,0,0,0,0,null,null,null,null,null,null,null,null,null,null,null,null,null,null,null,null,null,null,null,null,null,null,null,null,null,null,null,null,null,null,null,null,null,null,null,null,null,null,null,null,null,null,null,null,null,null,null,null,null,null,null,null,null,null,null,null,null,null,null,null,null,null,null,null,null,null,null,null,null,null,null,null,null,null,null,null,null,null,null,null,null,null,null,null,null,null,null,null,null,null,null,null,null,null,null,null,null,null,null,null,null,null,0,0,""]
[null,null,null,null,null,null,null,null,null,null,null,null,null,null,"X","X","X","X",{"$f":"VLOOKUP(P95,Lookup!A:B,2,FALSE)","v":"--"},{"$f":"VLOOKUP(Q95,Lookup!A:B,2,FALSE)","v":"--"},{"$f":"VLOOKUP(R95,Lookup!A:B,2,FALSE)","v":"--"},null,{"$f":"IF(E95&F95&G95&I95&K95&M95=\"\",\"\",IF(OR(H95=\"\",D95=\"\",AND(AC95=0,'Contents & 6mo Restriction'!$BE$1=FALSE)),1,0))","v":""},"",0,0,0,0,0,0,null,null,null,null,null,null,null,null,null,null,null,null,null,null,null,null,null,null,null,null,null,null,null,null,null,null,null,null,null,null,null,null,null,null,null,null,null,null,null,null,null,null,null,null,null,null,null,null,null,null,null,null,null,null,null,null,null,null,null,null,null,null,null,null,null,null,null,null,null,null,null,null,null,null,null,null,null,null,null,null,null,null,null,null,null,null,null,null,null,null,null,null,null,null,null,null,null,null,null,null,null,null,0,0,""]
[null,null,null,null,null,null,null,null,null,null,null,null,null,null,"X","X","X","X",{"$f":"VLOOKUP(P96,Lookup!A:B,2,FALSE)","v":"--"},{"$f":"VLOOKUP(Q96,Lookup!A:B,2,FALSE)","v":"--"},{"$f":"VLOOKUP(R96,Lookup!A:B,2,FALSE)","v":"--"},null,{"$f":"IF(E96&F96&G96&I96&K96&M96=\"\",\"\",IF(OR(H96=\"\",D96=\"\",AND(AC96=0,'Contents & 6mo Restriction'!$BE$1=FALSE)),1,0))","v":""},"",0,0,0,0,0,0,null,null,null,null,null,null,null,null,null,null,null,null,null,null,null,null,null,null,null,null,null,null,null,null,null,null,null,null,null,null,null,null,null,null,null,null,null,null,null,null,null,null,null,null,null,null,null,null,null,null,null,null,null,null,null,null,null,null,null,null,null,null,null,null,null,null,null,null,null,null,null,null,null,null,null,null,null,null,null,null,null,null,null,null,null,null,null,null,null,null,null,null,null,null,null,null,null,null,null,null,null,null,0,0,""]
[null,null,null,null,null,null,null,null,null,null,null,null,null,null,"X","X","X","X",{"$f":"VLOOKUP(P97,Lookup!A:B,2,FALSE)","v":"--"},{"$f":"VLOOKUP(Q97,Lookup!A:B,2,FALSE)","v":"--"},{"$f":"VLOOKUP(R97,Lookup!A:B,2,FALSE)","v":"--"},null,{"$f":"IF(E97&F97&G97&I97&K97&M97=\"\",\"\",IF(OR(H97=\"\",D97=\"\",AND(AC97=0,'Contents & 6mo Restriction'!$BE$1=FALSE)),1,0))","v":""},"",0,0,0,0,0,0,null,null,null,null,null,null,null,null,null,null,null,null,null,null,null,null,null,null,null,null,null,null,null,null,null,null,null,null,null,null,null,null,null,null,null,null,null,null,null,null,null,null,null,null,null,null,null,null,null,null,null,null,null,null,null,null,null,null,null,null,null,null,null,null,null,null,null,null,null,null,null,null,null,null,null,null,null,null,null,null,null,null,null,null,null,null,null,null,null,null,null,null,null,null,null,null,null,null,null,null,null,null,0,0,""]
[null,null,null,null,null,null,null,null,null,null,null,null,null,null,"X","X","X","X",{"$f":"VLOOKUP(P98,Lookup!A:B,2,FALSE)","v":"--"},{"$f":"VLOOKUP(Q98,Lookup!A:B,2,FALSE)","v":"--"},{"$f":"VLOOKUP(R98,Lookup!A:B,2,FALSE)","v":"--"},null,{"$f":"IF(E98&F98&G98&I98&K98&M98=\"\",\"\",IF(OR(H98=\"\",D98=\"\",AND(AC98=0,'Contents & 6mo Restriction'!$BE$1=FALSE)),1,0))","v":""},"",0,0,0,0,0,0,null,null,null,null,null,null,null,null,null,null,null,null,null,null,null,null,null,null,null,null,null,null,null,null,null,null,null,null,null,null,null,null,null,null,null,null,null,null,null,null,null,null,null,null,null,null,null,null,null,null,null,null,null,null,null,null,null,null,null,null,null,null,null,null,null,null,null,null,null,null,null,null,null,null,null,null,null,null,null,null,null,null,null,null,null,null,null,null,null,null,null,null,null,null,null,null,null,null,null,null,null,null,0,0,""]
[null,null,null,null,null,null,null,null,null,null,null,null,null,null,"X","X","X","X",{"$f":"VLOOKUP(P99,Lookup!A:B,2,FALSE)","v":"--"},{"$f":"VLOOKUP(Q99,Lookup!A:B,2,FALSE)","v":"--"},{"$f":"VLOOKUP(R99,Lookup!A:B,2,FALSE)","v":"--"},null,{"$f":"IF(E99&F99&G99&I99&K99&M99=\"\",\"\",IF(OR(H99=\"\",D99=\"\",AND(AC99=0,'Contents & 6mo Restriction'!$BE$1=FALSE)),1,0))","v":""},"",0,0,0,0,0,0,null,null,null,null,null,null,null,null,null,null,null,null,null,null,null,null,null,null,null,null,null,null,null,null,null,null,null,null,null,null,null,null,null,null,null,null,null,null,null,null,null,null,null,null,null,null,null,null,null,null,null,null,null,null,null,null,null,null,null,null,null,null,null,null,null,null,null,null,null,null,null,null,null,null,null,null,null,null,null,null,null,null,null,null,null,null,null,null,null,null,null,null,null,null,null,null,null,null,null,null,null,null,0,0,""]
[null,null,null,null,null,null,null,null,null,null,null,null,null,null,"X","X","X","X",{"$f":"VLOOKUP(P100,Lookup!A:B,2,FALSE)","v":"--"},{"$f":"VLOOKUP(Q100,Lookup!A:B,2,FALSE)","v":"--"},{"$f":"VLOOKUP(R100,Lookup!A:B,2,FALSE)","v":"--"},null,{"$f":"IF(E100&F100&G100&I100&K100&M100=\"\",\"\",IF(OR(H100=\"\",D100=\"\",AND(AC100=0,'Contents & 6mo Restriction'!$BE$1=FALSE)),1,0))","v":""},"",0,0,0,0,0,0,null,null,null,null,null,null,null,null,null,null,null,null,null,null,null,null,null,null,null,null,null,null,null,null,null,null,null,null,null,null,null,null,null,null,null,null,null,null,null,null,null,null,null,null,null,null,null,null,null,null,null,null,null,null,null,null,null,null,null,null,null,null,null,null,null,null,null,null,null,null,null,null,null,null,null,null,null,null,null,null,null,null,null,null,null,null,null,null,null,null,null,null,null,null,null,null,null,null,null,null,null,null,0,0,""]
[null,null,null,null,null,null,null,null,null,null,null,null,null,null,"X","X","X","X",{"$f":"VLOOKUP(P101,Lookup!A:B,2,FALSE)","v":"--"},{"$f":"VLOOKUP(Q101,Lookup!A:B,2,FALSE)","v":"--"},{"$f":"VLOOKUP(R101,Lookup!A:B,2,FALSE)","v":"--"},null,{"$f":"IF(E101&F101&G101&I101&K101&M101=\"\",\"\",IF(OR(H101=\"\",D101=\"\",AND(AC101=0,'Contents & 6mo Restriction'!$BE$1=FALSE)),1,0))","v":""},"",0,0,0,0,0,0,null,null,null,null,null,null,null,null,null,null,null,null,null,null,null,null,null,null,null,null,null,null,null,null,null,null,null,null,null,null,null,null,null,null,null,null,null,null,null,null,null,null,null,null,null,null,null,null,null,null,null,null,null,null,null,null,null,null,null,null,null,null,null,null,null,null,null,null,null,null,null,null,null,null,null,null,null,null,null,null,null,null,null,null,null,null,null,null,null,null,null,null,null,null,null,null,null,null,null,null,null,null,0,0,""]
[null,null,null,null,null,null,null,null,null,null,null,null,null,null,"X","X","X","X",{"$f":"VLOOKUP(P102,Lookup!A:B,2,FALSE)","v":"--"},{"$f":"VLOOKUP(Q102,Lookup!A:B,2,FALSE)","v":"--"},{"$f":"VLOOKUP(R102,Lookup!A:B,2,FALSE)","v":"--"},null,{"$f":"IF(E102&F102&G102&I102&K102&M102=\"\",\"\",IF(OR(H102=\"\",D102=\"\",AND(AC102=0,'Contents & 6mo Restriction'!$BE$1=FALSE)),1,0))","v":""},"",0,0,0,0,0,0,null,null,null,null,null,null,null,null,null,null,null,null,null,null,null,null,null,null,null,null,null,null,null,null,null,null,null,null,null,null,null,null,null,null,null,null,null,null,null,null,null,null,null,null,null,null,null,null,null,null,null,null,null,null,null,null,null,null,null,null,null,null,null,null,null,null,null,null,null,null,null,null,null,null,null,null,null,null,null,null,null,null,null,null,null,null,null,null,null,null,null,null,null,null,null,null,null,null,null,null,null,null,0,0,""]
[null,null,null,null,null,null,null,null,null,null,null,null,null,null,"X","X","X","X",{"$f":"VLOOKUP(P103,Lookup!A:B,2,FALSE)","v":"--"},{"$f":"VLOOKUP(Q103,Lookup!A:B,2,FALSE)","v":"--"},{"$f":"VLOOKUP(R103,Lookup!A:B,2,FALSE)","v":"--"},null,{"$f":"IF(E103&F103&G103&I103&K103&M103=\"\",\"\",IF(OR(H103=\"\",D103=\"\",AND(AC103=0,'Contents & 6mo Restriction'!$BE$1=FALSE)),1,0))","v":""},"",0,0,0,0,0,0,null,null,null,null,null,null,null,null,null,null,null,null,null,null,null,null,null,null,null,null,null,null,null,null,null,null,null,null,null,null,null,null,null,null,null,null,null,null,null,null,null,null,null,null,null,null,null,null,null,null,null,null,null,null,null,null,null,null,null,null,null,null,null,null,null,null,null,null,null,null,null,null,null,null,null,null,null,null,null,null,null,null,null,null,null,null,null,null,null,null,null,null,null,null,null,null,null,null,null,null,null,null,0,0,""]
[null,null,null,null,null,null,null,null,null,null,null,null,null,null,"X","X","X","X",{"$f":"VLOOKUP(P104,Lookup!A:B,2,FALSE)","v":"--"},{"$f":"VLOOKUP(Q104,Lookup!A:B,2,FALSE)","v":"--"},{"$f":"VLOOKUP(R104,Lookup!A:B,2,FALSE)","v":"--"},null,{"$f":"IF(E104&F104&G104&I104&K104&M104=\"\",\"\",IF(OR(H104=\"\",D104=\"\",AND(AC104=0,'Contents & 6mo Restriction'!$BE$1=FALSE)),1,0))","v":""},"",0,0,0,0,0,0,null,null,null,null,null,null,null,null,null,null,null,null,null,null,null,null,null,null,null,null,null,null,null,null,null,null,null,null,null,null,null,null,null,null,null,null,null,null,null,null,null,null,null,null,null,null,null,null,null,null,null,null,null,null,null,null,null,null,null,null,null,null,null,null,null,null,null,null,null,null,null,null,null,null,null,null,null,null,null,null,null,null,null,null,null,null,null,null,null,null,null,null,null,null,null,null,null,null,null,null,null,null,0,0,""]
[null,null,null,null,null,null,null,null,null,null,null,null,null,null,"X","X","X","X",{"$f":"VLOOKUP(P105,Lookup!A:B,2,FALSE)","v":"--"},{"$f":"VLOOKUP(Q105,Lookup!A:B,2,FALSE)","v":"--"},{"$f":"VLOOKUP(R105,Lookup!A:B,2,FALSE)","v":"--"},null,{"$f":"IF(E105&F105&G105&I105&K105&M105=\"\",\"\",IF(OR(H105=\"\",D105=\"\",AND(AC105=0,'Contents & 6mo Restriction'!$BE$1=FALSE)),1,0))","v":""},"",0,0,0,0,0,0,null,null,null,null,null,null,null,null,null,null,null,null,null,null,null,null,null,null,null,null,null,null,null,null,null,null,null,null,null,null,null,null,null,null,null,null,null,null,null,null,null,null,null,null,null,null,null,null,null,null,null,null,null,null,null,null,null,null,null,null,null,null,null,null,null,null,null,null,null,null,null,null,null,null,null,null,null,null,null,null,null,null,null,null,null,null,null,null,null,null,null,null,null,null,null,null,null,null,null,null,null,null,0,0,""]
[null,null,null,null,null,null,null,null,null,null,null,null,null,null,"X","X","X","X",{"$f":"VLOOKUP(P106,Lookup!A:B,2,FALSE)","v":"--"},{"$f":"VLOOKUP(Q106,Lookup!A:B,2,FALSE)","v":"--"},{"$f":"VLOOKUP(R106,Lookup!A:B,2,FALSE)","v":"--"},null,{"$f":"IF(E106&F106&G106&I106&K106&M106=\"\",\"\",IF(OR(H106=\"\",D106=\"\",AND(AC106=0,'Contents & 6mo Restriction'!$BE$1=FALSE)),1,0))","v":""},"",0,0,0,0,0,0,null,null,null,null,null,null,null,null,null,null,null,null,null,null,null,null,null,null,null,null,null,null,null,null,null,null,null,null,null,null,null,null,null,null,null,null,null,null,null,null,null,null,null,null,null,null,null,null,null,null,null,null,null,null,null,null,null,null,null,null,null,null,null,null,null,null,null,null,null,null,null,null,null,null,null,null,null,null,null,null,null,null,null,null,null,null,null,null,null,null,null,null,null,null,null,null,null,null,null,null,null,null,0,0,""]
[null,null,null,null,null,null,null,null,null,null,null,null,null,null,"X","X","X","X",{"$f":"VLOOKUP(P107,Lookup!A:B,2,FALSE)","v":"--"},{"$f":"VLOOKUP(Q107,Lookup!A:B,2,FALSE)","v":"--"},{"$f":"VLOOKUP(R107,Lookup!A:B,2,FALSE)","v":"--"},null,{"$f":"IF(E107&F107&G107&I107&K107&M107=\"\",\"\",IF(OR(H107=\"\",D107=\"\",AND(AC107=0,'Contents & 6mo Restriction'!$BE$1=FALSE)),1,0))","v":""},"",0,0,0,0,0,0,null,null,null,null,null,null,null,null,null,null,null,null,null,null,null,null,null,null,null,null,null,null,null,null,null,null,null,null,null,null,null,null,null,null,null,null,null,null,null,null,null,null,null,null,null,null,null,null,null,null,null,null,null,null,null,null,null,null,null,null,null,null,null,null,null,null,null,null,null,null,null,null,null,null,null,null,null,null,null,null,null,null,null,null,null,null,null,null,null,null,null,null,null,null,null,null,null,null,null,null,null,null,0,0,""]
[null,null,null,null,null,null,null,null,null,null,null,null,null,null,"X","X","X","X",{"$f":"VLOOKUP(P108,Lookup!A:B,2,FALSE)","v":"--"},{"$f":"VLOOKUP(Q108,Lookup!A:B,2,FALSE)","v":"--"},{"$f":"VLOOKUP(R108,Lookup!A:B,2,FALSE)","v":"--"},null,{"$f":"IF(E108&F108&G108&I108&K108&M108=\"\",\"\",IF(OR(H108=\"\",D108=\"\",AND(AC108=0,'Contents & 6mo Restriction'!$BE$1=FALSE)),1,0))","v":""},"",0,0,0,0,0,0,null,null,null,null,null,null,null,null,null,null,null,null,null,null,null,null,null,null,null,null,null,null,null,null,null,null,null,null,null,null,null,null,null,null,null,null,null,null,null,null,null,null,null,null,null,null,null,null,null,null,null,null,null,null,null,null,null,null,null,null,null,null,null,null,null,null,null,null,null,null,null,null,null,null,null,null,null,null,null,null,null,null,null,null,null,null,null,null,null,null,null,null,null,null,null,null,null,null,null,null,null,null,0,0,""]
[null,null,null,null,null,null,null,null,null,null,null,null,null,null,"X","X","X","X",{"$f":"VLOOKUP(P109,Lookup!A:B,2,FALSE)","v":"--"},{"$f":"VLOOKUP(Q109,Lookup!A:B,2,FALSE)","v":"--"},{"$f":"VLOOKUP(R109,Lookup!A:B,2,FALSE)","v":"--"},null,{"$f":"IF(E109&F109&G109&I109&K109&M109=\"\",\"\",IF(OR(H109=\"\",D109=\"\",AND(AC109=0,'Contents & 6mo Restriction'!$BE$1=FALSE)),1,0))","v":""},"",0,0,0,0,0,0,null,null,null,null,null,null,null,null,null,null,null,null,null,null,null,null,null,null,null,null,null,null,null,null,null,null,null,null,null,null,null,null,null,null,null,null,null,null,null,null,null,null,null,null,null,null,null,null,null,null,null,null,null,null,null,null,null,null,null,null,null,null,null,null,null,null,null,null,null,null,null,null,null,null,null,null,null,null,null,null,null,null,null,null,null,null,null,null,null,null,null,null,null,null,null,null,null,null,null,null,null,null,0,0,""]
[null,null,null,null,null,null,null,null,null,null,null,null,null,null,"X","X","X","X",{"$f":"VLOOKUP(P110,Lookup!A:B,2,FALSE)","v":"--"},{"$f":"VLOOKUP(Q110,Lookup!A:B,2,FALSE)","v":"--"},{"$f":"VLOOKUP(R110,Lookup!A:B,2,FALSE)","v":"--"},null,{"$f":"IF(E110&F110&G110&I110&K110&M110=\"\",\"\",IF(OR(H110=\"\",D110=\"\",AND(AC110=0,'Contents & 6mo Restriction'!$BE$1=FALSE)),1,0))","v":""},"",0,0,0,0,0,0,null,null,null,null,null,null,null,null,null,null,null,null,null,null,null,null,null,null,null,null,null,null,null,null,null,null,null,null,null,null,null,null,null,null,null,null,null,null,null,null,null,null,null,null,null,null,null,null,null,null,null,null,null,null,null,null,null,null,null,null,null,null,null,null,null,null,null,null,null,null,null,null,null,null,null,null,null,null,null,null,null,null,null,null,null,null,null,null,null,null,null,null,null,null,null,null,null,null,null,null,null,null,0,0,""]
[null,null,null,null,null,null,null,null,null,null,null,null,null,null,"X","X","X","X",{"$f":"VLOOKUP(P111,Lookup!A:B,2,FALSE)","v":"--"},{"$f":"VLOOKUP(Q111,Lookup!A:B,2,FALSE)","v":"--"},{"$f":"VLOOKUP(R111,Lookup!A:B,2,FALSE)","v":"--"},null,{"$f":"IF(E111&F111&G111&I111&K111&M111=\"\",\"\",IF(OR(H111=\"\",D111=\"\",AND(AC111=0,'Contents & 6mo Restriction'!$BE$1=FALSE)),1,0))","v":""},"",0,0,0,0,0,0,null,null,null,null,null,null,null,null,null,null,null,null,null,null,null,null,null,null,null,null,null,null,null,null,null,null,null,null,null,null,null,null,null,null,null,null,null,null,null,null,null,null,null,null,null,null,null,null,null,null,null,null,null,null,null,null,null,null,null,null,null,null,null,null,null,null,null,null,null,null,null,null,null,null,null,null,null,null,null,null,null,null,null,null,null,null,null,null,null,null,null,null,null,null,null,null,null,null,null,null,null,null,0,0,""]
[null,null,null,null,null,null,null,null,null,null,null,null,null,null,"X","X","X","X",{"$f":"VLOOKUP(P112,Lookup!A:B,2,FALSE)","v":"--"},{"$f":"VLOOKUP(Q112,Lookup!A:B,2,FALSE)","v":"--"},{"$f":"VLOOKUP(R112,Lookup!A:B,2,FALSE)","v":"--"},null,{"$f":"IF(E112&F112&G112&I112&K112&M112=\"\",\"\",IF(OR(H112=\"\",D112=\"\",AND(AC112=0,'Contents & 6mo Restriction'!$BE$1=FALSE)),1,0))","v":""},"",0,0,0,0,0,0,null,null,null,null,null,null,null,null,null,null,null,null,null,null,null,null,null,null,null,null,null,null,null,null,null,null,null,null,null,null,null,null,null,null,null,null,null,null,null,null,null,null,null,null,null,null,null,null,null,null,null,null,null,null,null,null,null,null,null,null,null,null,null,null,null,null,null,null,null,null,null,null,null,null,null,null,null,null,null,null,null,null,null,null,null,null,null,null,null,null,null,null,null,null,null,null,null,null,null,null,null,null,0,0,""]
[null,null,null,null,null,null,null,null,null,null,null,null,null,null,"X","X","X","X",{"$f":"VLOOKUP(P113,Lookup!A:B,2,FALSE)","v":"--"},{"$f":"VLOOKUP(Q113,Lookup!A:B,2,FALSE)","v":"--"},{"$f":"VLOOKUP(R113,Lookup!A:B,2,FALSE)","v":"--"},null,{"$f":"IF(E113&F113&G113&I113&K113&M113=\"\",\"\",IF(OR(H113=\"\",D113=\"\",AND(AC113=0,'Contents & 6mo Restriction'!$BE$1=FALSE)),1,0))","v":""},"",0,0,0,0,0,0,null,null,null,null,null,null,null,null,null,null,null,null,null,null,null,null,null,null,null,null,null,null,null,null,null,null,null,null,null,null,null,null,null,null,null,null,null,null,null,null,null,null,null,null,null,null,null,null,null,null,null,null,null,null,null,null,null,null,null,null,null,null,null,null,null,null,null,null,null,null,null,null,null,null,null,null,null,null,null,null,null,null,null,null,null,null,null,null,null,null,null,null,null,null,null,null,null,null,null,null,null,null,0,0,""]
[null,null,null,null,null,null,null,null,null,null,null,null,null,null,"X","X","X","X",{"$f":"VLOOKUP(P114,Lookup!A:B,2,FALSE)","v":"--"},{"$f":"VLOOKUP(Q114,Lookup!A:B,2,FALSE)","v":"--"},{"$f":"VLOOKUP(R114,Lookup!A:B,2,FALSE)","v":"--"},null,{"$f":"IF(E114&F114&G114&I114&K114&M114=\"\",\"\",IF(OR(H114=\"\",D114=\"\",AND(AC114=0,'Contents & 6mo Restriction'!$BE$1=FALSE)),1,0))","v":""},"",0,0,0,0,0,0,null,null,null,null,null,null,null,null,null,null,null,null,null,null,null,null,null,null,null,null,null,null,null,null,null,null,null,null,null,null,null,null,null,null,null,null,null,null,null,null,null,null,null,null,null,null,null,null,null,null,null,null,null,null,null,null,null,null,null,null,null,null,null,null,null,null,null,null,null,null,null,null,null,null,null,null,null,null,null,null,null,null,null,null,null,null,null,null,null,null,null,null,null,null,null,null,null,null,null,null,null,null,0,0,""]
[null,null,null,null,null,null,null,null,null,null,null,null,null,null,"X","X","X","X",{"$f":"VLOOKUP(P115,Lookup!A:B,2,FALSE)","v":"--"},{"$f":"VLOOKUP(Q115,Lookup!A:B,2,FALSE)","v":"--"},{"$f":"VLOOKUP(R115,Lookup!A:B,2,FALSE)","v":"--"},null,{"$f":"IF(E115&F115&G115&I115&K115&M115=\"\",\"\",IF(OR(H115=\"\",D115=\"\",AND(AC115=0,'Contents & 6mo Restriction'!$BE$1=FALSE)),1,0))","v":""},"",0,0,0,0,0,0,null,null,null,null,null,null,null,null,null,null,null,null,null,null,null,null,null,null,null,null,null,null,null,null,null,null,null,null,null,null,null,null,null,null,null,null,null,null,null,null,null,null,null,null,null,null,null,null,null,null,null,null,null,null,null,null,null,null,null,null,null,null,null,null,null,null,null,null,null,null,null,null,null,null,null,null,null,null,null,null,null,null,null,null,null,null,null,null,null,null,null,null,null,null,null,null,null,null,null,null,null,null,0,0,""]
[null,null,null,null,null,null,null,null,null,null,null,null,null,null,"X","X","X","X",{"$f":"VLOOKUP(P116,Lookup!A:B,2,FALSE)","v":"--"},{"$f":"VLOOKUP(Q116,Lookup!A:B,2,FALSE)","v":"--"},{"$f":"VLOOKUP(R116,Lookup!A:B,2,FALSE)","v":"--"},null,{"$f":"IF(E116&F116&G116&I116&K116&M116=\"\",\"\",IF(OR(H116=\"\",D116=\"\",AND(AC116=0,'Contents & 6mo Restriction'!$BE$1=FALSE)),1,0))","v":""},"",0,0,0,0,0,0,null,null,null,null,null,null,null,null,null,null,null,null,null,null,null,null,null,null,null,null,null,null,null,null,null,null,null,null,null,null,null,null,null,null,null,null,null,null,null,null,null,null,null,null,null,null,null,null,null,null,null,null,null,null,null,null,null,null,null,null,null,null,null,null,null,null,null,null,null,null,null,null,null,null,null,null,null,null,null,null,null,null,null,null,null,null,null,null,null,null,null,null,null,null,null,null,null,null,null,null,null,null,0,0,""]
[null,null,null,null,null,null,null,null,null,null,null,null,null,null,"X","X","X","X",{"$f":"VLOOKUP(P117,Lookup!A:B,2,FALSE)","v":"--"},{"$f":"VLOOKUP(Q117,Lookup!A:B,2,FALSE)","v":"--"},{"$f":"VLOOKUP(R117,Lookup!A:B,2,FALSE)","v":"--"},null,{"$f":"IF(E117&F117&G117&I117&K117&M117=\"\",\"\",IF(OR(H117=\"\",D117=\"\",AND(AC117=0,'Contents & 6mo Restriction'!$BE$1=FALSE)),1,0))","v":""},"",0,0,0,0,0,0,null,null,null,null,null,null,null,null,null,null,null,null,null,null,null,null,null,null,null,null,null,null,null,null,null,null,null,null,null,null,null,null,null,null,null,null,null,null,null,null,null,null,null,null,null,null,null,null,null,null,null,null,null,null,null,null,null,null,null,null,null,null,null,null,null,null,null,null,null,null,null,null,null,null,null,null,null,null,null,null,null,null,null,null,null,null,null,null,null,null,null,null,null,null,null,null,null,null,null,null,null,null,0,0,""]
[null,null,null,null,null,null,null,null,null,null,null,null,null,null,"X","X","X","X",{"$f":"VLOOKUP(P118,Lookup!A:B,2,FALSE)","v":"--"},{"$f":"VLOOKUP(Q118,Lookup!A:B,2,FALSE)","v":"--"},{"$f":"VLOOKUP(R118,Lookup!A:B,2,FALSE)","v":"--"},null,{"$f":"IF(E118&F118&G118&I118&K118&M118=\"\",\"\",IF(OR(H118=\"\",D118=\"\",AND(AC118=0,'Contents & 6mo Restriction'!$BE$1=FALSE)),1,0))","v":""},"",0,0,0,0,0,0,null,null,null,null,null,null,null,null,null,null,null,null,null,null,null,null,null,null,null,null,null,null,null,null,null,null,null,null,null,null,null,null,null,null,null,null,null,null,null,null,null,null,null,null,null,null,null,null,null,null,null,null,null,null,null,null,null,null,null,null,null,null,null,null,null,null,null,null,null,null,null,null,null,null,null,null,null,null,null,null,null,null,null,null,null,null,null,null,null,null,null,null,null,null,null,null,null,null,null,null,null,null,0,0,""]
[null,null,null,null,null,null,null,null,null,null,null,null,null,null,"X","X","X","X",{"$f":"VLOOKUP(P119,Lookup!A:B,2,FALSE)","v":"--"},{"$f":"VLOOKUP(Q119,Lookup!A:B,2,FALSE)","v":"--"},{"$f":"VLOOKUP(R119,Lookup!A:B,2,FALSE)","v":"--"},null,{"$f":"IF(E119&F119&G119&I119&K119&M119=\"\",\"\",IF(OR(H119=\"\",D119=\"\",AND(AC119=0,'Contents & 6mo Restriction'!$BE$1=FALSE)),1,0))","v":""},"",0,0,0,0,0,0,null,null,null,null,null,null,null,null,null,null,null,null,null,null,null,null,null,null,null,null,null,null,null,null,null,null,null,null,null,null,null,null,null,null,null,null,null,null,null,null,null,null,null,null,null,null,null,null,null,null,null,null,null,null,null,null,null,null,null,null,null,null,null,null,null,null,null,null,null,null,null,null,null,null,null,null,null,null,null,null,null,null,null,null,null,null,null,null,null,null,null,null,null,null,null,null,null,null,null,null,null,null,0,0,""]
[null,null,null,null,null,null,null,null,null,null,null,null,null,null,"X","X","X","X",{"$f":"VLOOKUP(P120,Lookup!A:B,2,FALSE)","v":"--"},{"$f":"VLOOKUP(Q120,Lookup!A:B,2,FALSE)","v":"--"},{"$f":"VLOOKUP(R120,Lookup!A:B,2,FALSE)","v":"--"},null,{"$f":"IF(E120&F120&G120&I120&K120&M120=\"\",\"\",IF(OR(H120=\"\",D120=\"\",AND(AC120=0,'Contents & 6mo Restriction'!$BE$1=FALSE)),1,0))","v":""},"",0,0,0,0,0,0,null,null,null,null,null,null,null,null,null,null,null,null,null,null,null,null,null,null,null,null,null,null,null,null,null,null,null,null,null,null,null,null,null,null,null,null,null,null,null,null,null,null,null,null,null,null,null,null,null,null,null,null,null,null,null,null,null,null,null,null,null,null,null,null,null,null,null,null,null,null,null,null,null,null,null,null,null,null,null,null,null,null,null,null,null,null,null,null,null,null,null,null,null,null,null,null,null,null,null,null,null,null,0,0,""]
[null,null,null,null,null,null,null,null,null,null,null,null,null,null,"X","X","X","X",{"$f":"VLOOKUP(P121,Lookup!A:B,2,FALSE)","v":"--"},{"$f":"VLOOKUP(Q121,Lookup!A:B,2,FALSE)","v":"--"},{"$f":"VLOOKUP(R121,Lookup!A:B,2,FALSE)","v":"--"},null,{"$f":"IF(E121&F121&G121&I121&K121&M121=\"\",\"\",IF(OR(H121=\"\",D121=\"\",AND(AC121=0,'Contents & 6mo Restriction'!$BE$1=FALSE)),1,0))","v":""},"",0,0,0,0,0,0,null,null,null,null,null,null,null,null,null,null,null,null,null,null,null,null,null,null,null,null,null,null,null,null,null,null,null,null,null,null,null,null,null,null,null,null,null,null,null,null,null,null,null,null,null,null,null,null,null,null,null,null,null,null,null,null,null,null,null,null,null,null,null,null,null,null,null,null,null,null,null,null,null,null,null,null,null,null,null,null,null,null,null,null,null,null,null,null,null,null,null,null,null,null,null,null,null,null,null,null,null,null,0,0,""]
[null,null,null,null,null,null,null,null,null,null,null,null,null,null,"X","X","X","X",{"$f":"VLOOKUP(P122,Lookup!A:B,2,FALSE)","v":"--"},{"$f":"VLOOKUP(Q122,Lookup!A:B,2,FALSE)","v":"--"},{"$f":"VLOOKUP(R122,Lookup!A:B,2,FALSE)","v":"--"},null,{"$f":"IF(E122&F122&G122&I122&K122&M122=\"\",\"\",IF(OR(H122=\"\",D122=\"\",AND(AC122=0,'Contents & 6mo Restriction'!$BE$1=FALSE)),1,0))","v":""},"",0,0,0,0,0,0,null,null,null,null,null,null,null,null,null,null,null,null,null,null,null,null,null,null,null,null,null,null,null,null,null,null,null,null,null,null,null,null,null,null,null,null,null,null,null,null,null,null,null,null,null,null,null,null,null,null,null,null,null,null,null,null,null,null,null,null,null,null,null,null,null,null,null,null,null,null,null,null,null,null,null,null,null,null,null,null,null,null,null,null,null,null,null,null,null,null,null,null,null,null,null,null,null,null,null,null,null,null,0,0,""]
[null,null,null,null,null,null,null,null,null,null,null,null,null,null,"X","X","X","X",{"$f":"VLOOKUP(P123,Lookup!A:B,2,FALSE)","v":"--"},{"$f":"VLOOKUP(Q123,Lookup!A:B,2,FALSE)","v":"--"},{"$f":"VLOOKUP(R123,Lookup!A:B,2,FALSE)","v":"--"},null,{"$f":"IF(E123&F123&G123&I123&K123&M123=\"\",\"\",IF(OR(H123=\"\",D123=\"\",AND(AC123=0,'Contents & 6mo Restriction'!$BE$1=FALSE)),1,0))","v":""},"",0,0,0,0,0,0,null,null,null,null,null,null,null,null,null,null,null,null,null,null,null,null,null,null,null,null,null,null,null,null,null,null,null,null,null,null,null,null,null,null,null,null,null,null,null,null,null,null,null,null,null,null,null,null,null,null,null,null,null,null,null,null,null,null,null,null,null,null,null,null,null,null,null,null,null,null,null,null,null,null,null,null,null,null,null,null,null,null,null,null,null,null,null,null,null,null,null,null,null,null,null,null,null,null,null,null,null,null,0,0,""]
[null,null,null,null,null,null,null,null,null,null,null,null,null,null,"X","X","X","X",{"$f":"VLOOKUP(P124,Lookup!A:B,2,FALSE)","v":"--"},{"$f":"VLOOKUP(Q124,Lookup!A:B,2,FALSE)","v":"--"},{"$f":"VLOOKUP(R124,Lookup!A:B,2,FALSE)","v":"--"},null,{"$f":"IF(E124&F124&G124&I124&K124&M124=\"\",\"\",IF(OR(H124=\"\",D124=\"\",AND(AC124=0,'Contents & 6mo Restriction'!$BE$1=FALSE)),1,0))","v":""},"",0,0,0,0,0,0,null,null,null,null,null,null,null,null,null,null,null,null,null,null,null,null,null,null,null,null,null,null,null,null,null,null,null,null,null,null,null,null,null,null,null,null,null,null,null,null,null,null,null,null,null,null,null,null,null,null,null,null,null,null,null,null,null,null,null,null,null,null,null,null,null,null,null,null,null,null,null,null,null,null,null,null,null,null,null,null,null,null,null,null,null,null,null,null,null,null,null,null,null,null,null,null,null,null,null,null,null,null,0,0,""]
[null,null,null,null,null,null,null,null,null,null,null,null,null,null,"X","X","X","X",{"$f":"VLOOKUP(P125,Lookup!A:B,2,FALSE)","v":"--"},{"$f":"VLOOKUP(Q125,Lookup!A:B,2,FALSE)","v":"--"},{"$f":"VLOOKUP(R125,Lookup!A:B,2,FALSE)","v":"--"},null,{"$f":"IF(E125&F125&G125&I125&K125&M125=\"\",\"\",IF(OR(H125=\"\",D125=\"\",AND(AC125=0,'Contents & 6mo Restriction'!$BE$1=FALSE)),1,0))","v":""},"",0,0,0,0,0,0,null,null,null,null,null,null,null,null,null,null,null,null,null,null,null,null,null,null,null,null,null,null,null,null,null,null,null,null,null,null,null,null,null,null,null,null,null,null,null,null,null,null,null,null,null,null,null,null,null,null,null,null,null,null,null,null,null,null,null,null,null,null,null,null,null,null,null,null,null,null,null,null,null,null,null,null,null,null,null,null,null,null,null,null,null,null,null,null,null,null,null,null,null,null,null,null,null,null,null,null,null,null,0,0,""]
[null,null,null,null,null,null,null,null,null,null,null,null,null,null,"X","X","X","X",{"$f":"VLOOKUP(P126,Lookup!A:B,2,FALSE)","v":"--"},{"$f":"VLOOKUP(Q126,Lookup!A:B,2,FALSE)","v":"--"},{"$f":"VLOOKUP(R126,Lookup!A:B,2,FALSE)","v":"--"},null,{"$f":"IF(E126&F126&G126&I126&K126&M126=\"\",\"\",IF(OR(H126=\"\",D126=\"\",AND(AC126=0,'Contents & 6mo Restriction'!$BE$1=FALSE)),1,0))","v":""},"",0,0,0,0,0,0,null,null,null,null,null,null,null,null,null,null,null,null,null,null,null,null,null,null,null,null,null,null,null,null,null,null,null,null,null,null,null,null,null,null,null,null,null,null,null,null,null,null,null,null,null,null,null,null,null,null,null,null,null,null,null,null,null,null,null,null,null,null,null,null,null,null,null,null,null,null,null,null,null,null,null,null,null,null,null,null,null,null,null,null,null,null,null,null,null,null,null,null,null,null,null,null,null,null,null,null,null,null,0,0,""]
[null,null,null,null,null,null,null,null,null,null,null,null,null,null,"X","X","X","X",{"$f":"VLOOKUP(P127,Lookup!A:B,2,FALSE)","v":"--"},{"$f":"VLOOKUP(Q127,Lookup!A:B,2,FALSE)","v":"--"},{"$f":"VLOOKUP(R127,Lookup!A:B,2,FALSE)","v":"--"},null,{"$f":"IF(E127&F127&G127&I127&K127&M127=\"\",\"\",IF(OR(H127=\"\",D127=\"\",AND(AC127=0,'Contents & 6mo Restriction'!$BE$1=FALSE)),1,0))","v":""},"",0,0,0,0,0,0,null,null,null,null,null,null,null,null,null,null,null,null,null,null,null,null,null,null,null,null,null,null,null,null,null,null,null,null,null,null,null,null,null,null,null,null,null,null,null,null,null,null,null,null,null,null,null,null,null,null,null,null,null,null,null,null,null,null,null,null,null,null,null,null,null,null,null,null,null,null,null,null,null,null,null,null,null,null,null,null,null,null,null,null,null,null,null,null,null,null,null,null,null,null,null,null,null,null,null,null,null,null,0,0,""]
[null,null,null,null,null,null,null,null,null,null,null,null,null,null,"X","X","X","X",{"$f":"VLOOKUP(P128,Lookup!A:B,2,FALSE)","v":"--"},{"$f":"VLOOKUP(Q128,Lookup!A:B,2,FALSE)","v":"--"},{"$f":"VLOOKUP(R128,Lookup!A:B,2,FALSE)","v":"--"},null,{"$f":"IF(E128&F128&G128&I128&K128&M128=\"\",\"\",IF(OR(H128=\"\",D128=\"\",AND(AC128=0,'Contents & 6mo Restriction'!$BE$1=FALSE)),1,0))","v":""},"",0,0,0,0,0,0,null,null,null,null,null,null,null,null,null,null,null,null,null,null,null,null,null,null,null,null,null,null,null,null,null,null,null,null,null,null,null,null,null,null,null,null,null,null,null,null,null,null,null,null,null,null,null,null,null,null,null,null,null,null,null,null,null,null,null,null,null,null,null,null,null,null,null,null,null,null,null,null,null,null,null,null,null,null,null,null,null,null,null,null,null,null,null,null,null,null,null,null,null,null,null,null,null,null,null,null,null,null,0,0,""]
[null,null,null,null,null,null,null,null,null,null,null,null,null,null,"X","X","X","X",{"$f":"VLOOKUP(P129,Lookup!A:B,2,FALSE)","v":"--"},{"$f":"VLOOKUP(Q129,Lookup!A:B,2,FALSE)","v":"--"},{"$f":"VLOOKUP(R129,Lookup!A:B,2,FALSE)","v":"--"},null,{"$f":"IF(E129&F129&G129&I129&K129&M129=\"\",\"\",IF(OR(H129=\"\",D129=\"\",AND(AC129=0,'Contents & 6mo Restriction'!$BE$1=FALSE)),1,0))","v":""},"",0,0,0,0,0,0,null,null,null,null,null,null,null,null,null,null,null,null,null,null,null,null,null,null,null,null,null,null,null,null,null,null,null,null,null,null,null,null,null,null,null,null,null,null,null,null,null,null,null,null,null,null,null,null,null,null,null,null,null,null,null,null,null,null,null,null,null,null,null,null,null,null,null,null,null,null,null,null,null,null,null,null,null,null,null,null,null,null,null,null,null,null,null,null,null,null,null,null,null,null,null,null,null,null,null,null,null,null,0,0,""]
[null,null,null,null,null,null,null,null,null,null,null,null,null,null,"X","X","X","X",{"$f":"VLOOKUP(P130,Lookup!A:B,2,FALSE)","v":"--"},{"$f":"VLOOKUP(Q130,Lookup!A:B,2,FALSE)","v":"--"},{"$f":"VLOOKUP(R130,Lookup!A:B,2,FALSE)","v":"--"},null,{"$f":"IF(E130&F130&G130&I130&K130&M130=\"\",\"\",IF(OR(H130=\"\",D130=\"\",AND(AC130=0,'Contents & 6mo Restriction'!$BE$1=FALSE)),1,0))","v":""},"",0,0,0,0,0,0,null,null,null,null,null,null,null,null,null,null,null,null,null,null,null,null,null,null,null,null,null,null,null,null,null,null,null,null,null,null,null,null,null,null,null,null,null,null,null,null,null,null,null,null,null,null,null,null,null,null,null,null,null,null,null,null,null,null,null,null,null,null,null,null,null,null,null,null,null,null,null,null,null,null,null,null,null,null,null,null,null,null,null,null,null,null,null,null,null,null,null,null,null,null,null,null,null,null,null,null,null,null,0,0,""]
[null,null,null,null,null,null,null,null,null,null,null,null,null,null,"X","X","X","X",{"$f":"VLOOKUP(P131,Lookup!A:B,2,FALSE)","v":"--"},{"$f":"VLOOKUP(Q131,Lookup!A:B,2,FALSE)","v":"--"},{"$f":"VLOOKUP(R131,Lookup!A:B,2,FALSE)","v":"--"},null,{"$f":"IF(E131&F131&G131&I131&K131&M131=\"\",\"\",IF(OR(H131=\"\",D131=\"\",AND(AC131=0,'Contents & 6mo Restriction'!$BE$1=FALSE)),1,0))","v":""},"",0,0,0,0,0,0,null,null,null,null,null,null,null,null,null,null,null,null,null,null,null,null,null,null,null,null,null,null,null,null,null,null,null,null,null,null,null,null,null,null,null,null,null,null,null,null,null,null,null,null,null,null,null,null,null,null,null,null,null,null,null,null,null,null,null,null,null,null,null,null,null,null,null,null,null,null,null,null,null,null,null,null,null,null,null,null,null,null,null,null,null,null,null,null,null,null,null,null,null,null,null,null,null,null,null,null,null,null,0,0,""]
[null,null,null,null,null,null,null,null,null,null,null,null,null,null,"X",{"$f":"CONCATENATE(E132,I132,J132,O132)","v":"X"},{"$f":"CONCATENATE(F132,K132,L132,O132)","v":"X"},{"$f":"CONCATENATE(G132,M132,N132,O132)","v":"X"},{"$f":"VLOOKUP(P132,Lookup!A:B,2,FALSE)","v":"--"},{"$f":"VLOOKUP(Q132,Lookup!A:B,2,FALSE)","v":"--"},{"$f":"VLOOKUP(R132,Lookup!A:B,2,FALSE)","v":"--"},null,{"$f":"IF(E132&F132&G132&I132&K132&M132=\"\",\"\",IF(OR(H132=\"\",D132=\"\",AND(AC132=0,'Contents & 6mo Restriction'!$BE$1=FALSE)),1,0))","v":""},"",0,0,0,0,0,0,null,null,null,null,null,null,null,null,null,null,null,null,null,null,null,null,null,null,null,null,null,null,null,null,null,null,null,null,null,null,null,null,null,null,null,null,null,null,null,null,null,null,null,null,null,null,null,null,null,null,null,null,null,null,null,null,null,null,null,null,null,null,null,null,null,null,null,null,null,null,null,null,null,null,null,null,null,null,null,null,null,null,null,null,null,null,null,null,null,null,null,null,null,null,null,null,null,null,null,null,null,null,0,0,""]
[null,null,null,null,null,null,null,null,null,null,null,null,null,null,"X","X","X","X",{"$f":"VLOOKUP(P133,Lookup!A:B,2,FALSE)","v":"--"},{"$f":"VLOOKUP(Q133,Lookup!A:B,2,FALSE)","v":"--"},{"$f":"VLOOKUP(R133,Lookup!A:B,2,FALSE)","v":"--"},null,{"$f":"IF(E133&F133&G133&I133&K133&M133=\"\",\"\",IF(OR(H133=\"\",D133=\"\",AND(AC133=0,'Contents & 6mo Restriction'!$BE$1=FALSE)),1,0))","v":""},"",0,0,0,0,0,0,null,null,null,null,null,null,null,null,null,null,null,null,null,null,null,null,null,null,null,null,null,null,null,null,null,null,null,null,null,null,null,null,null,null,null,null,null,null,null,null,null,null,null,null,null,null,null,null,null,null,null,null,null,null,null,null,null,null,null,null,null,null,null,null,null,null,null,null,null,null,null,null,null,null,null,null,null,null,null,null,null,null,null,null,null,null,null,null,null,null,null,null,null,null,null,null,null,null,null,null,null,null,0,0,""]
[null,null,null,null,null,null,null,null,null,null,null,null,null,null,"X","X","X","X",{"$f":"VLOOKUP(P134,Lookup!A:B,2,FALSE)","v":"--"},{"$f":"VLOOKUP(Q134,Lookup!A:B,2,FALSE)","v":"--"},{"$f":"VLOOKUP(R134,Lookup!A:B,2,FALSE)","v":"--"},null,{"$f":"IF(E134&F134&G134&I134&K134&M134=\"\",\"\",IF(OR(H134=\"\",D134=\"\",AND(AC134=0,'Contents & 6mo Restriction'!$BE$1=FALSE)),1,0))","v":""},"",0,0,0,0,0,0,null,null,null,null,null,null,null,null,null,null,null,null,null,null,null,null,null,null,null,null,null,null,null,null,null,null,null,null,null,null,null,null,null,null,null,null,null,null,null,null,null,null,null,null,null,null,null,null,null,null,null,null,null,null,null,null,null,null,null,null,null,null,null,null,null,null,null,null,null,null,null,null,null,null,null,null,null,null,null,null,null,null,null,null,null,null,null,null,null,null,null,null,null,null,null,null,null,null,null,null,null,null,0,0,""]
[null,null,null,null,null,null,null,null,null,null,null,null,null,null,"X","X","X","X",{"$f":"VLOOKUP(P135,Lookup!A:B,2,FALSE)","v":"--"},{"$f":"VLOOKUP(Q135,Lookup!A:B,2,FALSE)","v":"--"},{"$f":"VLOOKUP(R135,Lookup!A:B,2,FALSE)","v":"--"},null,{"$f":"IF(E135&F135&G135&I135&K135&M135=\"\",\"\",IF(OR(H135=\"\",D135=\"\",AND(AC135=0,'Contents & 6mo Restriction'!$BE$1=FALSE)),1,0))","v":""},"",0,0,0,0,0,0,null,null,null,null,null,null,null,null,null,null,null,null,null,null,null,null,null,null,null,null,null,null,null,null,null,null,null,null,null,null,null,null,null,null,null,null,null,null,null,null,null,null,null,null,null,null,null,null,null,null,null,null,null,null,null,null,null,null,null,null,null,null,null,null,null,null,null,null,null,null,null,null,null,null,null,null,null,null,null,null,null,null,null,null,null,null,null,null,null,null,null,null,null,null,null,null,null,null,null,null,null,null,0,0,""]
[null,null,null,null,null,null,null,null,null,null,null,null,null,null,"X","X","X","X",{"$f":"VLOOKUP(P136,Lookup!A:B,2,FALSE)","v":"--"},{"$f":"VLOOKUP(Q136,Lookup!A:B,2,FALSE)","v":"--"},{"$f":"VLOOKUP(R136,Lookup!A:B,2,FALSE)","v":"--"},null,{"$f":"IF(E136&F136&G136&I136&K136&M136=\"\",\"\",IF(OR(H136=\"\",D136=\"\",AND(AC136=0,'Contents & 6mo Restriction'!$BE$1=FALSE)),1,0))","v":""},"",0,0,0,0,0,0,null,null,null,null,null,null,null,null,null,null,null,null,null,null,null,null,null,null,null,null,null,null,null,null,null,null,null,null,null,null,null,null,null,null,null,null,null,null,null,null,null,null,null,null,null,null,null,null,null,null,null,null,null,null,null,null,null,null,null,null,null,null,null,null,null,null,null,null,null,null,null,null,null,null,null,null,null,null,null,null,null,null,null,null,null,null,null,null,null,null,null,null,null,null,null,null,null,null,null,null,null,null,0,0,""]
[null,null,null,null,null,null,null,null,null,null,null,null,null,null,"X","X","X","X",{"$f":"VLOOKUP(P137,Lookup!A:B,2,FALSE)","v":"--"},{"$f":"VLOOKUP(Q137,Lookup!A:B,2,FALSE)","v":"--"},{"$f":"VLOOKUP(R137,Lookup!A:B,2,FALSE)","v":"--"},null,{"$f":"IF(E137&F137&G137&I137&K137&M137=\"\",\"\",IF(OR(H137=\"\",D137=\"\",AND(AC137=0,'Contents & 6mo Restriction'!$BE$1=FALSE)),1,0))","v":""},"",0,0,0,0,0,0,null,null,null,null,null,null,null,null,null,null,null,null,null,null,null,null,null,null,null,null,null,null,null,null,null,null,null,null,null,null,null,null,null,null,null,null,null,null,null,null,null,null,null,null,null,null,null,null,null,null,null,null,null,null,null,null,null,null,null,null,null,null,null,null,null,null,null,null,null,null,null,null,null,null,null,null,null,null,null,null,null,null,null,null,null,null,null,null,null,null,null,null,null,null,null,null,null,null,null,null,null,null,0,0,""]
[null,null,null,null,null,null,null,null,null,null,null,null,null,null,"X","X","X","X",{"$f":"VLOOKUP(P138,Lookup!A:B,2,FALSE)","v":"--"},{"$f":"VLOOKUP(Q138,Lookup!A:B,2,FALSE)","v":"--"},{"$f":"VLOOKUP(R138,Lookup!A:B,2,FALSE)","v":"--"},null,{"$f":"IF(E138&F138&G138&I138&K138&M138=\"\",\"\",IF(OR(H138=\"\",D138=\"\",AND(AC138=0,'Contents & 6mo Restriction'!$BE$1=FALSE)),1,0))","v":""},"",0,0,0,0,0,0,null,null,null,null,null,null,null,null,null,null,null,null,null,null,null,null,null,null,null,null,null,null,null,null,null,null,null,null,null,null,null,null,null,null,null,null,null,null,null,null,null,null,null,null,null,null,null,null,null,null,null,null,null,null,null,null,null,null,null,null,null,null,null,null,null,null,null,null,null,null,null,null,null,null,null,null,null,null,null,null,null,null,null,null,null,null,null,null,null,null,null,null,null,null,null,null,null,null,null,null,null,null,0,0,""]
[null,null,null,null,null,null,null,null,null,null,null,null,null,null,"X","X","X","X",{"$f":"VLOOKUP(P139,Lookup!A:B,2,FALSE)","v":"--"},{"$f":"VLOOKUP(Q139,Lookup!A:B,2,FALSE)","v":"--"},{"$f":"VLOOKUP(R139,Lookup!A:B,2,FALSE)","v":"--"},null,{"$f":"IF(E139&F139&G139&I139&K139&M139=\"\",\"\",IF(OR(H139=\"\",D139=\"\",AND(AC139=0,'Contents & 6mo Restriction'!$BE$1=FALSE)),1,0))","v":""},"",0,0,0,0,0,0,null,null,null,null,null,null,null,null,null,null,null,null,null,null,null,null,null,null,null,null,null,null,null,null,null,null,null,null,null,null,null,null,null,null,null,null,null,null,null,null,null,null,null,null,null,null,null,null,null,null,null,null,null,null,null,null,null,null,null,null,null,null,null,null,null,null,null,null,null,null,null,null,null,null,null,null,null,null,null,null,null,null,null,null,null,null,null,null,null,null,null,null,null,null,null,null,null,null,null,null,null,null,0,0,""]
[null,null,null,null,null,null,null,null,null,null,null,null,null,null,"X","X","X","X",{"$f":"VLOOKUP(P140,Lookup!A:B,2,FALSE)","v":"--"},{"$f":"VLOOKUP(Q140,Lookup!A:B,2,FALSE)","v":"--"},{"$f":"VLOOKUP(R140,Lookup!A:B,2,FALSE)","v":"--"},null,{"$f":"IF(E140&F140&G140&I140&K140&M140=\"\",\"\",IF(OR(H140=\"\",D140=\"\",AND(AC140=0,'Contents & 6mo Restriction'!$BE$1=FALSE)),1,0))","v":""},"",0,0,0,0,0,0,null,null,null,null,null,null,null,null,null,null,null,null,null,null,null,null,null,null,null,null,null,null,null,null,null,null,null,null,null,null,null,null,null,null,null,null,null,null,null,null,null,null,null,null,null,null,null,null,null,null,null,null,null,null,null,null,null,null,null,null,null,null,null,null,null,null,null,null,null,null,null,null,null,null,null,null,null,null,null,null,null,null,null,null,null,null,null,null,null,null,null,null,null,null,null,null,null,null,null,null,null,null,0,0,""]
[null,null,null,null,null,null,null,null,null,null,null,null,null,null,"X","X","X","X",{"$f":"VLOOKUP(P141,Lookup!A:B,2,FALSE)","v":"--"},{"$f":"VLOOKUP(Q141,Lookup!A:B,2,FALSE)","v":"--"},{"$f":"VLOOKUP(R141,Lookup!A:B,2,FALSE)","v":"--"},null,{"$f":"IF(E141&F141&G141&I141&K141&M141=\"\",\"\",IF(OR(H141=\"\",D141=\"\",AND(AC141=0,'Contents & 6mo Restriction'!$BE$1=FALSE)),1,0))","v":""},"",0,0,0,0,0,0,null,null,null,null,null,null,null,null,null,null,null,null,null,null,null,null,null,null,null,null,null,null,null,null,null,null,null,null,null,null,null,null,null,null,null,null,null,null,null,null,null,null,null,null,null,null,null,null,null,null,null,null,null,null,null,null,null,null,null,null,null,null,null,null,null,null,null,null,null,null,null,null,null,null,null,null,null,null,null,null,null,null,null,null,null,null,null,null,null,null,null,null,null,null,null,null,null,null,null,null,null,null,0,0,""]
[null,null,null,null,null,null,null,null,null,null,null,null,null,null,"X","X","X","X",{"$f":"VLOOKUP(P142,Lookup!A:B,2,FALSE)","v":"--"},{"$f":"VLOOKUP(Q142,Lookup!A:B,2,FALSE)","v":"--"},{"$f":"VLOOKUP(R142,Lookup!A:B,2,FALSE)","v":"--"},null,{"$f":"IF(E142&F142&G142&I142&K142&M142=\"\",\"\",IF(OR(H142=\"\",D142=\"\",AND(AC142=0,'Contents & 6mo Restriction'!$BE$1=FALSE)),1,0))","v":""},"",0,0,0,0,0,0,null,null,null,null,null,null,null,null,null,null,null,null,null,null,null,null,null,null,null,null,null,null,null,null,null,null,null,null,null,null,null,null,null,null,null,null,null,null,null,null,null,null,null,null,null,null,null,null,null,null,null,null,null,null,null,null,null,null,null,null,null,null,null,null,null,null,null,null,null,null,null,null,null,null,null,null,null,null,null,null,null,null,null,null,null,null,null,null,null,null,null,null,null,null,null,null,null,null,null,null,null,null,0,0,""]
[null,null,null,null,null,null,null,null,null,null,null,null,null,null,"X","X","X","X",{"$f":"VLOOKUP(P143,Lookup!A:B,2,FALSE)","v":"--"},{"$f":"VLOOKUP(Q143,Lookup!A:B,2,FALSE)","v":"--"},{"$f":"VLOOKUP(R143,Lookup!A:B,2,FALSE)","v":"--"},null,{"$f":"IF(E143&F143&G143&I143&K143&M143=\"\",\"\",IF(OR(H143=\"\",D143=\"\",AND(AC143=0,'Contents & 6mo Restriction'!$BE$1=FALSE)),1,0))","v":""},"",0,0,0,0,0,0,null,null,null,null,null,null,null,null,null,null,null,null,null,null,null,null,null,null,null,null,null,null,null,null,null,null,null,null,null,null,null,null,null,null,null,null,null,null,null,null,null,null,null,null,null,null,null,null,null,null,null,null,null,null,null,null,null,null,null,null,null,null,null,null,null,null,null,null,null,null,null,null,null,null,null,null,null,null,null,null,null,null,null,null,null,null,null,null,null,null,null,null,null,null,null,null,null,null,null,null,null,null,0,0,""]
[null,null,null,null,null,null,null,null,null,null,null,null,null,null,"X","X","X","X",{"$f":"VLOOKUP(P144,Lookup!A:B,2,FALSE)","v":"--"},{"$f":"VLOOKUP(Q144,Lookup!A:B,2,FALSE)","v":"--"},{"$f":"VLOOKUP(R144,Lookup!A:B,2,FALSE)","v":"--"},null,{"$f":"IF(E144&F144&G144&I144&K144&M144=\"\",\"\",IF(OR(H144=\"\",D144=\"\",AND(AC144=0,'Contents & 6mo Restriction'!$BE$1=FALSE)),1,0))","v":""},"",0,0,0,0,0,0,null,null,null,null,null,null,null,null,null,null,null,null,null,null,null,null,null,null,null,null,null,null,null,null,null,null,null,null,null,null,null,null,null,null,null,null,null,null,null,null,null,null,null,null,null,null,null,null,null,null,null,null,null,null,null,null,null,null,null,null,null,null,null,null,null,null,null,null,null,null,null,null,null,null,null,null,null,null,null,null,null,null,null,null,null,null,null,null,null,null,null,null,null,null,null,null,null,null,null,null,null,null,0,0,""]
[null,null,null,null,null,null,null,null,null,null,null,null,null,null,"X","X","X","X",{"$f":"VLOOKUP(P145,Lookup!A:B,2,FALSE)","v":"--"},{"$f":"VLOOKUP(Q145,Lookup!A:B,2,FALSE)","v":"--"},{"$f":"VLOOKUP(R145,Lookup!A:B,2,FALSE)","v":"--"},null,{"$f":"IF(E145&F145&G145&I145&K145&M145=\"\",\"\",IF(OR(H145=\"\",D145=\"\",AND(AC145=0,'Contents & 6mo Restriction'!$BE$1=FALSE)),1,0))","v":""},"",0,0,0,0,0,0,null,null,null,null,null,null,null,null,null,null,null,null,null,null,null,null,null,null,null,null,null,null,null,null,null,null,null,null,null,null,null,null,null,null,null,null,null,null,null,null,null,null,null,null,null,null,null,null,null,null,null,null,null,null,null,null,null,null,null,null,null,null,null,null,null,null,null,null,null,null,null,null,null,null,null,null,null,null,null,null,null,null,null,null,null,null,null,null,null,null,null,null,null,null,null,null,null,null,null,null,null,null,0,0,""]
[null,null,null,null,null,null,null,null,null,null,null,null,null,null,"X","X","X","X",{"$f":"VLOOKUP(P146,Lookup!A:B,2,FALSE)","v":"--"},{"$f":"VLOOKUP(Q146,Lookup!A:B,2,FALSE)","v":"--"},{"$f":"VLOOKUP(R146,Lookup!A:B,2,FALSE)","v":"--"},null,{"$f":"IF(E146&F146&G146&I146&K146&M146=\"\",\"\",IF(OR(H146=\"\",D146=\"\",AND(AC146=0,'Contents & 6mo Restriction'!$BE$1=FALSE)),1,0))","v":""},"",0,0,0,0,0,0,null,null,null,null,null,null,null,null,null,null,null,null,null,null,null,null,null,null,null,null,null,null,null,null,null,null,null,null,null,null,null,null,null,null,null,null,null,null,null,null,null,null,null,null,null,null,null,null,null,null,null,null,null,null,null,null,null,null,null,null,null,null,null,null,null,null,null,null,null,null,null,null,null,null,null,null,null,null,null,null,null,null,null,null,null,null,null,null,null,null,null,null,null,null,null,null,null,null,null,null,null,null,0,0,""]
[null,null,null,null,null,null,null,null,null,null,null,null,null,null,"X","X","X","X",{"$f":"VLOOKUP(P147,Lookup!A:B,2,FALSE)","v":"--"},{"$f":"VLOOKUP(Q147,Lookup!A:B,2,FALSE)","v":"--"},{"$f":"VLOOKUP(R147,Lookup!A:B,2,FALSE)","v":"--"},null,{"$f":"IF(E147&F147&G147&I147&K147&M147=\"\",\"\",IF(OR(H147=\"\",D147=\"\",AND(AC147=0,'Contents & 6mo Restriction'!$BE$1=FALSE)),1,0))","v":""},"",0,0,0,0,0,0,null,null,null,null,null,null,null,null,null,null,null,null,null,null,null,null,null,null,null,null,null,null,null,null,null,null,null,null,null,null,null,null,null,null,null,null,null,null,null,null,null,null,null,null,null,null,null,null,null,null,null,null,null,null,null,null,null,null,null,null,null,null,null,null,null,null,null,null,null,null,null,null,null,null,null,null,null,null,null,null,null,null,null,null,null,null,null,null,null,null,null,null,null,null,null,null,null,null,null,null,null,null,0,0,""]
[null,null,null,null,null,null,null,null,null,null,null,null,null,null,"X","X","X","X",{"$f":"VLOOKUP(P148,Lookup!A:B,2,FALSE)","v":"--"},{"$f":"VLOOKUP(Q148,Lookup!A:B,2,FALSE)","v":"--"},{"$f":"VLOOKUP(R148,Lookup!A:B,2,FALSE)","v":"--"},null,{"$f":"IF(E148&F148&G148&I148&K148&M148=\"\",\"\",IF(OR(H148=\"\",D148=\"\",AND(AC148=0,'Contents & 6mo Restriction'!$BE$1=FALSE)),1,0))","v":""},"",0,0,0,0,0,0,null,null,null,null,null,null,null,null,null,null,null,null,null,null,null,null,null,null,null,null,null,null,null,null,null,null,null,null,null,null,null,null,null,null,null,null,null,null,null,null,null,null,null,null,null,null,null,null,null,null,null,null,null,null,null,null,null,null,null,null,null,null,null,null,null,null,null,null,null,null,null,null,null,null,null,null,null,null,null,null,null,null,null,null,null,null,null,null,null,null,null,null,null,null,null,null,null,null,null,null,null,null,0,0,""]
[null,null,null,null,null,null,null,null,null,null,null,null,null,null,"X","X","X","X",{"$f":"VLOOKUP(P149,Lookup!A:B,2,FALSE)","v":"--"},{"$f":"VLOOKUP(Q149,Lookup!A:B,2,FALSE)","v":"--"},{"$f":"VLOOKUP(R149,Lookup!A:B,2,FALSE)","v":"--"},null,{"$f":"IF(E149&F149&G149&I149&K149&M149=\"\",\"\",IF(OR(H149=\"\",D149=\"\",AND(AC149=0,'Contents & 6mo Restriction'!$BE$1=FALSE)),1,0))","v":""},"",0,0,0,0,0,0,null,null,null,null,null,null,null,null,null,null,null,null,null,null,null,null,null,null,null,null,null,null,null,null,null,null,null,null,null,null,null,null,null,null,null,null,null,null,null,null,null,null,null,null,null,null,null,null,null,null,null,null,null,null,null,null,null,null,null,null,null,null,null,null,null,null,null,null,null,null,null,null,null,null,null,null,null,null,null,null,null,null,null,null,null,null,null,null,null,null,null,null,null,null,null,null,null,null,null,null,null,null,0,{"$f":"IF(ISERROR(FIND(\"progress\",S149&T149&U149)),0,1)","v":0},""]
[null,null,null,null,null,null,null,null,null,null,null,null,null,null,"X","X","X","X",{"$f":"VLOOKUP(P150,Lookup!A:B,2,FALSE)","v":"--"},{"$f":"VLOOKUP(Q150,Lookup!A:B,2,FALSE)","v":"--"},{"$f":"VLOOKUP(R150,Lookup!A:B,2,FALSE)","v":"--"},null,{"$f":"IF(E150&F150&G150&I150&K150&M150=\"\",\"\",IF(OR(H150=\"\",D150=\"\",AND(AC150=0,'Contents & 6mo Restriction'!$BE$1=FALSE)),1,0))","v":""},{"$f":"IF(CONCATENATE(B150,C150,E150,F150,G150)=\"\",\"\",1)","v":""},{"$f":"IF(AND(W150=0,OR(S150=\"a\",S150=\"b\",S150=\"c\",S150=\"d\",S150=\"e\",T150=\"a\",T150=\"b\",T150=\"c\",T150=\"d\",T150=\"e\",U150=\"a\",U150=\"b\",U150=\"c\",U150=\"d\",U150=\"e\")),1,0)","v":0},{"$f":"IF(AND(OR(S150=\"a\",S150=\"b\",S150=\"c\",S150=\"d\",S150=\"e\"),OR(T150=\"a\",T150=\"b\",T150=\"c\",T150=\"d\",T150=\"e\"),OR(U150=\"a\",U150=\"b\",U150=\"c\",U150=\"d\",U150=\"e\"),W150=0),1,0)","v":0},{"$f":"IF(SUM(AB150:AD150)>0,1,0)","v":0},{"$f":"IF(H150>=DATE(YEAR(D150),MONTH(D150)+6,DAY(D150)),1,0)","v":0},{"$f":"IF(H150-D150>=182,1,0)","v":0},{"$f":"IF(OR(AND(MONTH(D150)=8,DAY(D150)=30,H150-D150>=182),AND(MONTH(D150)=8,DAY(D150)=31,H150-D150>=181),AND(MONTH(D150)=10,DAY(D150)=31,H150-D150>=181),AND(MONTH(D150)=12,DAY(D150)=31,H150-D150>=181)),1,0)","v":0},null,null,null,null,null,null,null,null,null,null,null,null,null,null,null,null,null,null,null,null,null,null,null,null,null,null,null,null,null,null,null,null,null,null,null,null,null,null,null,null,null,null,null,null,null,null,null,null,null,null,null,null,null,null,null,null,null,null,null,null,null,null,null,null,null,null,null,null,null,null,null,null,null,null,null,null,null,null,null,null,null,null,null,null,null,null,null,null,null,null,null,null,null,null,null,null,null,null,null,null,null,null,0,0,{"$f":"IFERROR(W150,\"Please enter valid dates\")","v":""}]
[null,null,null,null,null,null,null,null,null,null,null,null,null,null,"X","X","X","X",{"$f":"VLOOKUP(P151,Lookup!A:B,2,FALSE)","v":"--"},{"$f":"VLOOKUP(Q151,Lookup!A:B,2,FALSE)","v":"--"},{"$f":"VLOOKUP(R151,Lookup!A:B,2,FALSE)","v":"--"},null,{"$f":"IF(E151&F151&G151&I151&K151&M151=\"\",\"\",IF(OR(H151=\"\",D151=\"\",AND(AC151=0,'Contents & 6mo Restriction'!$BE$1=FALSE)),1,0))","v":""},"",0,0,0,0,0,0,null,null,null,null,null,null,null,null,null,null,null,null,null,null,null,null,null,null,null,null,null,null,null,null,null,null,null,null,null,null,null,null,null,null,null,null,null,null,null,null,null,null,null,null,null,null,null,null,null,null,null,null,null,null,null,null,null,null,null,null,null,null,null,null,null,null,null,null,null,null,null,null,null,null,null,null,null,null,null,null,null,null,null,null,null,null,null,null,null,null,null,null,null,null,null,null,null,null,null,null,null,null,0,0,""]
[null,null,null,null,null,null,null,null,null,null,null,null,null,null,"X","X","X","X",{"$f":"VLOOKUP(P152,Lookup!A:B,2,FALSE)","v":"--"},{"$f":"VLOOKUP(Q152,Lookup!A:B,2,FALSE)","v":"--"},{"$f":"VLOOKUP(R152,Lookup!A:B,2,FALSE)","v":"--"},null,{"$f":"IF(E152&F152&G152&I152&K152&M152=\"\",\"\",IF(OR(H152=\"\",D152=\"\",AND(AC152=0,'Contents & 6mo Restriction'!$BE$1=FALSE)),1,0))","v":""},"",0,0,0,0,0,0,null,null,null,null,null,null,null,null,null,null,null,null,null,null,null,null,null,null,null,null,null,null,null,null,null,null,null,null,null,null,null,null,null,null,null,null,null,null,null,null,null,null,null,null,null,null,null,null,null,null,null,null,null,null,null,null,null,null,null,null,null,null,null,null,null,null,null,null,null,null,null,null,null,null,null,null,null,null,null,null,null,null,null,null,null,null,null,null,null,null,null,null,null,null,null,null,null,null,null,null,null,null,0,0,""]
[null,null,null,null,null,null,null,null,null,null,null,null,null,null,"X","X","X","X",{"$f":"VLOOKUP(P153,Lookup!A:B,2,FALSE)","v":"--"},{"$f":"VLOOKUP(Q153,Lookup!A:B,2,FALSE)","v":"--"},{"$f":"VLOOKUP(R153,Lookup!A:B,2,FALSE)","v":"--"},null,{"$f":"IF(E153&F153&G153&I153&K153&M153=\"\",\"\",IF(OR(H153=\"\",D153=\"\",AND(AC153=0,'Contents & 6mo Restriction'!$BE$1=FALSE)),1,0))","v":""},"",0,0,0,0,0,0,null,null,null,null,null,null,null,null,null,null,null,null,null,null,null,null,null,null,null,null,null,null,null,null,null,null,null,null,null,null,null,null,null,null,null,null,null,null,null,null,null,null,null,null,null,null,null,null,null,null,null,null,null,null,null,null,null,null,null,null,null,null,null,null,null,null,null,null,null,null,null,null,null,null,null,null,null,null,null,null,null,null,null,null,null,null,null,null,null,null,null,null,null,null,null,null,null,null,null,null,null,null,0,0,""]
[null,null,null,null,null,null,null,null,null,null,null,null,null,null,"X","X","X","X",{"$f":"VLOOKUP(P154,Lookup!A:B,2,FALSE)","v":"--"},{"$f":"VLOOKUP(Q154,Lookup!A:B,2,FALSE)","v":"--"},{"$f":"VLOOKUP(R154,Lookup!A:B,2,FALSE)","v":"--"},null,{"$f":"IF(E154&F154&G154&I154&K154&M154=\"\",\"\",IF(OR(H154=\"\",D154=\"\",AND(AC154=0,'Contents & 6mo Restriction'!$BE$1=FALSE)),1,0))","v":""},"",0,0,0,0,0,0,null,null,null,null,null,null,null,null,null,null,null,null,null,null,null,null,null,null,null,null,null,null,null,null,null,null,null,null,null,null,null,null,null,null,null,null,null,null,null,null,null,null,null,null,null,null,null,null,null,null,null,null,null,null,null,null,null,null,null,null,null,null,null,null,null,null,null,null,null,null,null,null,null,null,null,null,null,null,null,null,null,null,null,null,null,null,null,null,null,null,null,null,null,null,null,null,null,null,null,null,null,null,{"$f":"IF(ISERROR(FIND(\"Impossible\",S154&T154&U154)),0,1)","v":0},0,""]
[null,null,null,null,null,null,null,null,null,null,null,null,null,null,"X","X","X","X",{"$f":"VLOOKUP(P155,Lookup!A:B,2,FALSE)","v":"--"},{"$f":"VLOOKUP(Q155,Lookup!A:B,2,FALSE)","v":"--"},{"$f":"VLOOKUP(R155,Lookup!A:B,2,FALSE)","v":"--"},null,{"$f":"IF(E155&F155&G155&I155&K155&M155=\"\",\"\",IF(OR(H155=\"\",D155=\"\",AND(AC155=0,'Contents & 6mo Restriction'!$BE$1=FALSE)),1,0))","v":""},"",0,0,0,0,0,0,null,null,null,null,null,null,null,null,null,null,null,null,null,null,null,null,null,null,null,null,null,null,null,null,null,null,null,null,null,null,null,null,null,null,null,null,null,null,null,null,null,null,null,null,null,null,null,null,null,null,null,null,null,null,null,null,null,null,null,null,null,null,null,null,null,null,null,null,null,null,null,null,null,null,null,null,null,null,null,null,null,null,null,null,null,null,null,null,null,null,null,null,null,null,null,null,null,null,null,null,null,null,0,0,""]
[null,null,null,null,null,null,null,null,null,null,null,null,null,null,"X","X","X","X",{"$f":"VLOOKUP(P156,Lookup!A:B,2,FALSE)","v":"--"},{"$f":"VLOOKUP(Q156,Lookup!A:B,2,FALSE)","v":"--"},{"$f":"VLOOKUP(R156,Lookup!A:B,2,FALSE)","v":"--"},null,{"$f":"IF(E156&F156&G156&I156&K156&M156=\"\",\"\",IF(OR(H156=\"\",D156=\"\",AND(AC156=0,'Contents & 6mo Restriction'!$BE$1=FALSE)),1,0))","v":""},"",0,0,0,0,0,0,null,null,null,null,null,null,null,null,null,null,null,null,null,null,null,null,null,null,null,null,null,null,null,null,null,null,null,null,null,null,null,null,null,null,null,null,null,null,null,null,null,null,null,null,null,null,null,null,null,null,null,null,null,null,null,null,null,null,null,null,null,null,null,null,null,null,null,null,null,null,null,null,null,null,null,null,null,null,null,null,null,null,null,null,null,null,null,null,null,null,null,null,null,null,null,null,null,null,null,null,null,null,0,0,""]
[null,null,null,null,null,null,null,null,null,null,null,null,null,null,"X","X","X","X",{"$f":"VLOOKUP(P157,Lookup!A:B,2,FALSE)","v":"--"},{"$f":"VLOOKUP(Q157,Lookup!A:B,2,FALSE)","v":"--"},{"$f":"VLOOKUP(R157,Lookup!A:B,2,FALSE)","v":"--"},null,{"$f":"IF(E157&F157&G157&I157&K157&M157=\"\",\"\",IF(OR(H157=\"\",D157=\"\",AND(AC157=0,'Contents & 6mo Restriction'!$BE$1=FALSE)),1,0))","v":""},"",0,0,0,0,0,0,null,null,null,null,null,null,null,null,null,null,null,null,null,null,null,null,null,null,null,null,null,null,null,null,null,null,null,null,null,null,null,null,null,null,null,null,null,null,null,null,null,null,null,null,null,null,null,null,null,null,null,null,null,null,null,null,null,null,null,null,null,null,null,null,null,null,null,null,null,null,null,null,null,null,null,null,null,null,null,null,null,null,null,null,null,null,null,null,null,null,null,null,null,null,null,null,null,null,null,null,null,null,0,0,""]
[null,null,null,null,null,null,null,null,null,null,null,null,null,null,"X","X","X","X",{"$f":"VLOOKUP(P158,Lookup!A:B,2,FALSE)","v":"--"},{"$f":"VLOOKUP(Q158,Lookup!A:B,2,FALSE)","v":"--"},{"$f":"VLOOKUP(R158,Lookup!A:B,2,FALSE)","v":"--"},null,{"$f":"IF(E158&F158&G158&I158&K158&M158=\"\",\"\",IF(OR(H158=\"\",D158=\"\",AND(AC158=0,'Contents & 6mo Restriction'!$BE$1=FALSE)),1,0))","v":""},"",0,0,0,0,0,0,null,null,null,null,null,null,null,null,null,null,null,null,null,null,null,null,null,null,null,null,null,null,null,null,null,null,null,null,null,null,null,null,null,null,null,null,null,null,null,null,null,null,null,null,null,null,null,null,null,null,null,null,null,null,null,null,null,null,null,null,null,null,null,null,null,null,null,null,null,null,null,null,null,null,null,null,null,null,null,null,null,null,null,null,null,null,null,null,null,null,null,null,null,null,null,null,null,null,null,null,null,null,0,0,""]
[null,null,null,null,null,null,null,null,null,null,null,null,null,null,"X","X","X","X",{"$f":"VLOOKUP(P159,Lookup!A:B,2,FALSE)","v":"--"},{"$f":"VLOOKUP(Q159,Lookup!A:B,2,FALSE)","v":"--"},{"$f":"VLOOKUP(R159,Lookup!A:B,2,FALSE)","v":"--"},null,{"$f":"IF(E159&F159&G159&I159&K159&M159=\"\",\"\",IF(OR(H159=\"\",D159=\"\",AND(AC159=0,'Contents & 6mo Restriction'!$BE$1=FALSE)),1,0))","v":""},"",0,0,0,0,0,0,null,null,null,null,null,null,null,null,null,null,null,null,null,null,null,null,null,null,null,null,null,null,null,null,null,null,null,null,null,null,null,null,null,null,null,null,null,null,null,null,null,null,null,null,null,null,null,null,null,null,null,null,null,null,null,null,null,null,null,null,null,null,null,null,null,null,null,null,null,null,null,null,null,null,null,null,null,null,null,null,null,null,null,null,null,null,null,null,null,null,null,null,null,null,null,null,null,null,null,null,null,null,0,0,""]
[null,null,null,null,null,null,null,null,null,null,null,null,null,null,"X","X","X","X",{"$f":"VLOOKUP(P160,Lookup!A:B,2,FALSE)","v":"--"},{"$f":"VLOOKUP(Q160,Lookup!A:B,2,FALSE)","v":"--"},{"$f":"VLOOKUP(R160,Lookup!A:B,2,FALSE)","v":"--"},null,{"$f":"IF(E160&F160&G160&I160&K160&M160=\"\",\"\",IF(OR(H160=\"\",D160=\"\",AND(AC160=0,'Contents & 6mo Restriction'!$BE$1=FALSE)),1,0))","v":""},"",0,0,0,0,0,0,null,null,null,null,null,null,null,null,null,null,null,null,null,null,null,null,null,null,null,null,null,null,null,null,null,null,null,null,null,null,null,null,null,null,null,null,null,null,null,null,null,null,null,null,null,null,null,null,null,null,null,null,null,null,null,null,null,null,null,null,null,null,null,null,null,null,null,null,null,null,null,null,null,null,null,null,null,null,null,null,null,null,null,null,null,null,null,null,null,null,null,null,null,null,null,null,null,null,null,null,null,null,0,0,""]
[null,null,null,null,null,null,null,null,null,null,null,null,null,null,"X","X","X","X",{"$f":"VLOOKUP(P161,Lookup!A:B,2,FALSE)","v":"--"},{"$f":"VLOOKUP(Q161,Lookup!A:B,2,FALSE)","v":"--"},{"$f":"VLOOKUP(R161,Lookup!A:B,2,FALSE)","v":"--"},null,{"$f":"IF(E161&F161&G161&I161&K161&M161=\"\",\"\",IF(OR(H161=\"\",D161=\"\",AND(AC161=0,'Contents & 6mo Restriction'!$BE$1=FALSE)),1,0))","v":""},"",0,0,0,0,0,0,null,null,null,null,null,null,null,null,null,null,null,null,null,null,null,null,null,null,null,null,null,null,null,null,null,null,null,null,null,null,null,null,null,null,null,null,null,null,null,null,null,null,null,null,null,null,null,null,null,null,null,null,null,null,null,null,null,null,null,null,null,null,null,null,null,null,null,null,null,null,null,null,null,null,null,null,null,null,null,null,null,null,null,null,null,null,null,null,null,null,null,null,null,null,null,null,null,null,null,null,null,null,0,0,""]
[null,null,null,null,null,null,null,null,null,null,null,null,null,null,"X","X","X","X",{"$f":"VLOOKUP(P162,Lookup!A:B,2,FALSE)","v":"--"},{"$f":"VLOOKUP(Q162,Lookup!A:B,2,FALSE)","v":"--"},{"$f":"VLOOKUP(R162,Lookup!A:B,2,FALSE)","v":"--"},null,{"$f":"IF(E162&F162&G162&I162&K162&M162=\"\",\"\",IF(OR(H162=\"\",D162=\"\",AND(AC162=0,'Contents & 6mo Restriction'!$BE$1=FALSE)),1,0))","v":""},"",0,0,0,0,0,0,null,null,null,null,null,null,null,null,null,null,null,null,null,null,null,null,null,null,null,null,null,null,null,null,null,null,null,null,null,null,null,null,null,null,null,null,null,null,null,null,null,null,null,null,null,null,null,null,null,null,null,null,null,null,null,null,null,null,null,null,null,null,null,null,null,null,null,null,null,null,null,null,null,null,null,null,null,null,null,null,null,null,null,null,null,null,null,null,null,null,null,null,null,null,null,null,null,null,null,null,null,null,0,0,""]
[null,null,null,null,null,null,null,null,null,null,null,null,null,null,"X","X","X","X",{"$f":"VLOOKUP(P163,Lookup!A:B,2,FALSE)","v":"--"},{"$f":"VLOOKUP(Q163,Lookup!A:B,2,FALSE)","v":"--"},{"$f":"VLOOKUP(R163,Lookup!A:B,2,FALSE)","v":"--"},null,{"$f":"IF(E163&F163&G163&I163&K163&M163=\"\",\"\",IF(OR(H163=\"\",D163=\"\",AND(AC163=0,'Contents & 6mo Restriction'!$BE$1=FALSE)),1,0))","v":""},"",0,0,0,0,0,0,null,null,null,null,null,null,null,null,null,null,null,null,null,null,null,null,null,null,null,null,null,null,null,null,null,null,null,null,null,null,null,null,null,null,null,null,null,null,null,null,null,null,null,null,null,null,null,null,null,null,null,null,null,null,null,null,null,null,null,null,null,null,null,null,null,null,null,null,null,null,null,null,null,null,null,null,null,null,null,null,null,null,null,null,null,null,null,null,null,null,null,null,null,null,null,null,null,null,null,null,null,null,0,0,""]
[null,null,null,null,null,null,null,null,null,null,null,null,null,null,"X","X","X","X",{"$f":"VLOOKUP(P164,Lookup!A:B,2,FALSE)","v":"--"},{"$f":"VLOOKUP(Q164,Lookup!A:B,2,FALSE)","v":"--"},{"$f":"VLOOKUP(R164,Lookup!A:B,2,FALSE)","v":"--"},null,{"$f":"IF(E164&F164&G164&I164&K164&M164=\"\",\"\",IF(OR(H164=\"\",D164=\"\",AND(AC164=0,'Contents & 6mo Restriction'!$BE$1=FALSE)),1,0))","v":""},"",0,0,0,0,0,0,null,null,null,null,null,null,null,null,null,null,null,null,null,null,null,null,null,null,null,null,null,null,null,null,null,null,null,null,null,null,null,null,null,null,null,null,null,null,null,null,null,null,null,null,null,null,null,null,null,null,null,null,null,null,null,null,null,null,null,null,null,null,null,null,null,null,null,null,null,null,null,null,null,null,null,null,null,null,null,null,null,null,null,null,null,null,null,null,null,null,null,null,null,null,null,null,null,null,null,null,null,null,0,0,""]
[null,null,null,null,null,null,null,null,null,null,null,null,null,null,"X","X","X","X",{"$f":"VLOOKUP(P165,Lookup!A:B,2,FALSE)","v":"--"},{"$f":"VLOOKUP(Q165,Lookup!A:B,2,FALSE)","v":"--"},{"$f":"VLOOKUP(R165,Lookup!A:B,2,FALSE)","v":"--"},null,{"$f":"IF(E165&F165&G165&I165&K165&M165=\"\",\"\",IF(OR(H165=\"\",D165=\"\",AND(AC165=0,'Contents & 6mo Restriction'!$BE$1=FALSE)),1,0))","v":""},"",0,0,0,0,0,0,null,null,null,null,null,null,null,null,null,null,null,null,null,null,null,null,null,null,null,null,null,null,null,null,null,null,null,null,null,null,null,null,null,null,null,null,null,null,null,null,null,null,null,null,null,null,null,null,null,null,null,null,null,null,null,null,null,null,null,null,null,null,null,null,null,null,null,null,null,null,null,null,null,null,null,null,null,null,null,null,null,null,null,null,null,null,null,null,null,null,null,null,null,null,null,null,null,null,null,null,null,null,0,0,""]
[null,null,null,null,null,null,null,null,null,null,null,null,null,null,"X","X","X","X",{"$f":"VLOOKUP(P166,Lookup!A:B,2,FALSE)","v":"--"},{"$f":"VLOOKUP(Q166,Lookup!A:B,2,FALSE)","v":"--"},{"$f":"VLOOKUP(R166,Lookup!A:B,2,FALSE)","v":"--"},null,{"$f":"IF(E166&F166&G166&I166&K166&M166=\"\",\"\",IF(OR(H166=\"\",D166=\"\",AND(AC166=0,'Contents & 6mo Restriction'!$BE$1=FALSE)),1,0))","v":""},"",0,0,0,0,0,0,null,null,null,null,null,null,null,null,null,null,null,null,null,null,null,null,null,null,null,null,null,null,null,null,null,null,null,null,null,null,null,null,null,null,null,null,null,null,null,null,null,null,null,null,null,null,null,null,null,null,null,null,null,null,null,null,null,null,null,null,null,null,null,null,null,null,null,null,null,null,null,null,null,null,null,null,null,null,null,null,null,null,null,null,null,null,null,null,null,null,null,null,null,null,null,null,null,null,null,null,null,null,0,0,""]
[null,null,null,null,null,null,null,null,null,null,null,null,null,null,"X","X","X","X",{"$f":"VLOOKUP(P167,Lookup!A:B,2,FALSE)","v":"--"},{"$f":"VLOOKUP(Q167,Lookup!A:B,2,FALSE)","v":"--"},{"$f":"VLOOKUP(R167,Lookup!A:B,2,FALSE)","v":"--"},null,{"$f":"IF(E167&F167&G167&I167&K167&M167=\"\",\"\",IF(OR(H167=\"\",D167=\"\",AND(AC167=0,'Contents & 6mo Restriction'!$BE$1=FALSE)),1,0))","v":""},"",0,0,0,0,0,0,null,null,null,null,null,null,null,null,null,null,null,null,null,null,null,null,null,null,null,null,null,null,null,null,null,null,null,null,null,null,null,null,null,null,null,null,null,null,null,null,null,null,null,null,null,null,null,null,null,null,null,null,null,null,null,null,null,null,null,null,null,null,null,null,null,null,null,null,null,null,null,null,null,null,null,null,null,null,null,null,null,null,null,null,null,null,null,null,null,null,null,null,null,null,null,null,null,null,null,null,null,null,0,0,""]
[null,null,null,null,null,null,null,null,null,null,null,null,null,null,"X","X","X","X",{"$f":"VLOOKUP(P168,Lookup!A:B,2,FALSE)","v":"--"},{"$f":"VLOOKUP(Q168,Lookup!A:B,2,FALSE)","v":"--"},{"$f":"VLOOKUP(R168,Lookup!A:B,2,FALSE)","v":"--"},null,{"$f":"IF(E168&F168&G168&I168&K168&M168=\"\",\"\",IF(OR(H168=\"\",D168=\"\",AND(AC168=0,'Contents & 6mo Restriction'!$BE$1=FALSE)),1,0))","v":""},"",0,0,0,0,0,0,null,null,null,null,null,null,null,null,null,null,null,null,null,null,null,null,null,null,null,null,null,null,null,null,null,null,null,null,null,null,null,null,null,null,null,null,null,null,null,null,null,null,null,null,null,null,null,null,null,null,null,null,null,null,null,null,null,null,null,null,null,null,null,null,null,null,null,null,null,null,null,null,null,null,null,null,null,null,null,null,null,null,null,null,null,null,null,null,null,null,null,null,null,null,null,null,null,null,null,null,null,null,0,0,""]
[null,null,null,null,null,null,null,null,null,null,null,null,null,null,"X",{"$f":"CONCATENATE(E169,I169,J169,O169)","v":"X"},{"$f":"CONCATENATE(F169,K169,L169,O169)","v":"X"},{"$f":"CONCATENATE(G169,M169,N169,O169)","v":"X"},{"$f":"VLOOKUP(P169,Lookup!A:B,2,FALSE)","v":"--"},{"$f":"VLOOKUP(Q169,Lookup!A:B,2,FALSE)","v":"--"},{"$f":"VLOOKUP(R169,Lookup!A:B,2,FALSE)","v":"--"},null,{"$f":"IF(E169&F169&G169&I169&K169&M169=\"\",\"\",IF(OR(H169=\"\",D169=\"\",AND(AC169=0,'Contents & 6mo Restriction'!$BE$1=FALSE)),1,0))","v":""},"",0,0,0,0,0,0,null,null,null,null,null,null,null,null,null,null,null,null,null,null,null,null,null,null,null,null,null,null,null,null,null,null,null,null,null,null,null,null,null,null,null,null,null,null,null,null,null,null,null,null,null,null,null,null,null,null,null,null,null,null,null,null,null,null,null,null,null,null,null,null,null,null,null,null,null,null,null,null,null,null,null,null,null,null,null,null,null,null,null,null,null,null,null,null,null,null,null,null,null,null,null,null,null,null,null,null,null,null,0,0,""]
[null,null,null,null,null,null,null,null,null,null,null,null,null,null,"X",{"$f":"CONCATENATE(E170,I170,J170,O170)","v":"X"},{"$f":"CONCATENATE(F170,K170,L170,O170)","v":"X"},{"$f":"CONCATENATE(G170,M170,N170,O170)","v":"X"},{"$f":"VLOOKUP(P170,Lookup!A:B,2,FALSE)","v":"--"},{"$f":"VLOOKUP(Q170,Lookup!A:B,2,FALSE)","v":"--"},{"$f":"VLOOKUP(R170,Lookup!A:B,2,FALSE)","v":"--"},null,{"$f":"IF(E170&F170&G170&I170&K170&M170=\"\",\"\",IF(OR(H170=\"\",D170=\"\",AND(AC170=0,'Contents & 6mo Restriction'!$BE$1=FALSE)),1,0))","v":""},"",0,0,0,0,0,0,null,null,null,null,null,null,null,null,null,null,null,null,null,null,null,null,null,null,null,null,null,null,null,null,null,null,null,null,null,null,null,null,null,null,null,null,null,null,null,null,null,null,null,null,null,null,null,null,null,null,null,null,null,null,null,null,null,null,null,null,null,null,null,null,null,null,null,null,null,null,null,null,null,null,null,null,null,null,null,null,null,null,null,null,null,null,null,null,null,null,null,null,null,null,null,null,null,null,null,null,null,null,0,0,""]
[null,null,null,null,null,null,null,null,null,null,null,null,null,null,"X",{"$f":"CONCATENATE(E171,I171,J171,O171)","v":"X"},{"$f":"CONCATENATE(F171,K171,L171,O171)","v":"X"},{"$f":"CONCATENATE(G171,M171,N171,O171)","v":"X"},{"$f":"VLOOKUP(P171,Lookup!A:B,2,FALSE)","v":"--"},{"$f":"VLOOKUP(Q171,Lookup!A:B,2,FALSE)","v":"--"},{"$f":"VLOOKUP(R171,Lookup!A:B,2,FALSE)","v":"--"},null,{"$f":"IF(E171&F171&G171&I171&K171&M171=\"\",\"\",IF(OR(H171=\"\",D171=\"\",AND(AC171=0,'Contents & 6mo Restriction'!$BE$1=FALSE)),1,0))","v":""},"",0,0,0,0,0,0,null,null,null,null,null,null,null,null,null,null,null,null,null,null,null,null,null,null,null,null,null,null,null,null,null,null,null,null,null,null,null,null,null,null,null,null,null,null,null,null,null,null,null,null,null,null,null,null,null,null,null,null,null,null,null,null,null,null,null,null,null,null,null,null,null,null,null,null,null,null,null,null,null,null,null,null,null,null,null,null,null,null,null,null,null,null,null,null,null,null,null,null,null,null,null,null,null,null,null,null,null,null,0,0,""]
[null,null,null,null,null,null,null,null,null,null,null,null,null,null,"X","X","X","X",{"$f":"VLOOKUP(P172,Lookup!A:B,2,FALSE)","v":"--"},{"$f":"VLOOKUP(Q172,Lookup!A:B,2,FALSE)","v":"--"},{"$f":"VLOOKUP(R172,Lookup!A:B,2,FALSE)","v":"--"},null,{"$f":"IF(E172&F172&G172&I172&K172&M172=\"\",\"\",IF(OR(H172=\"\",D172=\"\",AND(AC172=0,'Contents & 6mo Restriction'!$BE$1=FALSE)),1,0))","v":""},"",0,0,0,0,0,0,null,null,null,null,null,null,null,null,null,null,null,null,null,null,null,null,null,null,null,null,null,null,null,null,null,null,null,null,null,null,null,null,null,null,null,null,null,null,null,null,null,null,null,null,null,null,null,null,null,null,null,null,null,null,null,null,null,null,null,null,null,null,null,null,null,null,null,null,null,null,null,null,null,null,null,null,null,null,null,null,null,null,null,null,null,null,null,null,null,null,null,null,null,null,null,null,null,null,null,null,null,null,0,0,""]
[null,null,null,null,null,null,null,null,null,null,null,null,null,null,"X","X","X","X",{"$f":"VLOOKUP(P173,Lookup!A:B,2,FALSE)","v":"--"},{"$f":"VLOOKUP(Q173,Lookup!A:B,2,FALSE)","v":"--"},{"$f":"VLOOKUP(R173,Lookup!A:B,2,FALSE)","v":"--"},null,{"$f":"IF(E173&F173&G173&I173&K173&M173=\"\",\"\",IF(OR(H173=\"\",D173=\"\",AND(AC173=0,'Contents & 6mo Restriction'!$BE$1=FALSE)),1,0))","v":""},"",0,0,0,0,0,0,null,null,null,null,null,null,null,null,null,null,null,null,null,null,null,null,null,null,null,null,null,null,null,null,null,null,null,null,null,null,null,null,null,null,null,null,null,null,null,null,null,null,null,null,null,null,null,null,null,null,null,null,null,null,null,null,null,null,null,null,null,null,null,null,null,null,null,null,null,null,null,null,null,null,null,null,null,null,null,null,null,null,null,null,null,null,null,null,null,null,null,null,null,null,null,null,null,null,null,null,null,null,0,0,""]
[null,null,null,null,null,null,null,null,null,null,null,null,null,null,"X","X","X","X",{"$f":"VLOOKUP(P174,Lookup!A:B,2,FALSE)","v":"--"},{"$f":"VLOOKUP(Q174,Lookup!A:B,2,FALSE)","v":"--"},{"$f":"VLOOKUP(R174,Lookup!A:B,2,FALSE)","v":"--"},null,{"$f":"IF(E174&F174&G174&I174&K174&M174=\"\",\"\",IF(OR(H174=\"\",D174=\"\",AND(AC174=0,'Contents & 6mo Restriction'!$BE$1=FALSE)),1,0))","v":""},"",0,0,0,0,0,0,null,null,null,null,null,null,null,null,null,null,null,null,null,null,null,null,null,null,null,null,null,null,null,null,null,null,null,null,null,null,null,null,null,null,null,null,null,null,null,null,null,null,null,null,null,null,null,null,null,null,null,null,null,null,null,null,null,null,null,null,null,null,null,null,null,null,null,null,null,null,null,null,null,null,null,null,null,null,null,null,null,null,null,null,null,null,null,null,null,null,null,null,null,null,null,null,null,null,null,null,null,null,0,0,""]
[null,null,null,null,null,null,null,null,null,null,null,null,null,null,"X","X","X","X",{"$f":"VLOOKUP(P175,Lookup!A:B,2,FALSE)","v":"--"},{"$f":"VLOOKUP(Q175,Lookup!A:B,2,FALSE)","v":"--"},{"$f":"VLOOKUP(R175,Lookup!A:B,2,FALSE)","v":"--"},null,{"$f":"IF(E175&F175&G175&I175&K175&M175=\"\",\"\",IF(OR(H175=\"\",D175=\"\",AND(AC175=0,'Contents & 6mo Restriction'!$BE$1=FALSE)),1,0))","v":""},"",0,0,0,0,0,0,null,null,null,null,null,null,null,null,null,null,null,null,null,null,null,null,null,null,null,null,null,null,null,null,null,null,null,null,null,null,null,null,null,null,null,null,null,null,null,null,null,null,null,null,null,null,null,null,null,null,null,null,null,null,null,null,null,null,null,null,null,null,null,null,null,null,null,null,null,null,null,null,null,null,null,null,null,null,null,null,null,null,null,null,null,null,null,null,null,null,null,null,null,null,null,null,null,null,null,null,null,null,0,0,""]
[null,null,null,null,null,null,null,null,null,null,null,null,null,null,"X","X","X","X",{"$f":"VLOOKUP(P176,Lookup!A:B,2,FALSE)","v":"--"},{"$f":"VLOOKUP(Q176,Lookup!A:B,2,FALSE)","v":"--"},{"$f":"VLOOKUP(R176,Lookup!A:B,2,FALSE)","v":"--"},null,{"$f":"IF(E176&F176&G176&I176&K176&M176=\"\",\"\",IF(OR(H176=\"\",D176=\"\",AND(AC176=0,'Contents & 6mo Restriction'!$BE$1=FALSE)),1,0))","v":""},"",0,0,0,0,0,0,null,null,null,null,null,null,null,null,null,null,null,null,null,null,null,null,null,null,null,null,null,null,null,null,null,null,null,null,null,null,null,null,null,null,null,null,null,null,null,null,null,null,null,null,null,null,null,null,null,null,null,null,null,null,null,null,null,null,null,null,null,null,null,null,null,null,null,null,null,null,null,null,null,null,null,null,null,null,null,null,null,null,null,null,null,null,null,null,null,null,null,null,null,null,null,null,null,null,null,null,null,null,0,0,""]
[null,null,null,null,null,null,null,null,null,null,null,null,null,null,"X","X","X","X",{"$f":"VLOOKUP(P177,Lookup!A:B,2,FALSE)","v":"--"},{"$f":"VLOOKUP(Q177,Lookup!A:B,2,FALSE)","v":"--"},{"$f":"VLOOKUP(R177,Lookup!A:B,2,FALSE)","v":"--"},null,{"$f":"IF(E177&F177&G177&I177&K177&M177=\"\",\"\",IF(OR(H177=\"\",D177=\"\",AND(AC177=0,'Contents & 6mo Restriction'!$BE$1=FALSE)),1,0))","v":""},"",0,0,0,0,0,0,null,null,null,null,null,null,null,null,null,null,null,null,null,null,null,null,null,null,null,null,null,null,null,null,null,null,null,null,null,null,null,null,null,null,null,null,null,null,null,null,null,null,null,null,null,null,null,null,null,null,null,null,null,null,null,null,null,null,null,null,null,null,null,null,null,null,null,null,null,null,null,null,null,null,null,null,null,null,null,null,null,null,null,null,null,null,null,null,null,null,null,null,null,null,null,null,null,null,null,null,null,null,0,0,""]
[null,null,null,null,null,null,null,null,null,null,null,null,null,null,"X","X","X","X",{"$f":"VLOOKUP(P178,Lookup!A:B,2,FALSE)","v":"--"},{"$f":"VLOOKUP(Q178,Lookup!A:B,2,FALSE)","v":"--"},{"$f":"VLOOKUP(R178,Lookup!A:B,2,FALSE)","v":"--"},null,{"$f":"IF(E178&F178&G178&I178&K178&M178=\"\",\"\",IF(OR(H178=\"\",D178=\"\",AND(AC178=0,'Contents & 6mo Restriction'!$BE$1=FALSE)),1,0))","v":""},"",0,0,0,0,0,0,null,null,null,null,null,null,null,null,null,null,null,null,null,null,null,null,null,null,null,null,null,null,null,null,null,null,null,null,null,null,null,null,null,null,null,null,null,null,null,null,null,null,null,null,null,null,null,null,null,null,null,null,null,null,null,null,null,null,null,null,null,null,null,null,null,null,null,null,null,null,null,null,null,null,null,null,null,null,null,null,null,null,null,null,null,null,null,null,null,null,null,null,null,null,null,null,null,null,null,null,null,null,0,0,""]
[null,null,null,null,null,null,null,null,null,null,null,null,null,null,"X","X","X","X",{"$f":"VLOOKUP(P179,Lookup!A:B,2,FALSE)","v":"--"},{"$f":"VLOOKUP(Q179,Lookup!A:B,2,FALSE)","v":"--"},{"$f":"VLOOKUP(R179,Lookup!A:B,2,FALSE)","v":"--"},null,{"$f":"IF(E179&F179&G179&I179&K179&M179=\"\",\"\",IF(OR(H179=\"\",D179=\"\",AND(AC179=0,'Contents & 6mo Restriction'!$BE$1=FALSE)),1,0))","v":""},"",0,0,0,0,0,0,null,null,null,null,null,null,null,null,null,null,null,null,null,null,null,null,null,null,null,null,null,null,null,null,null,null,null,null,null,null,null,null,null,null,null,null,null,null,null,null,null,null,null,null,null,null,null,null,null,null,null,null,null,null,null,null,null,null,null,null,null,null,null,null,null,null,null,null,null,null,null,null,null,null,null,null,null,null,null,null,null,null,null,null,null,null,null,null,null,null,null,null,null,null,null,null,null,null,null,null,null,null,0,0,""]
[null,null,null,null,null,null,null,null,null,null,null,null,null,null,"X","X","X","X",{"$f":"VLOOKUP(P180,Lookup!A:B,2,FALSE)","v":"--"},{"$f":"VLOOKUP(Q180,Lookup!A:B,2,FALSE)","v":"--"},{"$f":"VLOOKUP(R180,Lookup!A:B,2,FALSE)","v":"--"},null,{"$f":"IF(E180&F180&G180&I180&K180&M180=\"\",\"\",IF(OR(H180=\"\",D180=\"\",AND(AC180=0,'Contents & 6mo Restriction'!$BE$1=FALSE)),1,0))","v":""},"",0,0,0,0,0,0,null,null,null,null,null,null,null,null,null,null,null,null,null,null,null,null,null,null,null,null,null,null,null,null,null,null,null,null,null,null,null,null,null,null,null,null,null,null,null,null,null,null,null,null,null,null,null,null,null,null,null,null,null,null,null,null,null,null,null,null,null,null,null,null,null,null,null,null,null,null,null,null,null,null,null,null,null,null,null,null,null,null,null,null,null,null,null,null,null,null,null,null,null,null,null,null,null,null,null,null,null,null,0,0,""]
[null,null,null,null,null,null,null,null,null,null,null,null,null,null,"X",{"$f":"CONCATENATE(E181,I181,J181,O181)","v":"X"},{"$f":"CONCATENATE(F181,K181,L181,O181)","v":"X"},{"$f":"CONCATENATE(G181,M181,N181,O181)","v":"X"},{"$f":"VLOOKUP(P181,Lookup!A:B,2,FALSE)","v":"--"},{"$f":"VLOOKUP(Q181,Lookup!A:B,2,FALSE)","v":"--"},{"$f":"VLOOKUP(R181,Lookup!A:B,2,FALSE)","v":"--"},null,{"$f":"IF(E181&F181&G181&I181&K181&M181=\"\",\"\",IF(OR(H181=\"\",D181=\"\",AND(AC181=0,'Contents & 6mo Restriction'!$BE$1=FALSE)),1,0))","v":""},"",0,0,0,0,0,0,null,null,null,null,null,null,null,null,null,null,null,null,null,null,null,null,null,null,null,null,null,null,null,null,null,null,null,null,null,null,null,null,null,null,null,null,null,null,null,null,null,null,null,null,null,null,null,null,null,null,null,null,null,null,null,null,null,null,null,null,null,null,null,null,null,null,null,null,null,null,null,null,null,null,null,null,null,null,null,null,null,null,null,null,null,null,null,null,null,null,null,null,null,null,null,null,null,null,null,null,null,null,0,0,""]
[null,null,null,null,null,null,null,null,null,null,null,null,null,null,"X",{"$f":"CONCATENATE(E182,I182,J182,O182)","v":"X"},{"$f":"CONCATENATE(F182,K182,L182,O182)","v":"X"},{"$f":"CONCATENATE(G182,M182,N182,O182)","v":"X"},{"$f":"VLOOKUP(P182,Lookup!A:B,2,FALSE)","v":"--"},{"$f":"VLOOKUP(Q182,Lookup!A:B,2,FALSE)","v":"--"},{"$f":"VLOOKUP(R182,Lookup!A:B,2,FALSE)","v":"--"},null,{"$f":"IF(E182&F182&G182&I182&K182&M182=\"\",\"\",IF(OR(H182=\"\",D182=\"\",AND(AC182=0,'Contents & 6mo Restriction'!$BE$1=FALSE)),1,0))","v":""},"",0,0,0,0,0,0,null,null,null,null,null,null,null,null,null,null,null,null,null,null,null,null,null,null,null,null,null,null,null,null,null,null,null,null,null,null,null,null,null,null,null,null,null,null,null,null,null,null,null,null,null,null,null,null,null,null,null,null,null,null,null,null,null,null,null,null,null,null,null,null,null,null,null,null,null,null,null,null,null,null,null,null,null,null,null,null,null,null,null,null,null,null,null,null,null,null,null,null,null,null,null,null,null,null,null,null,null,null,0,0,""]
[null,null,null,null,null,null,null,null,null,null,null,null,null,null,"X",{"$f":"CONCATENATE(E183,I183,J183,O183)","v":"X"},{"$f":"CONCATENATE(F183,K183,L183,O183)","v":"X"},{"$f":"CONCATENATE(G183,M183,N183,O183)","v":"X"},{"$f":"VLOOKUP(P183,Lookup!A:B,2,FALSE)","v":"--"},{"$f":"VLOOKUP(Q183,Lookup!A:B,2,FALSE)","v":"--"},{"$f":"VLOOKUP(R183,Lookup!A:B,2,FALSE)","v":"--"},null,{"$f":"IF(E183&F183&G183&I183&K183&M183=\"\",\"\",IF(OR(H183=\"\",D183=\"\",AND(AC183=0,'Contents & 6mo Restriction'!$BE$1=FALSE)),1,0))","v":""},"",0,0,0,0,0,0,null,null,null,null,null,null,null,null,null,null,null,null,null,null,null,null,null,null,null,null,null,null,null,null,null,null,null,null,null,null,null,null,null,null,null,null,null,null,null,null,null,null,null,null,null,null,null,null,null,null,null,null,null,null,null,null,null,null,null,null,null,null,null,null,null,null,null,null,null,null,null,null,null,null,null,null,null,null,null,null,null,null,null,null,null,null,null,null,null,null,null,null,null,null,null,null,null,null,null,null,null,null,0,0,""]
[null,null,null,null,null,null,null,null,null,null,null,null,null,null,"X","X","X","X",{"$f":"VLOOKUP(P184,Lookup!A:B,2,FALSE)","v":"--"},{"$f":"VLOOKUP(Q184,Lookup!A:B,2,FALSE)","v":"--"},{"$f":"VLOOKUP(R184,Lookup!A:B,2,FALSE)","v":"--"},null,{"$f":"IF(E184&F184&G184&I184&K184&M184=\"\",\"\",IF(OR(H184=\"\",D184=\"\",AND(AC184=0,'Contents & 6mo Restriction'!$BE$1=FALSE)),1,0))","v":""},"",0,0,0,0,0,0,null,null,null,null,null,null,null,null,null,null,null,null,null,null,null,null,null,null,null,null,null,null,null,null,null,null,null,null,null,null,null,null,null,null,null,null,null,null,null,null,null,null,null,null,null,null,null,null,null,null,null,null,null,null,null,null,null,null,null,null,null,null,null,null,null,null,null,null,null,null,null,null,null,null,null,null,null,null,null,null,null,null,null,null,null,null,null,null,null,null,null,null,null,null,null,null,null,null,null,null,null,null,0,0,""]
[null,null,null,null,null,null,null,null,null,null,null,null,null,null,"X","X","X","X",{"$f":"VLOOKUP(P185,Lookup!A:B,2,FALSE)","v":"--"},{"$f":"VLOOKUP(Q185,Lookup!A:B,2,FALSE)","v":"--"},{"$f":"VLOOKUP(R185,Lookup!A:B,2,FALSE)","v":"--"},null,{"$f":"IF(E185&F185&G185&I185&K185&M185=\"\",\"\",IF(OR(H185=\"\",D185=\"\",AND(AC185=0,'Contents & 6mo Restriction'!$BE$1=FALSE)),1,0))","v":""},"",0,0,0,0,0,0,null,null,null,null,null,null,null,null,null,null,null,null,null,null,null,null,null,null,null,null,null,null,null,null,null,null,null,null,null,null,null,null,null,null,null,null,null,null,null,null,null,null,null,null,null,null,null,null,null,null,null,null,null,null,null,null,null,null,null,null,null,null,null,null,null,null,null,null,null,null,null,null,null,null,null,null,null,null,null,null,null,null,null,null,null,null,null,null,null,null,null,null,null,null,null,null,null,null,null,null,null,null,0,0,""]
[null,null,null,null,null,null,null,null,null,null,null,null,null,null,"X","X","X","X",{"$f":"VLOOKUP(P186,Lookup!A:B,2,FALSE)","v":"--"},{"$f":"VLOOKUP(Q186,Lookup!A:B,2,FALSE)","v":"--"},{"$f":"VLOOKUP(R186,Lookup!A:B,2,FALSE)","v":"--"},null,{"$f":"IF(E186&F186&G186&I186&K186&M186=\"\",\"\",IF(OR(H186=\"\",D186=\"\",AND(AC186=0,'Contents & 6mo Restriction'!$BE$1=FALSE)),1,0))","v":""},"",0,0,0,0,0,0,null,null,null,null,null,null,null,null,null,null,null,null,null,null,null,null,null,null,null,null,null,null,null,null,null,null,null,null,null,null,null,null,null,null,null,null,null,null,null,null,null,null,null,null,null,null,null,null,null,null,null,null,null,null,null,null,null,null,null,null,null,null,null,null,null,null,null,null,null,null,null,null,null,null,null,null,null,null,null,null,null,null,null,null,null,null,null,null,null,null,null,null,null,null,null,null,null,null,null,null,null,null,0,0,""]
[null,null,null,null,null,null,null,null,null,null,null,null,null,null,"X","X","X","X",{"$f":"VLOOKUP(P187,Lookup!A:B,2,FALSE)","v":"--"},{"$f":"VLOOKUP(Q187,Lookup!A:B,2,FALSE)","v":"--"},{"$f":"VLOOKUP(R187,Lookup!A:B,2,FALSE)","v":"--"},null,{"$f":"IF(E187&F187&G187&I187&K187&M187=\"\",\"\",IF(OR(H187=\"\",D187=\"\",AND(AC187=0,'Contents & 6mo Restriction'!$BE$1=FALSE)),1,0))","v":""},"",0,0,0,0,0,0,null,null,null,null,null,null,null,null,null,null,null,null,null,null,null,null,null,null,null,null,null,null,null,null,null,null,null,null,null,null,null,null,null,null,null,null,null,null,null,null,null,null,null,null,null,null,null,null,null,null,null,null,null,null,null,null,null,null,null,null,null,null,null,null,null,null,null,null,null,null,null,null,null,null,null,null,null,null,null,null,null,null,null,null,null,null,null,null,null,null,null,null,null,null,null,null,null,null,null,null,null,null,0,0,""]
[null,null,null,null,null,null,null,null,null,null,null,null,null,null,"X","X","X","X",{"$f":"VLOOKUP(P188,Lookup!A:B,2,FALSE)","v":"--"},{"$f":"VLOOKUP(Q188,Lookup!A:B,2,FALSE)","v":"--"},{"$f":"VLOOKUP(R188,Lookup!A:B,2,FALSE)","v":"--"},null,{"$f":"IF(E188&F188&G188&I188&K188&M188=\"\",\"\",IF(OR(H188=\"\",D188=\"\",AND(AC188=0,'Contents & 6mo Restriction'!$BE$1=FALSE)),1,0))","v":""},"",0,0,0,0,0,0,null,null,null,null,null,null,null,null,null,null,null,null,null,null,null,null,null,null,null,null,null,null,null,null,null,null,null,null,null,null,null,null,null,null,null,null,null,null,null,null,null,null,null,null,null,null,null,null,null,null,null,null,null,null,null,null,null,null,null,null,null,null,null,null,null,null,null,null,null,null,null,null,null,null,null,null,null,null,null,null,null,null,null,null,null,null,null,null,null,null,null,null,null,null,null,null,null,null,null,null,null,null,0,0,""]
[null,null,null,null,null,null,null,null,null,null,null,null,null,null,"X","X","X","X",{"$f":"VLOOKUP(P189,Lookup!A:B,2,FALSE)","v":"--"},{"$f":"VLOOKUP(Q189,Lookup!A:B,2,FALSE)","v":"--"},{"$f":"VLOOKUP(R189,Lookup!A:B,2,FALSE)","v":"--"},null,{"$f":"IF(E189&F189&G189&I189&K189&M189=\"\",\"\",IF(OR(H189=\"\",D189=\"\",AND(AC189=0,'Contents & 6mo Restriction'!$BE$1=FALSE)),1,0))","v":""},"",0,0,0,0,0,0,null,null,null,null,null,null,null,null,null,null,null,null,null,null,null,null,null,null,null,null,null,null,null,null,null,null,null,null,null,null,null,null,null,null,null,null,null,null,null,null,null,null,null,null,null,null,null,null,null,null,null,null,null,null,null,null,null,null,null,null,null,null,null,null,null,null,null,null,null,null,null,null,null,null,null,null,null,null,null,null,null,null,null,null,null,null,null,null,null,null,null,null,null,null,null,null,null,null,null,null,null,null,0,0,""]
[null,null,null,null,null,null,null,null,null,null,null,null,null,null,"X","X","X","X",{"$f":"VLOOKUP(P190,Lookup!A:B,2,FALSE)","v":"--"},{"$f":"VLOOKUP(Q190,Lookup!A:B,2,FALSE)","v":"--"},{"$f":"VLOOKUP(R190,Lookup!A:B,2,FALSE)","v":"--"},null,{"$f":"IF(E190&F190&G190&I190&K190&M190=\"\",\"\",IF(OR(H190=\"\",D190=\"\",AND(AC190=0,'Contents & 6mo Restriction'!$BE$1=FALSE)),1,0))","v":""},"",0,0,0,0,0,0,null,null,null,null,null,null,null,null,null,null,null,null,null,null,null,null,null,null,null,null,null,null,null,null,null,null,null,null,null,null,null,null,null,null,null,null,null,null,null,null,null,null,null,null,null,null,null,null,null,null,null,null,null,null,null,null,null,null,null,null,null,null,null,null,null,null,null,null,null,null,null,null,null,null,null,null,null,null,null,null,null,null,null,null,null,null,null,null,null,null,null,null,null,null,null,null,null,null,null,null,null,null,0,0,""]
[null,null,null,null,null,null,null,null,null,null,null,null,null,null,"X","X","X","X",{"$f":"VLOOKUP(P191,Lookup!A:B,2,FALSE)","v":"--"},{"$f":"VLOOKUP(Q191,Lookup!A:B,2,FALSE)","v":"--"},{"$f":"VLOOKUP(R191,Lookup!A:B,2,FALSE)","v":"--"},null,{"$f":"IF(E191&F191&G191&I191&K191&M191=\"\",\"\",IF(OR(H191=\"\",D191=\"\",AND(AC191=0,'Contents & 6mo Restriction'!$BE$1=FALSE)),1,0))","v":""},"",0,0,0,0,0,0,null,null,null,null,null,null,null,null,null,null,null,null,null,null,null,null,null,null,null,null,null,null,null,null,null,null,null,null,null,null,null,null,null,null,null,null,null,null,null,null,null,null,null,null,null,null,null,null,null,null,null,null,null,null,null,null,null,null,null,null,null,null,null,null,null,null,null,null,null,null,null,null,null,null,null,null,null,null,null,null,null,null,null,null,null,null,null,null,null,null,null,null,null,null,null,null,null,null,null,null,null,null,0,0,""]
[null,null,null,null,null,null,null,null,null,null,null,null,null,null,"X",{"$f":"CONCATENATE(E192,I192,J192,O192)","v":"X"},{"$f":"CONCATENATE(F192,K192,L192,O192)","v":"X"},{"$f":"CONCATENATE(G192,M192,N192,O192)","v":"X"},{"$f":"VLOOKUP(P192,Lookup!A:B,2,FALSE)","v":"--"},{"$f":"VLOOKUP(Q192,Lookup!A:B,2,FALSE)","v":"--"},{"$f":"VLOOKUP(R192,Lookup!A:B,2,FALSE)","v":"--"},null,{"$f":"IF(E192&F192&G192&I192&K192&M192=\"\",\"\",IF(OR(H192=\"\",D192=\"\",AND(AC192=0,'Contents & 6mo Restriction'!$BE$1=FALSE)),1,0))","v":""},"",0,0,0,0,0,0,null,null,null,null,null,null,null,null,null,null,null,null,null,null,null,null,null,null,null,null,null,null,null,null,null,null,null,null,null,null,null,null,null,null,null,null,null,null,null,null,null,null,null,null,null,null,null,null,null,null,null,null,null,null,null,null,null,null,null,null,null,null,null,null,null,null,null,null,null,null,null,null,null,null,null,null,null,null,null,null,null,null,null,null,null,null,null,null,null,null,null,null,null,null,null,null,null,null,null,null,null,null,0,0,""]
[null,null,null,null,null,null,null,null,null,null,null,null,null,null,"X","X","X","X",{"$f":"VLOOKUP(P193,Lookup!A:B,2,FALSE)","v":"--"},{"$f":"VLOOKUP(Q193,Lookup!A:B,2,FALSE)","v":"--"},{"$f":"VLOOKUP(R193,Lookup!A:B,2,FALSE)","v":"--"},null,{"$f":"IF(E193&F193&G193&I193&K193&M193=\"\",\"\",IF(OR(H193=\"\",D193=\"\",AND(AC193=0,'Contents & 6mo Restriction'!$BE$1=FALSE)),1,0))","v":""},"",0,0,0,0,0,0,null,null,null,null,null,null,null,null,null,null,null,null,null,null,null,null,null,null,null,null,null,null,null,null,null,null,null,null,null,null,null,null,null,null,null,null,null,null,null,null,null,null,null,null,null,null,null,null,null,null,null,null,null,null,null,null,null,null,null,null,null,null,null,null,null,null,null,null,null,null,null,null,null,null,null,null,null,null,null,null,null,null,null,null,null,null,null,null,null,null,null,null,null,null,null,null,null,null,null,null,null,null,0,0,""]
[null,null,null,null,null,null,null,null,null,null,null,null,null,null,"X","X","X","X",{"$f":"VLOOKUP(P194,Lookup!A:B,2,FALSE)","v":"--"},{"$f":"VLOOKUP(Q194,Lookup!A:B,2,FALSE)","v":"--"},{"$f":"VLOOKUP(R194,Lookup!A:B,2,FALSE)","v":"--"},null,{"$f":"IF(E194&F194&G194&I194&K194&M194=\"\",\"\",IF(OR(H194=\"\",D194=\"\",AND(AC194=0,'Contents & 6mo Restriction'!$BE$1=FALSE)),1,0))","v":""},"",0,0,0,0,0,0,null,null,null,null,null,null,null,null,null,null,null,null,null,null,null,null,null,null,null,null,null,null,null,null,null,null,null,null,null,null,null,null,null,null,null,null,null,null,null,null,null,null,null,null,null,null,null,null,null,null,null,null,null,null,null,null,null,null,null,null,null,null,null,null,null,null,null,null,null,null,null,null,null,null,null,null,null,null,null,null,null,null,null,null,null,null,null,null,null,null,null,null,null,null,null,null,null,null,null,null,null,null,0,0,""]
[null,null,null,null,null,null,null,null,null,null,null,null,null,null,"X","X","X","X",{"$f":"VLOOKUP(P195,Lookup!A:B,2,FALSE)","v":"--"},{"$f":"VLOOKUP(Q195,Lookup!A:B,2,FALSE)","v":"--"},{"$f":"VLOOKUP(R195,Lookup!A:B,2,FALSE)","v":"--"},null,{"$f":"IF(E195&F195&G195&I195&K195&M195=\"\",\"\",IF(OR(H195=\"\",D195=\"\",AND(AC195=0,'Contents & 6mo Restriction'!$BE$1=FALSE)),1,0))","v":""},"",0,0,0,0,0,0,null,null,null,null,null,null,null,null,null,null,null,null,null,null,null,null,null,null,null,null,null,null,null,null,null,null,null,null,null,null,null,null,null,null,null,null,null,null,null,null,null,null,null,null,null,null,null,null,null,null,null,null,null,null,null,null,null,null,null,null,null,null,null,null,null,null,null,null,null,null,null,null,null,null,null,null,null,null,null,null,null,null,null,null,null,null,null,null,null,null,null,null,null,null,null,null,null,null,null,null,null,null,0,0,""]
[null,null,null,null,null,null,null,null,null,null,null,null,null,null,"X","X","X","X",{"$f":"VLOOKUP(P196,Lookup!A:B,2,FALSE)","v":"--"},{"$f":"VLOOKUP(Q196,Lookup!A:B,2,FALSE)","v":"--"},{"$f":"VLOOKUP(R196,Lookup!A:B,2,FALSE)","v":"--"},null,{"$f":"IF(E196&F196&G196&I196&K196&M196=\"\",\"\",IF(OR(H196=\"\",D196=\"\",AND(AC196=0,'Contents & 6mo Restriction'!$BE$1=FALSE)),1,0))","v":""},"",0,0,0,0,0,0,null,null,null,null,null,null,null,null,null,null,null,null,null,null,null,null,null,null,null,null,null,null,null,null,null,null,null,null,null,null,null,null,null,null,null,null,null,null,null,null,null,null,null,null,null,null,null,null,null,null,null,null,null,null,null,null,null,null,null,null,null,null,null,null,null,null,null,null,null,null,null,null,null,null,null,null,null,null,null,null,null,null,null,null,null,null,null,null,null,null,null,null,null,null,null,null,null,null,null,null,null,null,0,0,""]
[null,null,null,null,null,null,null,null,null,null,null,null,null,null,"X","X","X","X",{"$f":"VLOOKUP(P197,Lookup!A:B,2,FALSE)","v":"--"},{"$f":"VLOOKUP(Q197,Lookup!A:B,2,FALSE)","v":"--"},{"$f":"VLOOKUP(R197,Lookup!A:B,2,FALSE)","v":"--"},null,{"$f":"IF(E197&F197&G197&I197&K197&M197=\"\",\"\",IF(OR(H197=\"\",D197=\"\",AND(AC197=0,'Contents & 6mo Restriction'!$BE$1=FALSE)),1,0))","v":""},"",0,0,0,0,0,0,null,null,null,null,null,null,null,null,null,null,null,null,null,null,null,null,null,null,null,null,null,null,null,null,null,null,null,null,null,null,null,null,null,null,null,null,null,null,null,null,null,null,null,null,null,null,null,null,null,null,null,null,null,null,null,null,null,null,null,null,null,null,null,null,null,null,null,null,null,null,null,null,null,null,null,null,null,null,null,null,null,null,null,null,null,null,null,null,null,null,null,null,null,null,null,null,null,null,null,null,null,null,0,0,""]
[null,null,null,null,null,null,null,null,null,null,null,null,null,null,"X","X","X","X",{"$f":"VLOOKUP(P198,Lookup!A:B,2,FALSE)","v":"--"},{"$f":"VLOOKUP(Q198,Lookup!A:B,2,FALSE)","v":"--"},{"$f":"VLOOKUP(R198,Lookup!A:B,2,FALSE)","v":"--"},null,{"$f":"IF(E198&F198&G198&I198&K198&M198=\"\",\"\",IF(OR(H198=\"\",D198=\"\",AND(AC198=0,'Contents & 6mo Restriction'!$BE$1=FALSE)),1,0))","v":""},"",0,0,0,0,0,0,null,null,null,null,null,null,null,null,null,null,null,null,null,null,null,null,null,null,null,null,null,null,null,null,null,null,null,null,null,null,null,null,null,null,null,null,null,null,null,null,null,null,null,null,null,null,null,null,null,null,null,null,null,null,null,null,null,null,null,null,null,null,null,null,null,null,null,null,null,null,null,null,null,null,null,null,null,null,null,null,null,null,null,null,null,null,null,null,null,null,null,null,null,null,null,null,null,null,null,null,null,null,0,0,""]
[null,null,null,null,null,null,null,null,null,null,null,null,null,null,"X","X","X","X",{"$f":"VLOOKUP(P199,Lookup!A:B,2,FALSE)","v":"--"},{"$f":"VLOOKUP(Q199,Lookup!A:B,2,FALSE)","v":"--"},{"$f":"VLOOKUP(R199,Lookup!A:B,2,FALSE)","v":"--"},null,{"$f":"IF(E199&F199&G199&I199&K199&M199=\"\",\"\",IF(OR(H199=\"\",D199=\"\",AND(AC199=0,'Contents & 6mo Restriction'!$BE$1=FALSE)),1,0))","v":""},"",0,0,0,0,0,0,null,null,null,null,null,null,null,null,null,null,null,null,null,null,null,null,null,null,null,null,null,null,null,null,null,null,null,null,null,null,null,null,null,null,null,null,null,null,null,null,null,null,null,null,null,null,null,null,null,null,null,null,null,null,null,null,null,null,null,null,null,null,null,null,null,null,null,null,null,null,null,null,null,null,null,null,null,null,null,null,null,null,null,null,null,null,null,null,null,null,null,null,null,null,null,null,null,null,null,null,null,null,0,0,""]
[null,null,null,null,null,null,null,null,null,null,null,null,null,null,"X","X","X","X",{"$f":"VLOOKUP(P200,Lookup!A:B,2,FALSE)","v":"--"},{"$f":"VLOOKUP(Q200,Lookup!A:B,2,FALSE)","v":"--"},{"$f":"VLOOKUP(R200,Lookup!A:B,2,FALSE)","v":"--"},null,{"$f":"IF(E200&F200&G200&I200&K200&M200=\"\",\"\",IF(OR(H200=\"\",D200=\"\",AND(AC200=0,'Contents & 6mo Restriction'!$BE$1=FALSE)),1,0))","v":""},"",0,0,0,0,0,0,null,null,null,null,null,null,null,null,null,null,null,null,null,null,null,null,null,null,null,null,null,null,null,null,null,null,null,null,null,null,null,null,null,null,null,null,null,null,null,null,null,null,null,null,null,null,null,null,null,null,null,null,null,null,null,null,null,null,null,null,null,null,null,null,null,null,null,null,null,null,null,null,null,null,null,null,null,null,null,null,null,null,null,null,null,null,null,null,null,null,null,null,null,null,null,null,null,null,null,null,null,null,0,0,""]
[null,null,null,null,null,null,null,null,null,null,null,null,null,null,"X","X","X","X",{"$f":"VLOOKUP(P201,Lookup!A:B,2,FALSE)","v":"--"},{"$f":"VLOOKUP(Q201,Lookup!A:B,2,FALSE)","v":"--"},{"$f":"VLOOKUP(R201,Lookup!A:B,2,FALSE)","v":"--"},null,{"$f":"IF(E201&F201&G201&I201&K201&M201=\"\",\"\",IF(OR(H201=\"\",D201=\"\",AND(AC201=0,'Contents & 6mo Restriction'!$BE$1=FALSE)),1,0))","v":""},"",0,0,0,0,0,0,null,null,null,null,null,null,null,null,null,null,null,null,null,null,null,null,null,null,null,null,null,null,null,null,null,null,null,null,null,null,null,null,null,null,null,null,null,null,null,null,null,null,null,null,null,null,null,null,null,null,null,null,null,null,null,null,null,null,null,null,null,null,null,null,null,null,null,null,null,null,null,null,null,null,null,null,null,null,null,null,null,null,null,null,null,null,null,null,null,null,null,null,null,null,null,null,null,null,null,null,null,null,0,0,""]
[null,null,null,null,null,null,null,null,null,null,null,null,null,null,"X","X","X","X",{"$f":"VLOOKUP(P202,Lookup!A:B,2,FALSE)","v":"--"},{"$f":"VLOOKUP(Q202,Lookup!A:B,2,FALSE)","v":"--"},{"$f":"VLOOKUP(R202,Lookup!A:B,2,FALSE)","v":"--"},null,{"$f":"IF(E202&F202&G202&I202&K202&M202=\"\",\"\",IF(OR(H202=\"\",D202=\"\",AND(AC202=0,'Contents & 6mo Restriction'!$BE$1=FALSE)),1,0))","v":""},"",0,0,0,0,0,0,null,null,null,null,null,null,null,null,null,null,null,null,null,null,null,null,null,null,null,null,null,null,null,null,null,null,null,null,null,null,null,null,null,null,null,null,null,null,null,null,null,null,null,null,null,null,null,null,null,null,null,null,null,null,null,null,null,null,null,null,null,null,null,null,null,null,null,null,null,null,null,null,null,null,null,null,null,null,null,null,null,null,null,null,null,null,null,null,null,null,null,null,null,null,null,null,null,null,null,null,null,null,0,0,""]
[null,null,null,null,null,null,null,null,null,null,null,null,null,null,"X","X","X","X",{"$f":"VLOOKUP(P203,Lookup!A:B,2,FALSE)","v":"--"},{"$f":"VLOOKUP(Q203,Lookup!A:B,2,FALSE)","v":"--"},{"$f":"VLOOKUP(R203,Lookup!A:B,2,FALSE)","v":"--"},null,{"$f":"IF(E203&F203&G203&I203&K203&M203=\"\",\"\",IF(OR(H203=\"\",D203=\"\",AND(AC203=0,'Contents & 6mo Restriction'!$BE$1=FALSE)),1,0))","v":""},"",0,0,0,0,0,0,null,null,null,null,null,null,null,null,null,null,null,null,null,null,null,null,null,null,null,null,null,null,null,null,null,null,null,null,null,null,null,null,null,null,null,null,null,null,null,null,null,null,null,null,null,null,null,null,null,null,null,null,null,null,null,null,null,null,null,null,null,null,null,null,null,null,null,null,null,null,null,null,null,null,null,null,null,null,null,null,null,null,null,null,null,null,null,null,null,null,null,null,null,null,null,null,null,null,null,null,null,null,0,0,""]
[null,null,null,null,null,null,null,null,null,null,null,null,null,null,"X","X","X","X",{"$f":"VLOOKUP(P204,Lookup!A:B,2,FALSE)","v":"--"},{"$f":"VLOOKUP(Q204,Lookup!A:B,2,FALSE)","v":"--"},{"$f":"VLOOKUP(R204,Lookup!A:B,2,FALSE)","v":"--"},null,{"$f":"IF(E204&F204&G204&I204&K204&M204=\"\",\"\",IF(OR(H204=\"\",D204=\"\",AND(AC204=0,'Contents & 6mo Restriction'!$BE$1=FALSE)),1,0))","v":""},"",0,0,0,0,0,0,null,null,null,null,null,null,null,null,null,null,null,null,null,null,null,null,null,null,null,null,null,null,null,null,null,null,null,null,null,null,null,null,null,null,null,null,null,null,null,null,null,null,null,null,null,null,null,null,null,null,null,null,null,null,null,null,null,null,null,null,null,null,null,null,null,null,null,null,null,null,null,null,null,null,null,null,null,null,null,null,null,null,null,null,null,null,null,null,null,null,null,null,null,null,null,null,null,null,null,null,null,null,0,0,""]
[null,null,null,null,null,null,null,null,null,null,null,null,null,null,"X","X","X","X",{"$f":"VLOOKUP(P205,Lookup!A:B,2,FALSE)","v":"--"},{"$f":"VLOOKUP(Q205,Lookup!A:B,2,FALSE)","v":"--"},{"$f":"VLOOKUP(R205,Lookup!A:B,2,FALSE)","v":"--"},null,{"$f":"IF(E205&F205&G205&I205&K205&M205=\"\",\"\",IF(OR(H205=\"\",D205=\"\",AND(AC205=0,'Contents & 6mo Restriction'!$BE$1=FALSE)),1,0))","v":""},"",0,0,0,0,0,0,null,null,null,null,null,null,null,null,null,null,null,null,null,null,null,null,null,null,null,null,null,null,null,null,null,null,null,null,null,null,null,null,null,null,null,null,null,null,null,null,null,null,null,null,null,null,null,null,null,null,null,null,null,null,null,null,null,null,null,null,null,null,null,null,null,null,null,null,null,null,null,null,null,null,null,null,null,null,null,null,null,null,null,null,null,null,null,null,null,null,null,null,null,null,null,null,null,null,null,null,null,null,0,0,""]
[null,null,null,null,null,null,null,null,null,null,null,null,null,null,"X","X","X","X",{"$f":"VLOOKUP(P206,Lookup!A:B,2,FALSE)","v":"--"},{"$f":"VLOOKUP(Q206,Lookup!A:B,2,FALSE)","v":"--"},{"$f":"VLOOKUP(R206,Lookup!A:B,2,FALSE)","v":"--"},null,{"$f":"IF(E206&F206&G206&I206&K206&M206=\"\",\"\",IF(OR(H206=\"\",D206=\"\",AND(AC206=0,'Contents & 6mo Restriction'!$BE$1=FALSE)),1,0))","v":""},"",0,0,0,0,0,0,null,null,null,null,null,null,null,null,null,null,null,null,null,null,null,null,null,null,null,null,null,null,null,null,null,null,null,null,null,null,null,null,null,null,null,null,null,null,null,null,null,null,null,null,null,null,null,null,null,null,null,null,null,null,null,null,null,null,null,null,null,null,null,null,null,null,null,null,null,null,null,null,null,null,null,null,null,null,null,null,null,null,null,null,null,null,null,null,null,null,null,null,null,null,null,null,null,null,null,null,null,null,0,0,""]
[null,null,null,null,null,null,null,null,null,null,null,null,null,null,"X","X","X","X",{"$f":"VLOOKUP(P207,Lookup!A:B,2,FALSE)","v":"--"},{"$f":"VLOOKUP(Q207,Lookup!A:B,2,FALSE)","v":"--"},{"$f":"VLOOKUP(R207,Lookup!A:B,2,FALSE)","v":"--"},null,{"$f":"IF(E207&F207&G207&I207&K207&M207=\"\",\"\",IF(OR(H207=\"\",D207=\"\",AND(AC207=0,'Contents & 6mo Restriction'!$BE$1=FALSE)),1,0))","v":""},"",0,0,0,0,0,0,null,null,null,null,null,null,null,null,null,null,null,null,null,null,null,null,null,null,null,null,null,null,null,null,null,null,null,null,null,null,null,null,null,null,null,null,null,null,null,null,null,null,null,null,null,null,null,null,null,null,null,null,null,null,null,null,null,null,null,null,null,null,null,null,null,null,null,null,null,null,null,null,null,null,null,null,null,null,null,null,null,null,null,null,null,null,null,null,null,null,null,null,null,null,null,null,null,null,null,null,null,null,0,0,""]
[null,null,null,null,null,null,null,null,null,null,null,null,null,null,"X","X","X","X",{"$f":"VLOOKUP(P208,Lookup!A:B,2,FALSE)","v":"--"},{"$f":"VLOOKUP(Q208,Lookup!A:B,2,FALSE)","v":"--"},{"$f":"VLOOKUP(R208,Lookup!A:B,2,FALSE)","v":"--"},null,{"$f":"IF(E208&F208&G208&I208&K208&M208=\"\",\"\",IF(OR(H208=\"\",D208=\"\",AND(AC208=0,'Contents & 6mo Restriction'!$BE$1=FALSE)),1,0))","v":""},"",0,0,0,0,0,0,null,null,null,null,null,null,null,null,null,null,null,null,null,null,null,null,null,null,null,null,null,null,null,null,null,null,null,null,null,null,null,null,null,null,null,null,null,null,null,null,null,null,null,null,null,null,null,null,null,null,null,null,null,null,null,null,null,null,null,null,null,null,null,null,null,null,null,null,null,null,null,null,null,null,null,null,null,null,null,null,null,null,null,null,null,null,null,null,null,null,null,null,null,null,null,null,null,null,null,null,null,null,0,0,""]
[null,null,null,null,null,null,null,null,null,null,null,null,null,null,"X","X","X","X",{"$f":"VLOOKUP(P209,Lookup!A:B,2,FALSE)","v":"--"},{"$f":"VLOOKUP(Q209,Lookup!A:B,2,FALSE)","v":"--"},{"$f":"VLOOKUP(R209,Lookup!A:B,2,FALSE)","v":"--"},null,{"$f":"IF(E209&F209&G209&I209&K209&M209=\"\",\"\",IF(OR(H209=\"\",D209=\"\",AND(AC209=0,'Contents & 6mo Restriction'!$BE$1=FALSE)),1,0))","v":""},"",0,0,0,0,0,0,null,null,null,null,null,null,null,null,null,null,null,null,null,null,null,null,null,null,null,null,null,null,null,null,null,null,null,null,null,null,null,null,null,null,null,null,null,null,null,null,null,null,null,null,null,null,null,null,null,null,null,null,null,null,null,null,null,null,null,null,null,null,null,null,null,null,null,null,null,null,null,null,null,null,null,null,null,null,null,null,null,null,null,null,null,null,null,null,null,null,null,null,null,null,null,null,null,null,null,null,null,null,0,0,""]
[null,null,null,null,null,null,null,null,null,null,null,null,null,null,"X","X","X","X",{"$f":"VLOOKUP(P210,Lookup!A:B,2,FALSE)","v":"--"},{"$f":"VLOOKUP(Q210,Lookup!A:B,2,FALSE)","v":"--"},{"$f":"VLOOKUP(R210,Lookup!A:B,2,FALSE)","v":"--"},null,{"$f":"IF(E210&F210&G210&I210&K210&M210=\"\",\"\",IF(OR(H210=\"\",D210=\"\",AND(AC210=0,'Contents & 6mo Restriction'!$BE$1=FALSE)),1,0))","v":""},"",0,0,0,0,0,0,null,null,null,null,null,null,null,null,null,null,null,null,null,null,null,null,null,null,null,null,null,null,null,null,null,null,null,null,null,null,null,null,null,null,null,null,null,null,null,null,null,null,null,null,null,null,null,null,null,null,null,null,null,null,null,null,null,null,null,null,null,null,null,null,null,null,null,null,null,null,null,null,null,null,null,null,null,null,null,null,null,null,null,null,null,null,null,null,null,null,null,null,null,null,null,null,null,null,null,null,null,null,0,0,""]
[null,null,null,null,null,null,null,null,null,null,null,null,null,null,"X","X","X","X",{"$f":"VLOOKUP(P211,Lookup!A:B,2,FALSE)","v":"--"},{"$f":"VLOOKUP(Q211,Lookup!A:B,2,FALSE)","v":"--"},{"$f":"VLOOKUP(R211,Lookup!A:B,2,FALSE)","v":"--"},null,{"$f":"IF(E211&F211&G211&I211&K211&M211=\"\",\"\",IF(OR(H211=\"\",D211=\"\",AND(AC211=0,'Contents & 6mo Restriction'!$BE$1=FALSE)),1,0))","v":""},"",0,0,0,0,0,0,null,null,null,null,null,null,null,null,null,null,null,null,null,null,null,null,null,null,null,null,null,null,null,null,null,null,null,null,null,null,null,null,null,null,null,null,null,null,null,null,null,null,null,null,null,null,null,null,null,null,null,null,null,null,null,null,null,null,null,null,null,null,null,null,null,null,null,null,null,null,null,null,null,null,null,null,null,null,null,null,null,null,null,null,null,null,null,null,null,null,null,null,null,null,null,null,null,null,null,null,null,null,0,0,""]
[null,null,null,null,null,null,null,null,null,null,null,null,null,null,"X","X","X","X",{"$f":"VLOOKUP(P212,Lookup!A:B,2,FALSE)","v":"--"},{"$f":"VLOOKUP(Q212,Lookup!A:B,2,FALSE)","v":"--"},{"$f":"VLOOKUP(R212,Lookup!A:B,2,FALSE)","v":"--"},null,{"$f":"IF(E212&F212&G212&I212&K212&M212=\"\",\"\",IF(OR(H212=\"\",D212=\"\",AND(AC212=0,'Contents & 6mo Restriction'!$BE$1=FALSE)),1,0))","v":""},"",0,0,0,0,0,0,null,null,null,null,null,null,null,null,null,null,null,null,null,null,null,null,null,null,null,null,null,null,null,null,null,null,null,null,null,null,null,null,null,null,null,null,null,null,null,null,null,null,null,null,null,null,null,null,null,null,null,null,null,null,null,null,null,null,null,null,null,null,null,null,null,null,null,null,null,null,null,null,null,null,null,null,null,null,null,null,null,null,null,null,null,null,null,null,null,null,null,null,null,null,null,null,null,null,null,null,null,null,0,0,""]
[null,null,null,null,null,null,null,null,null,null,null,null,null,null,"X","X","X","X",{"$f":"VLOOKUP(P213,Lookup!A:B,2,FALSE)","v":"--"},{"$f":"VLOOKUP(Q213,Lookup!A:B,2,FALSE)","v":"--"},{"$f":"VLOOKUP(R213,Lookup!A:B,2,FALSE)","v":"--"},null,{"$f":"IF(E213&F213&G213&I213&K213&M213=\"\",\"\",IF(OR(H213=\"\",D213=\"\",AND(AC213=0,'Contents & 6mo Restriction'!$BE$1=FALSE)),1,0))","v":""},"",0,0,0,0,0,0,null,null,null,null,null,null,null,null,null,null,null,null,null,null,null,null,null,null,null,null,null,null,null,null,null,null,null,null,null,null,null,null,null,null,null,null,null,null,null,null,null,null,null,null,null,null,null,null,null,null,null,null,null,null,null,null,null,null,null,null,null,null,null,null,null,null,null,null,null,null,null,null,null,null,null,null,null,null,null,null,null,null,null,null,null,null,null,null,null,null,null,null,null,null,null,null,null,null,null,null,null,null,0,{"$f":"IF(ISERROR(FIND(\"progress\",S213&T213&U213)),0,1)","v":0},""]
[null,null,null,null,null,null,null,null,null,null,null,null,null,null,"X","X","X","X",{"$f":"VLOOKUP(P214,Lookup!A:B,2,FALSE)","v":"--"},{"$f":"VLOOKUP(Q214,Lookup!A:B,2,FALSE)","v":"--"},{"$f":"VLOOKUP(R214,Lookup!A:B,2,FALSE)","v":"--"},null,{"$f":"IF(E214&F214&G214&I214&K214&M214=\"\",\"\",IF(OR(H214=\"\",D214=\"\",AND(AC214=0,'Contents & 6mo Restriction'!$BE$1=FALSE)),1,0))","v":""},{"$f":"IF(CONCATENATE(B214,C214,E214,F214,G214)=\"\",\"\",1)","v":""},{"$f":"IF(AND(W214=0,OR(S214=\"a\",S214=\"b\",S214=\"c\",S214=\"d\",S214=\"e\",T214=\"a\",T214=\"b\",T214=\"c\",T214=\"d\",T214=\"e\",U214=\"a\",U214=\"b\",U214=\"c\",U214=\"d\",U214=\"e\")),1,0)","v":0},{"$f":"IF(AND(OR(S214=\"a\",S214=\"b\",S214=\"c\",S214=\"d\",S214=\"e\"),OR(T214=\"a\",T214=\"b\",T214=\"c\",T214=\"d\",T214=\"e\"),OR(U214=\"a\",U214=\"b\",U214=\"c\",U214=\"d\",U214=\"e\"),W214=0),1,0)","v":0},{"$f":"IF(SUM(AB214:AD214)>0,1,0)","v":0},{"$f":"IF(H214>=DATE(YEAR(D214),MONTH(D214)+6,DAY(D214)),1,0)","v":0},{"$f":"IF(H214-D214>=182,1,0)","v":0},{"$f":"IF(OR(AND(MONTH(D214)=8,DAY(D214)=30,H214-D214>=182),AND(MONTH(D214)=8,DAY(D214)=31,H214-D214>=181),AND(MONTH(D214)=10,DAY(D214)=31,H214-D214>=181),AND(MONTH(D214)=12,DAY(D214)=31,H214-D214>=181)),1,0)","v":0},null,null,null,null,null,null,null,null,null,null,null,null,null,null,null,null,null,null,null,null,null,null,null,null,null,null,null,null,null,null,null,null,null,null,null,null,null,null,null,null,null,null,null,null,null,null,null,null,null,null,null,null,null,null,null,null,null,null,null,null,null,null,null,null,null,null,null,null,null,null,null,null,null,null,null,null,null,null,null,null,null,null,null,null,null,null,null,null,null,null,null,null,null,null,null,null,null,null,null,null,null,null,0,0,{"$f":"IFERROR(W214,\"Please enter valid dates\")","v":""}]
[null,null,null,null,null,null,null,null,null,null,null,null,null,null,"X","X","X","X",{"$f":"VLOOKUP(P215,Lookup!A:B,2,FALSE)","v":"--"},{"$f":"VLOOKUP(Q215,Lookup!A:B,2,FALSE)","v":"--"},{"$f":"VLOOKUP(R215,Lookup!A:B,2,FALSE)","v":"--"},null,{"$f":"IF(E215&F215&G215&I215&K215&M215=\"\",\"\",IF(OR(H215=\"\",D215=\"\",AND(AC215=0,'Contents & 6mo Restriction'!$BE$1=FALSE)),1,0))","v":""},"",0,0,0,0,0,0,null,null,null,null,null,null,null,null,null,null,null,null,null,null,null,null,null,null,null,null,null,null,null,null,null,null,null,null,null,null,null,null,null,null,null,null,null,null,null,null,null,null,null,null,null,null,null,null,null,null,null,null,null,null,null,null,null,null,null,null,null,null,null,null,null,null,null,null,null,null,null,null,null,null,null,null,null,null,null,null,null,null,null,null,null,null,null,null,null,null,null,null,null,null,null,null,null,null,null,null,null,null,0,0,""]
[null,null,null,null,null,null,null,null,null,null,null,null,null,null,"X","X","X","X",{"$f":"VLOOKUP(P216,Lookup!A:B,2,FALSE)","v":"--"},{"$f":"VLOOKUP(Q216,Lookup!A:B,2,FALSE)","v":"--"},{"$f":"VLOOKUP(R216,Lookup!A:B,2,FALSE)","v":"--"},null,{"$f":"IF(E216&F216&G216&I216&K216&M216=\"\",\"\",IF(OR(H216=\"\",D216=\"\",AND(AC216=0,'Contents & 6mo Restriction'!$BE$1=FALSE)),1,0))","v":""},"",0,0,0,0,0,0,null,null,null,null,null,null,null,null,null,null,null,null,null,null,null,null,null,null,null,null,null,null,null,null,null,null,null,null,null,null,null,null,null,null,null,null,null,null,null,null,null,null,null,null,null,null,null,null,null,null,null,null,null,null,null,null,null,null,null,null,null,null,null,null,null,null,null,null,null,null,null,null,null,null,null,null,null,null,null,null,null,null,null,null,null,null,null,null,null,null,null,null,null,null,null,null,null,null,null,null,null,null,0,0,""]
[null,null,null,null,null,null,null,null,null,null,null,null,null,null,"X","X","X","X",{"$f":"VLOOKUP(P217,Lookup!A:B,2,FALSE)","v":"--"},{"$f":"VLOOKUP(Q217,Lookup!A:B,2,FALSE)","v":"--"},{"$f":"VLOOKUP(R217,Lookup!A:B,2,FALSE)","v":"--"},null,{"$f":"IF(E217&F217&G217&I217&K217&M217=\"\",\"\",IF(OR(H217=\"\",D217=\"\",AND(AC217=0,'Contents & 6mo Restriction'!$BE$1=FALSE)),1,0))","v":""},"",0,0,0,0,0,0,null,null,null,null,null,null,null,null,null,null,null,null,null,null,null,null,null,null,null,null,null,null,null,null,null,null,null,null,null,null,null,null,null,null,null,null,null,null,null,null,null,null,null,null,null,null,null,null,null,null,null,null,null,null,null,null,null,null,null,null,null,null,null,null,null,null,null,null,null,null,null,null,null,null,null,null,null,null,null,null,null,null,null,null,null,null,null,null,null,null,null,null,null,null,null,null,null,null,null,null,null,null,0,0,""]
[null,null,null,null,null,null,null,null,null,null,null,null,null,null,"X","X","X","X",{"$f":"VLOOKUP(P218,Lookup!A:B,2,FALSE)","v":"--"},{"$f":"VLOOKUP(Q218,Lookup!A:B,2,FALSE)","v":"--"},{"$f":"VLOOKUP(R218,Lookup!A:B,2,FALSE)","v":"--"},null,{"$f":"IF(E218&F218&G218&I218&K218&M218=\"\",\"\",IF(OR(H218=\"\",D218=\"\",AND(AC218=0,'Contents & 6mo Restriction'!$BE$1=FALSE)),1,0))","v":""},"",0,0,0,0,0,0,null,null,null,null,null,null,null,null,null,null,null,null,null,null,null,null,null,null,null,null,null,null,null,null,null,null,null,null,null,null,null,null,null,null,null,null,null,null,null,null,null,null,null,null,null,null,null,null,null,null,null,null,null,null,null,null,null,null,null,null,null,null,null,null,null,null,null,null,null,null,null,null,null,null,null,null,null,null,null,null,null,null,null,null,null,null,null,null,null,null,null,null,null,null,null,null,null,null,null,null,null,null,{"$f":"IF(ISERROR(FIND(\"Impossible\",S218&T218&U218)),0,1)","v":0},0,""]
[null,null,null,null,null,null,null,null,null,null,null,null,null,null,"X","X","X","X",{"$f":"VLOOKUP(P219,Lookup!A:B,2,FALSE)","v":"--"},{"$f":"VLOOKUP(Q219,Lookup!A:B,2,FALSE)","v":"--"},{"$f":"VLOOKUP(R219,Lookup!A:B,2,FALSE)","v":"--"},null,{"$f":"IF(E219&F219&G219&I219&K219&M219=\"\",\"\",IF(OR(H219=\"\",D219=\"\",AND(AC219=0,'Contents & 6mo Restriction'!$BE$1=FALSE)),1,0))","v":""},"",0,0,0,0,0,0,null,null,null,null,null,null,null,null,null,null,null,null,null,null,null,null,null,null,null,null,null,null,null,null,null,null,null,null,null,null,null,null,null,null,null,null,null,null,null,null,null,null,null,null,null,null,null,null,null,null,null,null,null,null,null,null,null,null,null,null,null,null,null,null,null,null,null,null,null,null,null,null,null,null,null,null,null,null,null,null,null,null,null,null,null,null,null,null,null,null,null,null,null,null,null,null,null,null,null,null,null,null,0,0,""]
[null,null,null,null,null,null,null,null,null,null,null,null,null,null,"X","X","X","X",{"$f":"VLOOKUP(P220,Lookup!A:B,2,FALSE)","v":"--"},{"$f":"VLOOKUP(Q220,Lookup!A:B,2,FALSE)","v":"--"},{"$f":"VLOOKUP(R220,Lookup!A:B,2,FALSE)","v":"--"},null,{"$f":"IF(E220&F220&G220&I220&K220&M220=\"\",\"\",IF(OR(H220=\"\",D220=\"\",AND(AC220=0,'Contents & 6mo Restriction'!$BE$1=FALSE)),1,0))","v":""},"",0,0,0,0,0,0,null,null,null,null,null,null,null,null,null,null,null,null,null,null,null,null,null,null,null,null,null,null,null,null,null,null,null,null,null,null,null,null,null,null,null,null,null,null,null,null,null,null,null,null,null,null,null,null,null,null,null,null,null,null,null,null,null,null,null,null,null,null,null,null,null,null,null,null,null,null,null,null,null,null,null,null,null,null,null,null,null,null,null,null,null,null,null,null,null,null,null,null,null,null,null,null,null,null,null,null,null,null,0,0,""]
[null,null,null,null,null,null,null,null,null,null,null,null,null,null,"X","X","X","X",{"$f":"VLOOKUP(P221,Lookup!A:B,2,FALSE)","v":"--"},{"$f":"VLOOKUP(Q221,Lookup!A:B,2,FALSE)","v":"--"},{"$f":"VLOOKUP(R221,Lookup!A:B,2,FALSE)","v":"--"},null,{"$f":"IF(E221&F221&G221&I221&K221&M221=\"\",\"\",IF(OR(H221=\"\",D221=\"\",AND(AC221=0,'Contents & 6mo Restriction'!$BE$1=FALSE)),1,0))","v":""},"",0,0,0,0,0,0,null,null,null,null,null,null,null,null,null,null,null,null,null,null,null,null,null,null,null,null,null,null,null,null,null,null,null,null,null,null,null,null,null,null,null,null,null,null,null,null,null,null,null,null,null,null,null,null,null,null,null,null,null,null,null,null,null,null,null,null,null,null,null,null,null,null,null,null,null,null,null,null,null,null,null,null,null,null,null,null,null,null,null,null,null,null,null,null,null,null,null,null,null,null,null,null,null,null,null,null,null,null,0,0,""]
[null,null,null,null,null,null,null,null,null,null,null,null,null,null,"X","X","X","X",{"$f":"VLOOKUP(P222,Lookup!A:B,2,FALSE)","v":"--"},{"$f":"VLOOKUP(Q222,Lookup!A:B,2,FALSE)","v":"--"},{"$f":"VLOOKUP(R222,Lookup!A:B,2,FALSE)","v":"--"},null,{"$f":"IF(E222&F222&G222&I222&K222&M222=\"\",\"\",IF(OR(H222=\"\",D222=\"\",AND(AC222=0,'Contents & 6mo Restriction'!$BE$1=FALSE)),1,0))","v":""},"",0,0,0,0,0,0,null,null,null,null,null,null,null,null,null,null,null,null,null,null,null,null,null,null,null,null,null,null,null,null,null,null,null,null,null,null,null,null,null,null,null,null,null,null,null,null,null,null,null,null,null,null,null,null,null,null,null,null,null,null,null,null,null,null,null,null,null,null,null,null,null,null,null,null,null,null,null,null,null,null,null,null,null,null,null,null,null,null,null,null,null,null,null,null,null,null,null,null,null,null,null,null,null,null,null,null,null,null,0,0,""]
[null,null,null,null,null,null,null,null,null,null,null,null,null,null,"X","X","X","X",{"$f":"VLOOKUP(P223,Lookup!A:B,2,FALSE)","v":"--"},{"$f":"VLOOKUP(Q223,Lookup!A:B,2,FALSE)","v":"--"},{"$f":"VLOOKUP(R223,Lookup!A:B,2,FALSE)","v":"--"},null,{"$f":"IF(E223&F223&G223&I223&K223&M223=\"\",\"\",IF(OR(H223=\"\",D223=\"\",AND(AC223=0,'Contents & 6mo Restriction'!$BE$1=FALSE)),1,0))","v":""},"",0,0,0,0,0,0,null,null,null,null,null,null,null,null,null,null,null,null,null,null,null,null,null,null,null,null,null,null,null,null,null,null,null,null,null,null,null,null,null,null,null,null,null,null,null,null,null,null,null,null,null,null,null,null,null,null,null,null,null,null,null,null,null,null,null,null,null,null,null,null,null,null,null,null,null,null,null,null,null,null,null,null,null,null,null,null,null,null,null,null,null,null,null,null,null,null,null,null,null,null,null,null,null,null,null,null,null,null,0,0,""]
[null,null,null,null,null,null,null,null,null,null,null,null,null,null,"X","X","X","X",{"$f":"VLOOKUP(P224,Lookup!A:B,2,FALSE)","v":"--"},{"$f":"VLOOKUP(Q224,Lookup!A:B,2,FALSE)","v":"--"},{"$f":"VLOOKUP(R224,Lookup!A:B,2,FALSE)","v":"--"},null,{"$f":"IF(E224&F224&G224&I224&K224&M224=\"\",\"\",IF(OR(H224=\"\",D224=\"\",AND(AC224=0,'Contents & 6mo Restriction'!$BE$1=FALSE)),1,0))","v":""},"",0,0,0,0,0,0,null,null,null,null,null,null,null,null,null,null,null,null,null,null,null,null,null,null,null,null,null,null,null,null,null,null,null,null,null,null,null,null,null,null,null,null,null,null,null,null,null,null,null,null,null,null,null,null,null,null,null,null,null,null,null,null,null,null,null,null,null,null,null,null,null,null,null,null,null,null,null,null,null,null,null,null,null,null,null,null,null,null,null,null,null,null,null,null,null,null,null,null,null,null,null,null,null,null,null,null,null,null,0,0,""]
[null,null,null,null,null,null,null,null,null,null,null,null,null,null,"X","X","X","X",{"$f":"VLOOKUP(P225,Lookup!A:B,2,FALSE)","v":"--"},{"$f":"VLOOKUP(Q225,Lookup!A:B,2,FALSE)","v":"--"},{"$f":"VLOOKUP(R225,Lookup!A:B,2,FALSE)","v":"--"},null,{"$f":"IF(E225&F225&G225&I225&K225&M225=\"\",\"\",IF(OR(H225=\"\",D225=\"\",AND(AC225=0,'Contents & 6mo Restriction'!$BE$1=FALSE)),1,0))","v":""},"",0,0,0,0,0,0,null,null,null,null,null,null,null,null,null,null,null,null,null,null,null,null,null,null,null,null,null,null,null,null,null,null,null,null,null,null,null,null,null,null,null,null,null,null,null,null,null,null,null,null,null,null,null,null,null,null,null,null,null,null,null,null,null,null,null,null,null,null,null,null,null,null,null,null,null,null,null,null,null,null,null,null,null,null,null,null,null,null,null,null,null,null,null,null,null,null,null,null,null,null,null,null,null,null,null,null,null,null,0,0,""]
[null,null,null,null,null,null,null,null,null,null,null,null,null,null,"X","X","X","X",{"$f":"VLOOKUP(P226,Lookup!A:B,2,FALSE)","v":"--"},{"$f":"VLOOKUP(Q226,Lookup!A:B,2,FALSE)","v":"--"},{"$f":"VLOOKUP(R226,Lookup!A:B,2,FALSE)","v":"--"},null,{"$f":"IF(E226&F226&G226&I226&K226&M226=\"\",\"\",IF(OR(H226=\"\",D226=\"\",AND(AC226=0,'Contents & 6mo Restriction'!$BE$1=FALSE)),1,0))","v":""},"",0,0,0,0,0,0,null,null,null,null,null,null,null,null,null,null,null,null,null,null,null,null,null,null,null,null,null,null,null,null,null,null,null,null,null,null,null,null,null,null,null,null,null,null,null,null,null,null,null,null,null,null,null,null,null,null,null,null,null,null,null,null,null,null,null,null,null,null,null,null,null,null,null,null,null,null,null,null,null,null,null,null,null,null,null,null,null,null,null,null,null,null,null,null,null,null,null,null,null,null,null,null,null,null,null,null,null,null,0,0,""]
[null,null,null,null,null,null,null,null,null,null,null,null,null,null,"X","X","X","X",{"$f":"VLOOKUP(P227,Lookup!A:B,2,FALSE)","v":"--"},{"$f":"VLOOKUP(Q227,Lookup!A:B,2,FALSE)","v":"--"},{"$f":"VLOOKUP(R227,Lookup!A:B,2,FALSE)","v":"--"},null,{"$f":"IF(E227&F227&G227&I227&K227&M227=\"\",\"\",IF(OR(H227=\"\",D227=\"\",AND(AC227=0,'Contents & 6mo Restriction'!$BE$1=FALSE)),1,0))","v":""},"",0,0,0,0,0,0,null,null,null,null,null,null,null,null,null,null,null,null,null,null,null,null,null,null,null,null,null,null,null,null,null,null,null,null,null,null,null,null,null,null,null,null,null,null,null,null,null,null,null,null,null,null,null,null,null,null,null,null,null,null,null,null,null,null,null,null,null,null,null,null,null,null,null,null,null,null,null,null,null,null,null,null,null,null,null,null,null,null,null,null,null,null,null,null,null,null,null,null,null,null,null,null,null,null,null,null,null,null,0,0,""]
[null,null,null,null,null,null,null,null,null,null,null,null,null,null,"X","X","X","X",{"$f":"VLOOKUP(P228,Lookup!A:B,2,FALSE)","v":"--"},{"$f":"VLOOKUP(Q228,Lookup!A:B,2,FALSE)","v":"--"},{"$f":"VLOOKUP(R228,Lookup!A:B,2,FALSE)","v":"--"},null,{"$f":"IF(E228&F228&G228&I228&K228&M228=\"\",\"\",IF(OR(H228=\"\",D228=\"\",AND(AC228=0,'Contents & 6mo Restriction'!$BE$1=FALSE)),1,0))","v":""},"",0,0,0,0,0,0,null,null,null,null,null,null,null,null,null,null,null,null,null,null,null,null,null,null,null,null,null,null,null,null,null,null,null,null,null,null,null,null,null,null,null,null,null,null,null,null,null,null,null,null,null,null,null,null,null,null,null,null,null,null,null,null,null,null,null,null,null,null,null,null,null,null,null,null,null,null,null,null,null,null,null,null,null,null,null,null,null,null,null,null,null,null,null,null,null,null,null,null,null,null,null,null,null,null,null,null,null,null,0,0,""]
[null,null,null,null,null,null,null,null,null,null,null,null,null,null,"X","X","X","X",{"$f":"VLOOKUP(P229,Lookup!A:B,2,FALSE)","v":"--"},{"$f":"VLOOKUP(Q229,Lookup!A:B,2,FALSE)","v":"--"},{"$f":"VLOOKUP(R229,Lookup!A:B,2,FALSE)","v":"--"},null,{"$f":"IF(E229&F229&G229&I229&K229&M229=\"\",\"\",IF(OR(H229=\"\",D229=\"\",AND(AC229=0,'Contents & 6mo Restriction'!$BE$1=FALSE)),1,0))","v":""},"",0,0,0,0,0,0,null,null,null,null,null,null,null,null,null,null,null,null,null,null,null,null,null,null,null,null,null,null,null,null,null,null,null,null,null,null,null,null,null,null,null,null,null,null,null,null,null,null,null,null,null,null,null,null,null,null,null,null,null,null,null,null,null,null,null,null,null,null,null,null,null,null,null,null,null,null,null,null,null,null,null,null,null,null,null,null,null,null,null,null,null,null,null,null,null,null,null,null,null,null,null,null,null,null,null,null,null,null,0,0,""]
[null,null,null,null,null,null,null,null,null,null,null,null,null,null,"X","X","X","X",{"$f":"VLOOKUP(P230,Lookup!A:B,2,FALSE)","v":"--"},{"$f":"VLOOKUP(Q230,Lookup!A:B,2,FALSE)","v":"--"},{"$f":"VLOOKUP(R230,Lookup!A:B,2,FALSE)","v":"--"},null,{"$f":"IF(E230&F230&G230&I230&K230&M230=\"\",\"\",IF(OR(H230=\"\",D230=\"\",AND(AC230=0,'Contents & 6mo Restriction'!$BE$1=FALSE)),1,0))","v":""},"",0,0,0,0,0,0,null,null,null,null,null,null,null,null,null,null,null,null,null,null,null,null,null,null,null,null,null,null,null,null,null,null,null,null,null,null,null,null,null,null,null,null,null,null,null,null,null,null,null,null,null,null,null,null,null,null,null,null,null,null,null,null,null,null,null,null,null,null,null,null,null,null,null,null,null,null,null,null,null,null,null,null,null,null,null,null,null,null,null,null,null,null,null,null,null,null,null,null,null,null,null,null,null,null,null,null,null,null,0,0,""]
[null,null,null,null,null,null,null,null,null,null,null,null,null,null,"X","X","X","X",{"$f":"VLOOKUP(P231,Lookup!A:B,2,FALSE)","v":"--"},{"$f":"VLOOKUP(Q231,Lookup!A:B,2,FALSE)","v":"--"},{"$f":"VLOOKUP(R231,Lookup!A:B,2,FALSE)","v":"--"},null,{"$f":"IF(E231&F231&G231&I231&K231&M231=\"\",\"\",IF(OR(H231=\"\",D231=\"\",AND(AC231=0,'Contents & 6mo Restriction'!$BE$1=FALSE)),1,0))","v":""},"",0,0,0,0,0,0,null,null,null,null,null,null,null,null,null,null,null,null,null,null,null,null,null,null,null,null,null,null,null,null,null,null,null,null,null,null,null,null,null,null,null,null,null,null,null,null,null,null,null,null,null,null,null,null,null,null,null,null,null,null,null,null,null,null,null,null,null,null,null,null,null,null,null,null,null,null,null,null,null,null,null,null,null,null,null,null,null,null,null,null,null,null,null,null,null,null,null,null,null,null,null,null,null,null,null,null,null,null,0,0,""]
[null,null,null,null,null,null,null,null,null,null,null,null,null,null,"X","X","X","X",{"$f":"VLOOKUP(P232,Lookup!A:B,2,FALSE)","v":"--"},{"$f":"VLOOKUP(Q232,Lookup!A:B,2,FALSE)","v":"--"},{"$f":"VLOOKUP(R232,Lookup!A:B,2,FALSE)","v":"--"},null,{"$f":"IF(E232&F232&G232&I232&K232&M232=\"\",\"\",IF(OR(H232=\"\",D232=\"\",AND(AC232=0,'Contents & 6mo Restriction'!$BE$1=FALSE)),1,0))","v":""},"",0,0,0,0,0,0,null,null,null,null,null,null,null,null,null,null,null,null,null,null,null,null,null,null,null,null,null,null,null,null,null,null,null,null,null,null,null,null,null,null,null,null,null,null,null,null,null,null,null,null,null,null,null,null,null,null,null,null,null,null,null,null,null,null,null,null,null,null,null,null,null,null,null,null,null,null,null,null,null,null,null,null,null,null,null,null,null,null,null,null,null,null,null,null,null,null,null,null,null,null,null,null,null,null,null,null,null,null,0,0,""]
[null,null,null,null,null,null,null,null,null,null,null,null,null,null,"X","X","X","X",{"$f":"VLOOKUP(P233,Lookup!A:B,2,FALSE)","v":"--"},{"$f":"VLOOKUP(Q233,Lookup!A:B,2,FALSE)","v":"--"},{"$f":"VLOOKUP(R233,Lookup!A:B,2,FALSE)","v":"--"},null,{"$f":"IF(E233&F233&G233&I233&K233&M233=\"\",\"\",IF(OR(H233=\"\",D233=\"\",AND(AC233=0,'Contents & 6mo Restriction'!$BE$1=FALSE)),1,0))","v":""},"",0,0,0,0,0,0,null,null,null,null,null,null,null,null,null,null,null,null,null,null,null,null,null,null,null,null,null,null,null,null,null,null,null,null,null,null,null,null,null,null,null,null,null,null,null,null,null,null,null,null,null,null,null,null,null,null,null,null,null,null,null,null,null,null,null,null,null,null,null,null,null,null,null,null,null,null,null,null,null,null,null,null,null,null,null,null,null,null,null,null,null,null,null,null,null,null,null,null,null,null,null,null,null,null,null,null,null,null,0,0,""]
[null,null,null,null,null,null,null,null,null,null,null,null,null,null,"X","X","X","X",{"$f":"VLOOKUP(P234,Lookup!A:B,2,FALSE)","v":"--"},{"$f":"VLOOKUP(Q234,Lookup!A:B,2,FALSE)","v":"--"},{"$f":"VLOOKUP(R234,Lookup!A:B,2,FALSE)","v":"--"},null,{"$f":"IF(E234&F234&G234&I234&K234&M234=\"\",\"\",IF(OR(H234=\"\",D234=\"\",AND(AC234=0,'Contents & 6mo Restriction'!$BE$1=FALSE)),1,0))","v":""},"",0,0,0,0,0,0,null,null,null,null,null,null,null,null,null,null,null,null,null,null,null,null,null,null,null,null,null,null,null,null,null,null,null,null,null,null,null,null,null,null,null,null,null,null,null,null,null,null,null,null,null,null,null,null,null,null,null,null,null,null,null,null,null,null,null,null,null,null,null,null,null,null,null,null,null,null,null,null,null,null,null,null,null,null,null,null,null,null,null,null,null,null,null,null,null,null,null,null,null,null,null,null,null,null,null,null,null,null,0,0,""]
[null,null,null,null,null,null,null,null,null,null,null,null,null,null,"X","X","X","X",{"$f":"VLOOKUP(P235,Lookup!A:B,2,FALSE)","v":"--"},{"$f":"VLOOKUP(Q235,Lookup!A:B,2,FALSE)","v":"--"},{"$f":"VLOOKUP(R235,Lookup!A:B,2,FALSE)","v":"--"},null,{"$f":"IF(E235&F235&G235&I235&K235&M235=\"\",\"\",IF(OR(H235=\"\",D235=\"\",AND(AC235=0,'Contents & 6mo Restriction'!$BE$1=FALSE)),1,0))","v":""},"",0,0,0,0,0,0,null,null,null,null,null,null,null,null,null,null,null,null,null,null,null,null,null,null,null,null,null,null,null,null,null,null,null,null,null,null,null,null,null,null,null,null,null,null,null,null,null,null,null,null,null,null,null,null,null,null,null,null,null,null,null,null,null,null,null,null,null,null,null,null,null,null,null,null,null,null,null,null,null,null,null,null,null,null,null,null,null,null,null,null,null,null,null,null,null,null,null,null,null,null,null,null,null,null,null,null,null,null,0,0,""]
[null,null,null,null,null,null,null,null,null,null,null,null,null,null,"X","X","X","X",{"$f":"VLOOKUP(P236,Lookup!A:B,2,FALSE)","v":"--"},{"$f":"VLOOKUP(Q236,Lookup!A:B,2,FALSE)","v":"--"},{"$f":"VLOOKUP(R236,Lookup!A:B,2,FALSE)","v":"--"},null,{"$f":"IF(E236&F236&G236&I236&K236&M236=\"\",\"\",IF(OR(H236=\"\",D236=\"\",AND(AC236=0,'Contents & 6mo Restriction'!$BE$1=FALSE)),1,0))","v":""},"",0,0,0,0,0,0,null,null,null,null,null,null,null,null,null,null,null,null,null,null,null,null,null,null,null,null,null,null,null,null,null,null,null,null,null,null,null,null,null,null,null,null,null,null,null,null,null,null,null,null,null,null,null,null,null,null,null,null,null,null,null,null,null,null,null,null,null,null,null,null,null,null,null,null,null,null,null,null,null,null,null,null,null,null,null,null,null,null,null,null,null,null,null,null,null,null,null,null,null,null,null,null,null,null,null,null,null,null,0,0,""]
[null,null,null,null,null,null,null,null,null,null,null,null,null,null,"X","X","X","X",{"$f":"VLOOKUP(P237,Lookup!A:B,2,FALSE)","v":"--"},{"$f":"VLOOKUP(Q237,Lookup!A:B,2,FALSE)","v":"--"},{"$f":"VLOOKUP(R237,Lookup!A:B,2,FALSE)","v":"--"},null,{"$f":"IF(E237&F237&G237&I237&K237&M237=\"\",\"\",IF(OR(H237=\"\",D237=\"\",AND(AC237=0,'Contents & 6mo Restriction'!$BE$1=FALSE)),1,0))","v":""},"",0,0,0,0,0,0,null,null,null,null,null,null,null,null,null,null,null,null,null,null,null,null,null,null,null,null,null,null,null,null,null,null,null,null,null,null,null,null,null,null,null,null,null,null,null,null,null,null,null,null,null,null,null,null,null,null,null,null,null,null,null,null,null,null,null,null,null,null,null,null,null,null,null,null,null,null,null,null,null,null,null,null,null,null,null,null,null,null,null,null,null,null,null,null,null,null,null,null,null,null,null,null,null,null,null,null,null,null,0,0,""]
[null,null,null,null,null,null,null,null,null,null,null,null,null,null,"X","X","X","X",{"$f":"VLOOKUP(P238,Lookup!A:B,2,FALSE)","v":"--"},{"$f":"VLOOKUP(Q238,Lookup!A:B,2,FALSE)","v":"--"},{"$f":"VLOOKUP(R238,Lookup!A:B,2,FALSE)","v":"--"},null,{"$f":"IF(E238&F238&G238&I238&K238&M238=\"\",\"\",IF(OR(H238=\"\",D238=\"\",AND(AC238=0,'Contents & 6mo Restriction'!$BE$1=FALSE)),1,0))","v":""},"",0,0,0,0,0,0,null,null,null,null,null,null,null,null,null,null,null,null,null,null,null,null,null,null,null,null,null,null,null,null,null,null,null,null,null,null,null,null,null,null,null,null,null,null,null,null,null,null,null,null,null,null,null,null,null,null,null,null,null,null,null,null,null,null,null,null,null,null,null,null,null,null,null,null,null,null,null,null,null,null,null,null,null,null,null,null,null,null,null,null,null,null,null,null,null,null,null,null,null,null,null,null,null,null,null,null,null,null,0,0,""]
[null,null,null,null,null,null,null,null,null,null,null,null,null,null,"X","X","X","X",{"$f":"VLOOKUP(P239,Lookup!A:B,2,FALSE)","v":"--"},{"$f":"VLOOKUP(Q239,Lookup!A:B,2,FALSE)","v":"--"},{"$f":"VLOOKUP(R239,Lookup!A:B,2,FALSE)","v":"--"},null,{"$f":"IF(E239&F239&G239&I239&K239&M239=\"\",\"\",IF(OR(H239=\"\",D239=\"\",AND(AC239=0,'Contents & 6mo Restriction'!$BE$1=FALSE)),1,0))","v":""},"",0,0,0,0,0,0,null,null,null,null,null,null,null,null,null,null,null,null,null,null,null,null,null,null,null,null,null,null,null,null,null,null,null,null,null,null,null,null,null,null,null,null,null,null,null,null,null,null,null,null,null,null,null,null,null,null,null,null,null,null,null,null,null,null,null,null,null,null,null,null,null,null,null,null,null,null,null,null,null,null,null,null,null,null,null,null,null,null,null,null,null,null,null,null,null,null,null,null,null,null,null,null,null,null,null,null,null,null,0,0,""]
[null,null,null,null,null,null,null,null,null,null,null,null,null,null,"X","X","X","X",{"$f":"VLOOKUP(P240,Lookup!A:B,2,FALSE)","v":"--"},{"$f":"VLOOKUP(Q240,Lookup!A:B,2,FALSE)","v":"--"},{"$f":"VLOOKUP(R240,Lookup!A:B,2,FALSE)","v":"--"},null,{"$f":"IF(E240&F240&G240&I240&K240&M240=\"\",\"\",IF(OR(H240=\"\",D240=\"\",AND(AC240=0,'Contents & 6mo Restriction'!$BE$1=FALSE)),1,0))","v":""},"",0,0,0,0,0,0,null,null,null,null,null,null,null,null,null,null,null,null,null,null,null,null,null,null,null,null,null,null,null,null,null,null,null,null,null,null,null,null,null,null,null,null,null,null,null,null,null,null,null,null,null,null,null,null,null,null,null,null,null,null,null,null,null,null,null,null,null,null,null,null,null,null,null,null,null,null,null,null,null,null,null,null,null,null,null,null,null,null,null,null,null,null,null,null,null,null,null,null,null,null,null,null,null,null,null,null,null,null,0,0,""]
[null,null,null,null,null,null,null,null,null,null,null,null,null,null,"X","X","X","X",{"$f":"VLOOKUP(P241,Lookup!A:B,2,FALSE)","v":"--"},{"$f":"VLOOKUP(Q241,Lookup!A:B,2,FALSE)","v":"--"},{"$f":"VLOOKUP(R241,Lookup!A:B,2,FALSE)","v":"--"},null,{"$f":"IF(E241&F241&G241&I241&K241&M241=\"\",\"\",IF(OR(H241=\"\",D241=\"\",AND(AC241=0,'Contents & 6mo Restriction'!$BE$1=FALSE)),1,0))","v":""},"",0,0,0,0,0,0,null,null,null,null,null,null,null,null,null,null,null,null,null,null,null,null,null,null,null,null,null,null,null,null,null,null,null,null,null,null,null,null,null,null,null,null,null,null,null,null,null,null,null,null,null,null,null,null,null,null,null,null,null,null,null,null,null,null,null,null,null,null,null,null,null,null,null,null,null,null,null,null,null,null,null,null,null,null,null,null,null,null,null,null,null,null,null,null,null,null,null,null,null,null,null,null,null,null,null,null,null,null,0,0,""]
[null,null,null,null,null,null,null,null,null,null,null,null,null,null,"X","X","X","X",{"$f":"VLOOKUP(P242,Lookup!A:B,2,FALSE)","v":"--"},{"$f":"VLOOKUP(Q242,Lookup!A:B,2,FALSE)","v":"--"},{"$f":"VLOOKUP(R242,Lookup!A:B,2,FALSE)","v":"--"},null,{"$f":"IF(E242&F242&G242&I242&K242&M242=\"\",\"\",IF(OR(H242=\"\",D242=\"\",AND(AC242=0,'Contents & 6mo Restriction'!$BE$1=FALSE)),1,0))","v":""},"",0,0,0,0,0,0,null,null,null,null,null,null,null,null,null,null,null,null,null,null,null,null,null,null,null,null,null,null,null,null,null,null,null,null,null,null,null,null,null,null,null,null,null,null,null,null,null,null,null,null,null,null,null,null,null,null,null,null,null,null,null,null,null,null,null,null,null,null,null,null,null,null,null,null,null,null,null,null,null,null,null,null,null,null,null,null,null,null,null,null,null,null,null,null,null,null,null,null,null,null,null,null,null,null,null,null,null,null,0,0,""]
[null,null,null,null,null,null,null,null,null,null,null,null,null,null,"X","X","X","X",{"$f":"VLOOKUP(P243,Lookup!A:B,2,FALSE)","v":"--"},{"$f":"VLOOKUP(Q243,Lookup!A:B,2,FALSE)","v":"--"},{"$f":"VLOOKUP(R243,Lookup!A:B,2,FALSE)","v":"--"},null,{"$f":"IF(E243&F243&G243&I243&K243&M243=\"\",\"\",IF(OR(H243=\"\",D243=\"\",AND(AC243=0,'Contents & 6mo Restriction'!$BE$1=FALSE)),1,0))","v":""},"",0,0,0,0,0,0,null,null,null,null,null,null,null,null,null,null,null,null,null,null,null,null,null,null,null,null,null,null,null,null,null,null,null,null,null,null,null,null,null,null,null,null,null,null,null,null,null,null,null,null,null,null,null,null,null,null,null,null,null,null,null,null,null,null,null,null,null,null,null,null,null,null,null,null,null,null,null,null,null,null,null,null,null,null,null,null,null,null,null,null,null,null,null,null,null,null,null,null,null,null,null,null,null,null,null,null,null,null,0,0,""]
[null,null,null,null,null,null,null,null,null,null,null,null,null,null,"X","X","X","X",{"$f":"VLOOKUP(P244,Lookup!A:B,2,FALSE)","v":"--"},{"$f":"VLOOKUP(Q244,Lookup!A:B,2,FALSE)","v":"--"},{"$f":"VLOOKUP(R244,Lookup!A:B,2,FALSE)","v":"--"},null,{"$f":"IF(E244&F244&G244&I244&K244&M244=\"\",\"\",IF(OR(H244=\"\",D244=\"\",AND(AC244=0,'Contents & 6mo Restriction'!$BE$1=FALSE)),1,0))","v":""},"",0,0,0,0,0,0,null,null,null,null,null,null,null,null,null,null,null,null,null,null,null,null,null,null,null,null,null,null,null,null,null,null,null,null,null,null,null,null,null,null,null,null,null,null,null,null,null,null,null,null,null,null,null,null,null,null,null,null,null,null,null,null,null,null,null,null,null,null,null,null,null,null,null,null,null,null,null,null,null,null,null,null,null,null,null,null,null,null,null,null,null,null,null,null,null,null,null,null,null,null,null,null,null,null,null,null,null,null,0,0,""]
[null,null,null,null,null,null,null,null,null,null,null,null,null,null,"X","X","X","X",{"$f":"VLOOKUP(P245,Lookup!A:B,2,FALSE)","v":"--"},{"$f":"VLOOKUP(Q245,Lookup!A:B,2,FALSE)","v":"--"},{"$f":"VLOOKUP(R245,Lookup!A:B,2,FALSE)","v":"--"},null,{"$f":"IF(E245&F245&G245&I245&K245&M245=\"\",\"\",IF(OR(H245=\"\",D245=\"\",AND(AC245=0,'Contents & 6mo Restriction'!$BE$1=FALSE)),1,0))","v":""},"",0,0,0,0,0,0,null,null,null,null,null,null,null,null,null,null,null,null,null,null,null,null,null,null,null,null,null,null,null,null,null,null,null,null,null,null,null,null,null,null,null,null,null,null,null,null,null,null,null,null,null,null,null,null,null,null,null,null,null,null,null,null,null,null,null,null,null,null,null,null,null,null,null,null,null,null,null,null,null,null,null,null,null,null,null,null,null,null,null,null,null,null,null,null,null,null,null,null,null,null,null,null,null,null,null,null,null,null,0,0,""]
[null,null,null,null,null,null,null,null,null,null,null,null,null,null,"X","X","X","X",{"$f":"VLOOKUP(P246,Lookup!A:B,2,FALSE)","v":"--"},{"$f":"VLOOKUP(Q246,Lookup!A:B,2,FALSE)","v":"--"},{"$f":"VLOOKUP(R246,Lookup!A:B,2,FALSE)","v":"--"},null,{"$f":"IF(E246&F246&G246&I246&K246&M246=\"\",\"\",IF(OR(H246=\"\",D246=\"\",AND(AC246=0,'Contents & 6mo Restriction'!$BE$1=FALSE)),1,0))","v":""},"",0,0,0,0,0,0,null,null,null,null,null,null,null,null,null,null,null,null,null,null,null,null,null,null,null,null,null,null,null,null,null,null,null,null,null,null,null,null,null,null,null,null,null,null,null,null,null,null,null,null,null,null,null,null,null,null,null,null,null,null,null,null,null,null,null,null,null,null,null,null,null,null,null,null,null,null,null,null,null,null,null,null,null,null,null,null,null,null,null,null,null,null,null,null,null,null,null,null,null,null,null,null,null,null,null,null,null,null,0,0,""]
[null,null,null,null,null,null,null,null,null,null,null,null,null,null,"X","X","X","X",{"$f":"VLOOKUP(P247,Lookup!A:B,2,FALSE)","v":"--"},{"$f":"VLOOKUP(Q247,Lookup!A:B,2,FALSE)","v":"--"},{"$f":"VLOOKUP(R247,Lookup!A:B,2,FALSE)","v":"--"},null,{"$f":"IF(E247&F247&G247&I247&K247&M247=\"\",\"\",IF(OR(H247=\"\",D247=\"\",AND(AC247=0,'Contents & 6mo Restriction'!$BE$1=FALSE)),1,0))","v":""},"",0,0,0,0,0,0,null,null,null,null,null,null,null,null,null,null,null,null,null,null,null,null,null,null,null,null,null,null,null,null,null,null,null,null,null,null,null,null,null,null,null,null,null,null,null,null,null,null,null,null,null,null,null,null,null,null,null,null,null,null,null,null,null,null,null,null,null,null,null,null,null,null,null,null,null,null,null,null,null,null,null,null,null,null,null,null,null,null,null,null,null,null,null,null,null,null,null,null,null,null,null,null,null,null,null,null,null,null,0,0,""]
[null,null,null,null,null,null,null,null,null,null,null,null,null,null,"X","X","X","X",{"$f":"VLOOKUP(P248,Lookup!A:B,2,FALSE)","v":"--"},{"$f":"VLOOKUP(Q248,Lookup!A:B,2,FALSE)","v":"--"},{"$f":"VLOOKUP(R248,Lookup!A:B,2,FALSE)","v":"--"},null,{"$f":"IF(E248&F248&G248&I248&K248&M248=\"\",\"\",IF(OR(H248=\"\",D248=\"\",AND(AC248=0,'Contents & 6mo Restriction'!$BE$1=FALSE)),1,0))","v":""},"",0,0,0,0,0,0,null,null,null,null,null,null,null,null,null,null,null,null,null,null,null,null,null,null,null,null,null,null,null,null,null,null,null,null,null,null,null,null,null,null,null,null,null,null,null,null,null,null,null,null,null,null,null,null,null,null,null,null,null,null,null,null,null,null,null,null,null,null,null,null,null,null,null,null,null,null,null,null,null,null,null,null,null,null,null,null,null,null,null,null,null,null,null,null,null,null,null,null,null,null,null,null,null,null,null,null,null,null,0,0,""]
[null,null,null,null,null,null,null,null,null,null,null,null,null,null,"X","X","X","X",{"$f":"VLOOKUP(P249,Lookup!A:B,2,FALSE)","v":"--"},{"$f":"VLOOKUP(Q249,Lookup!A:B,2,FALSE)","v":"--"},{"$f":"VLOOKUP(R249,Lookup!A:B,2,FALSE)","v":"--"},null,{"$f":"IF(E249&F249&G249&I249&K249&M249=\"\",\"\",IF(OR(H249=\"\",D249=\"\",AND(AC249=0,'Contents & 6mo Restriction'!$BE$1=FALSE)),1,0))","v":""},"",0,0,0,0,0,0,null,null,null,null,null,null,null,null,null,null,null,null,null,null,null,null,null,null,null,null,null,null,null,null,null,null,null,null,null,null,null,null,null,null,null,null,null,null,null,null,null,null,null,null,null,null,null,null,null,null,null,null,null,null,null,null,null,null,null,null,null,null,null,null,null,null,null,null,null,null,null,null,null,null,null,null,null,null,null,null,null,null,null,null,null,null,null,null,null,null,null,null,null,null,null,null,null,null,null,null,null,null,0,0,""]
[null,null,null,null,null,null,null,null,null,null,null,null,null,null,"X","X","X","X",{"$f":"VLOOKUP(P250,Lookup!A:B,2,FALSE)","v":"--"},{"$f":"VLOOKUP(Q250,Lookup!A:B,2,FALSE)","v":"--"},{"$f":"VLOOKUP(R250,Lookup!A:B,2,FALSE)","v":"--"},null,{"$f":"IF(E250&F250&G250&I250&K250&M250=\"\",\"\",IF(OR(H250=\"\",D250=\"\",AND(AC250=0,'Contents & 6mo Restriction'!$BE$1=FALSE)),1,0))","v":""},"",0,0,0,0,0,0,null,null,null,null,null,null,null,null,null,null,null,null,null,null,null,null,null,null,null,null,null,null,null,null,null,null,null,null,null,null,null,null,null,null,null,null,null,null,null,null,null,null,null,null,null,null,null,null,null,null,null,null,null,null,null,null,null,null,null,null,null,null,null,null,null,null,null,null,null,null,null,null,null,null,null,null,null,null,null,null,null,null,null,null,null,null,null,null,null,null,null,null,null,null,null,null,null,null,null,null,null,null,0,0,""]
[null,null,null,null,null,null,null,null,null,null,null,null,null,null,"X","X","X","X",{"$f":"VLOOKUP(P268,Lookup!A:B,2,FALSE)","v":"--"},{"$f":"VLOOKUP(Q268,Lookup!A:B,2,FALSE)","v":"--"},{"$f":"VLOOKUP(R268,Lookup!A:B,2,FALSE)","v":"--"},null,{"$f":"IF(E268&F268&G268&I268&K268&M268=\"\",\"\",IF(OR(H268=\"\",D268=\"\",AND(AC268=0,'Contents & 6mo Restriction'!$BE$1=FALSE)),1,0))","v":""},"",0,0,0,0,0,0,null,null,null,null,null,null,null,null,null,null,null,null,null,null,null,null,null,null,null,null,null,null,null,null,null,null,null,null,null,null,null,null,null,null,null,null,null,null,null,null,null,null,null,null,null,null,null,null,null,null,null,null,null,null,null,null,null,null,null,null,null,null,null,null,null,null,null,null,null,null,null,null,null,null,null,null,null,null,null,null,null,null,null,null,null,null,null,null,null,null,null,null,null,null,null,null,null,null,null,null,null,null,0,0,""]
[null,null,null,null,null,null,null,null,null,null,null,null,null,null,"X","X","X","X",{"$f":"VLOOKUP(P310,Lookup!A:B,2,FALSE)","v":"--"},{"$f":"VLOOKUP(Q310,Lookup!A:B,2,FALSE)","v":"--"},{"$f":"VLOOKUP(R310,Lookup!A:B,2,FALSE)","v":"--"},null,{"$f":"IF(E310&F310&G310&I310&K310&M310=\"\",\"\",IF(OR(H310=\"\",D310=\"\",AND(AC310=0,'Contents & 6mo Restriction'!$BE$1=FALSE)),1,0))","v":""},"",0,0,0,0,0,0,null,null,null,null,null,null,null,null,null,null,null,null,null,null,null,null,null,null,null,null,null,null,null,null,null,null,null,null,null,null,null,null,null,null,null,null,null,null,null,null,null,null,null,null,null,null,null,null,null,null,null,null,null,null,null,null,null,null,null,null,null,null,null,null,null,null,null,null,null,null,null,null,null,null,null,null,null,null,null,null,null,null,null,null,null,null,null,null,null,null,null,null,null,null,null,null,null,null,null,null,null,null,0,0,""]
[null,null,null,null,null,null,null,null,null,null,null,null,null,null,"X","X","X","X",{"$f":"VLOOKUP(P344,Lookup!A:B,2,FALSE)","v":"--"},{"$f":"VLOOKUP(Q344,Lookup!A:B,2,FALSE)","v":"--"},{"$f":"VLOOKUP(R344,Lookup!A:B,2,FALSE)","v":"--"},null,{"$f":"IF(E344&F344&G344&I344&K344&M344=\"\",\"\",IF(OR(H344=\"\",D344=\"\",AND(AC344=0,'Contents & 6mo Restriction'!$BE$1=FALSE)),1,0))","v":""},"",0,0,0,0,0,0,null,null,null,null,null,null,null,null,null,null,null,null,null,null,null,null,null,null,null,null,null,null,null,null,null,null,null,null,null,null,null,null,null,null,null,null,null,null,null,null,null,null,null,null,null,null,null,null,null,null,null,null,null,null,null,null,null,null,null,null,null,null,null,null,null,null,null,null,null,null,null,null,null,null,null,null,null,null,null,null,null,null,null,null,null,null,null,null,null,null,null,null,null,null,null,null,null,null,null,null,null,null,0,0,""]
[null,null,null,null,null,null,null,null,null,null,null,null,null,null,"X","X","X","X",{"$f":"VLOOKUP(P420,Lookup!A:B,2,FALSE)","v":"--"},{"$f":"VLOOKUP(Q420,Lookup!A:B,2,FALSE)","v":"--"},{"$f":"VLOOKUP(R420,Lookup!A:B,2,FALSE)","v":"--"},null,{"$f":"IF(E420&F420&G420&I420&K420&M420=\"\",\"\",IF(OR(H420=\"\",D420=\"\",AND(AC420=0,'Contents & 6mo Restriction'!$BE$1=FALSE)),1,0))","v":""},"",0,0,0,0,0,0,null,null,null,null,null,null,null,null,null,null,null,null,null,null,null,null,null,null,null,null,null,null,null,null,null,null,null,null,null,null,null,null,null,null,null,null,null,null,null,null,null,null,null,null,null,null,null,null,null,null,null,null,null,null,null,null,null,null,null,null,null,null,null,null,null,null,null,null,null,null,null,null,null,null,null,null,null,null,null,null,null,null,null,null,null,null,null,null,null,null,null,null,null,null,null,null,null,null,null,null,null,null,0,0,""]
[null,null,null,null,null,null,null,null,null,null,null,null,null,null,"X","X","X","X",{"$f":"VLOOKUP(P475,Lookup!A:B,2,FALSE)","v":"--"},{"$f":"VLOOKUP(Q475,Lookup!A:B,2,FALSE)","v":"--"},{"$f":"VLOOKUP(R475,Lookup!A:B,2,FALSE)","v":"--"},null,{"$f":"IF(E475&F475&G475&I475&K475&M475=\"\",\"\",IF(OR(H475=\"\",D475=\"\",AND(AC475=0,'Contents & 6mo Restriction'!$BE$1=FALSE)),1,0))","v":""},"",0,0,0,0,0,0,null,null,null,null,null,null,null,null,null,null,null,null,null,null,null,null,null,null,null,null,null,null,null,null,null,null,null,null,null,null,null,null,null,null,null,null,null,null,null,null,null,null,null,null,null,null,null,null,null,null,null,null,null,null,null,null,null,null,null,null,null,null,null,null,null,null,null,null,null,null,null,null,null,null,null,null,null,null,null,null,null,null,null,null,null,null,null,null,null,null,null,null,null,null,null,null,null,null,null,null,null,null,0,0,""]
[null,null,null,null,null,null,null,null,null,null,null,null,null,null,"X","X","X","X",{"$f":"VLOOKUP(P487,Lookup!A:B,2,FALSE)","v":"--"},{"$f":"VLOOKUP(Q487,Lookup!A:B,2,FALSE)","v":"--"},{"$f":"VLOOKUP(R487,Lookup!A:B,2,FALSE)","v":"--"},null,{"$f":"IF(E487&F487&G487&I487&K487&M487=\"\",\"\",IF(OR(H487=\"\",D487=\"\",AND(AC487=0,'Contents & 6mo Restriction'!$BE$1=FALSE)),1,0))","v":""},"",0,0,0,0,0,0,null,null,null,null,null,null,null,null,null,null,null,null,null,null,null,null,null,null,null,null,null,null,null,null,null,null,null,null,null,null,null,null,null,null,null,null,null,null,null,null,null,null,null,null,null,null,null,null,null,null,null,null,null,null,null,null,null,null,null,null,null,null,null,null,null,null,null,null,null,null,null,null,null,null,null,null,null,null,null,null,null,null,null,null,null,null,null,null,null,null,null,null,null,null,null,null,null,null,null,null,null,null,0,0,""]
[null,null,null,null,null,null,null,null,null,null,null,null,null,null,"X","X","X","X",{"$f":"VLOOKUP(P563,Lookup!A:B,2,FALSE)","v":"--"},{"$f":"VLOOKUP(Q563,Lookup!A:B,2,FALSE)","v":"--"},{"$f":"VLOOKUP(R563,Lookup!A:B,2,FALSE)","v":"--"},null,{"$f":"IF(E563&F563&G563&I563&K563&M563=\"\",\"\",IF(OR(H563=\"\",D563=\"\",AND(AC563=0,'Contents & 6mo Restriction'!$BE$1=FALSE)),1,0))","v":""},"",0,0,0,0,0,0,null,null,null,null,null,null,null,null,null,null,null,null,null,null,null,null,null,null,null,null,null,null,null,null,null,null,null,null,null,null,null,null,null,null,null,null,null,null,null,null,null,null,null,null,null,null,null,null,null,null,null,null,null,null,null,null,null,null,null,null,null,null,null,null,null,null,null,null,null,null,null,null,null,null,null,null,null,null,null,null,null,null,null,null,null,null,null,null,null,null,null,null,null,null,null,null,null,null,null,null,null,null,0,0,""]
[null,null,null,null,null,null,null,null,null,null,null,null,null,null,"X","X","X","X",{"$f":"VLOOKUP(P597,Lookup!A:B,2,FALSE)","v":"--"},{"$f":"VLOOKUP(Q597,Lookup!A:B,2,FALSE)","v":"--"},{"$f":"VLOOKUP(R597,Lookup!A:B,2,FALSE)","v":"--"},null,{"$f":"IF(E597&F597&G597&I597&K597&M597=\"\",\"\",IF(OR(H597=\"\",D597=\"\",AND(AC597=0,'Contents & 6mo Restriction'!$BE$1=FALSE)),1,0))","v":""},"",0,0,0,0,0,0,null,null,null,null,null,null,null,null,null,null,null,null,null,null,null,null,null,null,null,null,null,null,null,null,null,null,null,null,null,null,null,null,null,null,null,null,null,null,null,null,null,null,null,null,null,null,null,null,null,null,null,null,null,null,null,null,null,null,null,null,null,null,null,null,null,null,null,null,null,null,null,null,null,null,null,null,null,null,null,null,null,null,null,null,null,null,null,null,null,null,null,null,null,null,null,null,null,null,null,null,null,null,0,{"$f":"IF(ISERROR(FIND(\"progress\",S597&T597&U597)),0,1)","v":0},""]
[null,null,null,null,null,null,null,null,null,null,null,null,null,null,"X","X","X","X",{"$f":"VLOOKUP(P626,Lookup!A:B,2,FALSE)","v":"--"},{"$f":"VLOOKUP(Q626,Lookup!A:B,2,FALSE)","v":"--"},{"$f":"VLOOKUP(R626,Lookup!A:B,2,FALSE)","v":"--"},null,{"$f":"IF(E626&F626&G626&I626&K626&M626=\"\",\"\",IF(OR(H626=\"\",D626=\"\",AND(AC626=0,'Contents & 6mo Restriction'!$BE$1=FALSE)),1,0))","v":""},"",0,0,0,0,0,0,null,null,null,null,null,null,null,null,null,null,null,null,null,null,null,null,null,null,null,null,null,null,null,null,null,null,null,null,null,null,null,null,null,null,null,null,null,null,null,null,null,null,null,null,null,null,null,null,null,null,null,null,null,null,null,null,null,null,null,null,null,null,null,null,null,null,null,null,null,null,null,null,null,null,null,null,null,null,null,null,null,null,null,null,null,null,null,null,null,null,null,null,null,null,null,null,null,null,null,null,null,null,0,0,""]
[null,null,null,null,null,null,null,null,null,null,null,null,null,null,"X","X","X","X",{"$f":"VLOOKUP(P682,Lookup!A:B,2,FALSE)","v":"--"},{"$f":"VLOOKUP(Q682,Lookup!A:B,2,FALSE)","v":"--"},{"$f":"VLOOKUP(R682,Lookup!A:B,2,FALSE)","v":"--"},null,{"$f":"IF(E682&F682&G682&I682&K682&M682=\"\",\"\",IF(OR(H682=\"\",D682=\"\",AND(AC682=0,'Contents & 6mo Restriction'!$BE$1=FALSE)),1,0))","v":""},"",0,0,0,0,0,0,null,null,null,null,null,null,null,null,null,null,null,null,null,null,null,null,null,null,null,null,null,null,null,null,null,null,null,null,null,null,null,null,null,null,null,null,null,null,null,null,null,null,null,null,null,null,null,null,null,null,null,null,null,null,null,null,null,null,null,null,null,null,null,null,null,null,null,null,null,null,null,null,null,null,null,null,null,null,null,null,null,null,null,null,null,null,null,null,null,null,null,null,null,null,null,null,null,null,null,null,null,null,0,0,""]
[null,null,null,null,null,null,null,null,null,null,null,null,null,null,"X","X","X","X",{"$f":"VLOOKUP(P740,Lookup!A:B,2,FALSE)","v":"--"},{"$f":"VLOOKUP(Q740,Lookup!A:B,2,FALSE)","v":"--"},{"$f":"VLOOKUP(R740,Lookup!A:B,2,FALSE)","v":"--"},null,{"$f":"IF(E740&F740&G740&I740&K740&M740=\"\",\"\",IF(OR(H740=\"\",D740=\"\",AND(AC740=0,'Contents & 6mo Restriction'!$BE$1=FALSE)),1,0))","v":""},"",0,0,0,0,0,0,null,null,null,null,null,null,null,null,null,null,null,null,null,null,null,null,null,null,null,null,null,null,null,null,null,null,null,null,null,null,null,null,null,null,null,null,null,null,null,null,null,null,null,null,null,null,null,null,null,null,null,null,null,null,null,null,null,null,null,null,null,null,null,null,null,null,null,null,null,null,null,null,null,null,null,null,null,null,null,null,null,null,null,null,null,null,null,null,null,null,null,null,null,null,null,null,null,null,null,null,null,null,0,0,""]
[null,null,null,null,null,null,null,null,null,null,null,null,null,null,"X","X","X","X",{"$f":"VLOOKUP(P769,Lookup!A:B,2,FALSE)","v":"--"},{"$f":"VLOOKUP(Q769,Lookup!A:B,2,FALSE)","v":"--"},{"$f":"VLOOKUP(R769,Lookup!A:B,2,FALSE)","v":"--"},null,{"$f":"IF(E769&F769&G769&I769&K769&M769=\"\",\"\",IF(OR(H769=\"\",D769=\"\",AND(AC769=0,'Contents & 6mo Restriction'!$BE$1=FALSE)),1,0))","v":""},"",0,0,0,0,0,0,null,null,null,null,null,null,null,null,null,null,null,null,null,null,null,null,null,null,null,null,null,null,null,null,null,null,null,null,null,null,null,null,null,null,null,null,null,null,null,null,null,null,null,null,null,null,null,null,null,null,null,null,null,null,null,null,null,null,null,null,null,null,null,null,null,null,null,null,null,null,null,null,null,null,null,null,null,null,null,null,null,null,null,null,null,null,null,null,null,null,null,null,null,null,null,null,null,null,null,null,null,null,0,0,""]
[null,null,null,null,null,null,null,null,null,null,null,null,null,null,"X","X","X","X",{"$f":"VLOOKUP(P850,Lookup!A:B,2,FALSE)","v":"--"},{"$f":"VLOOKUP(Q850,Lookup!A:B,2,FALSE)","v":"--"},{"$f":"VLOOKUP(R850,Lookup!A:B,2,FALSE)","v":"--"},null,{"$f":"IF(E850&F850&G850&I850&K850&M850=\"\",\"\",IF(OR(H850=\"\",D850=\"\",AND(AC850=0,'Contents & 6mo Restriction'!$BE$1=FALSE)),1,0))","v":""},"",0,0,0,0,0,0,null,null,null,null,null,null,null,null,null,null,null,null,null,null,null,null,null,null,null,null,null,null,null,null,null,null,null,null,null,null,null,null,null,null,null,null,null,null,null,null,null,null,null,null,null,null,null,null,null,null,null,null,null,null,null,null,null,null,null,null,null,null,null,null,null,null,null,null,null,null,null,null,null,null,null,null,null,null,null,null,null,null,null,null,null,null,null,null,null,null,null,null,null,null,null,null,null,null,null,null,null,null,0,0,""]
[null,null,null,null,null,null,null,null,null,null,null,null,null,null,"X","X","X","X",{"$f":"VLOOKUP(P877,Lookup!A:B,2,FALSE)","v":"--"},{"$f":"VLOOKUP(Q877,Lookup!A:B,2,FALSE)","v":"--"},{"$f":"VLOOKUP(R877,Lookup!A:B,2,FALSE)","v":"--"},null,{"$f":"IF(E877&F877&G877&I877&K877&M877=\"\",\"\",IF(OR(H877=\"\",D877=\"\",AND(AC877=0,'Contents & 6mo Restriction'!$BE$1=FALSE)),1,0))","v":""},"",0,0,0,0,0,0,null,null,null,null,null,null,null,null,null,null,null,null,null,null,null,null,null,null,null,null,null,null,null,null,null,null,null,null,null,null,null,null,null,null,null,null,null,null,null,null,null,null,null,null,null,null,null,null,null,null,null,null,null,null,null,null,null,null,null,null,null,null,null,null,null,null,null,null,null,null,null,null,null,null,null,null,null,null,null,null,null,null,null,null,null,null,null,null,null,null,null,null,null,null,null,null,null,null,null,null,null,null,0,0,""]
[null,null,null,null,null,null,null,null,null,null,null,null,null,null,"X","X","X","X",{"$f":"VLOOKUP(P912,Lookup!A:B,2,FALSE)","v":"--"},{"$f":"VLOOKUP(Q912,Lookup!A:B,2,FALSE)","v":"--"},{"$f":"VLOOKUP(R912,Lookup!A:B,2,FALSE)","v":"--"},null,{"$f":"IF(E912&F912&G912&I912&K912&M912=\"\",\"\",IF(OR(H912=\"\",D912=\"\",AND(AC912=0,'Contents & 6mo Restriction'!$BE$1=FALSE)),1,0))","v":""},"",0,0,0,0,0,0,null,null,null,null,null,null,null,null,null,null,null,null,null,null,null,null,null,null,null,null,null,null,null,null,null,null,null,null,null,null,null,null,null,null,null,null,null,null,null,null,null,null,null,null,null,null,null,null,null,null,null,null,null,null,null,null,null,null,null,null,null,null,null,null,null,null,null,null,null,null,null,null,null,null,null,null,null,null,null,null,null,null,null,null,null,null,null,null,null,null,null,null,null,null,null,null,null,null,null,null,null,null,0,0,""]
[null,null,null,null,null,null,null,null,null,null,null,null,null,null,"X","X","X","X",{"$f":"VLOOKUP(P993,Lookup!A:B,2,FALSE)","v":"--"},{"$f":"VLOOKUP(Q993,Lookup!A:B,2,FALSE)","v":"--"},{"$f":"VLOOKUP(R993,Lookup!A:B,2,FALSE)","v":"--"},null,{"$f":"IF(E993&F993&G993&I993&K993&M993=\"\",\"\",IF(OR(H993=\"\",D993=\"\",AND(AC993=0,'Contents & 6mo Restriction'!$BE$1=FALSE)),1,0))","v":""},"",0,0,0,0,0,0,null,null,null,null,null,null,null,null,null,null,null,null,null,null,null,null,null,null,null,null,null,null,null,null,null,null,null,null,null,null,null,null,null,null,null,null,null,null,null,null,null,null,null,null,null,null,null,null,null,null,null,null,null,null,null,null,null,null,null,null,null,null,null,null,null,null,null,null,null,null,null,null,null,null,null,null,null,null,null,null,null,null,null,null,null,null,null,null,null,null,null,null,null,null,null,null,null,null,null,null,null,null,0,0,""]
[null,null,null,null,null,null,null,null,null,null,null,null,null,null,"X","X","X","X",{"$f":"VLOOKUP(P1022,Lookup!A:B,2,FALSE)","v":"--"},{"$f":"VLOOKUP(Q1022,Lookup!A:B,2,FALSE)","v":"--"},{"$f":"VLOOKUP(R1022,Lookup!A:B,2,FALSE)","v":"--"},null,{"$f":"IF(E1022&F1022&G1022&I1022&K1022&M1022=\"\",\"\",IF(OR(H1022=\"\",D1022=\"\",AND(AC1022=0,'Contents & 6mo Restriction'!$BE$1=FALSE)),1,0))","v":""},"",0,0,0,0,0,0,null,null,null,null,null,null,null,null,null,null,null,null,null,null,null,null,null,null,null,null,null,null,null,null,null,null,null,null,null,null,null,null,null,null,null,null,null,null,null,null,null,null,null,null,null,null,null,null,null,null,null,null,null,null,null,null,null,null,null,null,null,null,null,null,null,null,null,null,null,null,null,null,null,null,null,null,null,null,null,null,null,null,null,null,null,null,null,null,null,null,null,null,null,null,null,null,null,null,null,null,null,null,0,0,""]
[null,null,null,null,null,null,null,null,null,null,null,null,null,null,"X","X","X","X",{"$f":"VLOOKUP(P1056,Lookup!A:B,2,FALSE)","v":"--"},{"$f":"VLOOKUP(Q1056,Lookup!A:B,2,FALSE)","v":"--"},{"$f":"VLOOKUP(R1056,Lookup!A:B,2,FALSE)","v":"--"},null,{"$f":"IF(E1056&F1056&G1056&I1056&K1056&M1056=\"\",\"\",IF(OR(H1056=\"\",D1056=\"\",AND(AC1056=0,'Contents & 6mo Restriction'!$BE$1=FALSE)),1,0))","v":""},"",0,0,0,0,0,0,null,null,null,null,null,null,null,null,null,null,null,null,null,null,null,null,null,null,null,null,null,null,null,null,null,null,null,null,null,null,null,null,null,null,null,null,null,null,null,null,null,null,null,null,null,null,null,null,null,null,null,null,null,null,null,null,null,null,null,null,null,null,null,null,null,null,null,null,null,null,null,null,null,null,null,null,null,null,null,null,null,null,null,null,null,null,null,null,null,null,null,null,null,null,null,null,null,null,null,null,null,null,0,0,""]
[null,null,null,null,null,null,null,null,null,null,null,null,null,null,"X","X","X","X",{"$f":"VLOOKUP(P1130,Lookup!A:B,2,FALSE)","v":"--"},{"$f":"VLOOKUP(Q1130,Lookup!A:B,2,FALSE)","v":"--"},{"$f":"VLOOKUP(R1130,Lookup!A:B,2,FALSE)","v":"--"},null,{"$f":"IF(E1130&F1130&G1130&I1130&K1130&M1130=\"\",\"\",IF(OR(H1130=\"\",D1130=\"\",AND(AC1130=0,'Contents & 6mo Restriction'!$BE$1=FALSE)),1,0))","v":""},"",0,0,0,0,0,0,null,null,null,null,null,null,null,null,null,null,null,null,null,null,null,null,null,null,null,null,null,null,null,null,null,null,null,null,null,null,null,null,null,null,null,null,null,null,null,null,null,null,null,null,null,null,null,null,null,null,null,null,null,null,null,null,null,null,null,null,null,null,null,null,null,null,null,null,null,null,null,null,null,null,null,null,null,null,null,null,null,null,null,null,null,null,null,null,null,null,null,null,null,null,null,null,null,null,null,null,null,null,0,0,""]
[null,null,null,null,null,null,null,null,null,null,null,null,null,null,"X","X","X","X",{"$f":"VLOOKUP(P1165,Lookup!A:B,2,FALSE)","v":"--"},{"$f":"VLOOKUP(Q1165,Lookup!A:B,2,FALSE)","v":"--"},{"$f":"VLOOKUP(R1165,Lookup!A:B,2,FALSE)","v":"--"},null,{"$f":"IF(E1165&F1165&G1165&I1165&K1165&M1165=\"\",\"\",IF(OR(H1165=\"\",D1165=\"\",AND(AC1165=0,'Contents & 6mo Restriction'!$BE$1=FALSE)),1,0))","v":""},"",0,0,0,0,0,0,null,null,null,null,null,null,null,null,null,null,null,null,null,null,null,null,null,null,null,null,null,null,null,null,null,null,null,null,null,null,null,null,null,null,null,null,null,null,null,null,null,null,null,null,null,null,null,null,null,null,null,null,null,null,null,null,null,null,null,null,null,null,null,null,null,null,null,null,null,null,null,null,null,null,null,null,null,null,null,null,null,null,null,null,null,null,null,null,null,null,null,null,null,null,null,null,null,null,null,null,null,null,0,0,""]
[null,null,null,null,null,null,null,null,null,null,null,null,null,null,"X","X","X","X",{"$f":"VLOOKUP(P1199,Lookup!A:B,2,FALSE)","v":"--"},{"$f":"VLOOKUP(Q1199,Lookup!A:B,2,FALSE)","v":"--"},{"$f":"VLOOKUP(R1199,Lookup!A:B,2,FALSE)","v":"--"},null,{"$f":"IF(E1199&F1199&G1199&I1199&K1199&M1199=\"\",\"\",IF(OR(H1199=\"\",D1199=\"\",AND(AC1199=0,'Contents & 6mo Restriction'!$BE$1=FALSE)),1,0))","v":""},"",0,0,0,0,0,0,null,null,null,null,null,null,null,null,null,null,null,null,null,null,null,null,null,null,null,null,null,null,null,null,null,null,null,null,null,null,null,null,null,null,null,null,null,null,null,null,null,null,null,null,null,null,null,null,null,null,null,null,null,null,null,null,null,null,null,null,null,null,null,null,null,null,null,null,null,null,null,null,null,null,null,null,null,null,null,null,null,null,null,null,null,null,null,null,null,null,null,null,null,null,null,null,null,null,null,null,null,null,0,0,""]
[null,null,null,null,null,null,null,null,null,null,null,null,null,null,"X","X","X","X",{"$f":"VLOOKUP(P1275,Lookup!A:B,2,FALSE)","v":"--"},{"$f":"VLOOKUP(Q1275,Lookup!A:B,2,FALSE)","v":"--"},{"$f":"VLOOKUP(R1275,Lookup!A:B,2,FALSE)","v":"--"},null,{"$f":"IF(E1275&F1275&G1275&I1275&K1275&M1275=\"\",\"\",IF(OR(H1275=\"\",D1275=\"\",AND(AC1275=0,'Contents & 6mo Restriction'!$BE$1=FALSE)),1,0))","v":""},"",0,0,0,0,0,0,null,null,null,null,null,null,null,null,null,null,null,null,null,null,null,null,null,null,null,null,null,null,null,null,null,null,null,null,null,null,null,null,null,null,null,null,null,null,null,null,null,null,null,null,null,null,null,null,null,null,null,null,null,null,null,null,null,null,null,null,null,null,null,null,null,null,null,null,null,null,null,null,null,null,null,null,null,null,null,null,null,null,null,null,null,null,null,null,null,null,null,null,null,null,null,null,null,null,null,null,null,null,0,0,""]
[null,null,null,null,null,null,null,null,null,null,null,null,null,null,"X","X","X","X",{"$f":"VLOOKUP(P1291,Lookup!A:B,2,FALSE)","v":"--"},{"$f":"VLOOKUP(Q1291,Lookup!A:B,2,FALSE)","v":"--"},{"$f":"VLOOKUP(R1291,Lookup!A:B,2,FALSE)","v":"--"},null,{"$f":"IF(E1291&F1291&G1291&I1291&K1291&M1291=\"\",\"\",IF(OR(H1291=\"\",D1291=\"\",AND(AC1291=0,'Contents & 6mo Restriction'!$BE$1=FALSE)),1,0))","v":""},"",0,0,0,0,0,0,null,null,null,null,null,null,null,null,null,null,null,null,null,null,null,null,null,null,null,null,null,null,null,null,null,null,null,null,null,null,null,null,null,null,null,null,null,null,null,null,null,null,null,null,null,null,null,null,null,null,null,null,null,null,null,null,null,null,null,null,null,null,null,null,null,null,null,null,null,null,null,null,null,null,null,null,null,null,null,null,null,null,null,null,null,null,null,null,null,null,null,null,null,null,null,null,null,null,null,null,null,null,0,0,""]
[null,null,null,null,null,null,null,null,null,null,null,null,null,null,"X","X","X","X",{"$f":"VLOOKUP(P1342,Lookup!A:B,2,FALSE)","v":"--"},{"$f":"VLOOKUP(Q1342,Lookup!A:B,2,FALSE)","v":"--"},{"$f":"VLOOKUP(R1342,Lookup!A:B,2,FALSE)","v":"--"},null,{"$f":"IF(E1342&F1342&G1342&I1342&K1342&M1342=\"\",\"\",IF(OR(H1342=\"\",D1342=\"\",AND(AC1342=0,'Contents & 6mo Restriction'!$BE$1=FALSE)),1,0))","v":""},"",0,0,0,0,0,0,null,null,null,null,null,null,null,null,null,null,null,null,null,null,null,null,null,null,null,null,null,null,null,null,null,null,null,null,null,null,null,null,null,null,null,null,null,null,null,null,null,null,null,null,null,null,null,null,null,null,null,null,null,null,null,null,null,null,null,null,null,null,null,null,null,null,null,null,null,null,null,null,null,null,null,null,null,null,null,null,null,null,null,null,null,null,null,null,null,null,null,null,null,null,null,null,null,null,null,null,null,null,0,0,""]
[null,null,null,null,null,null,null,null,null,null,null,null,null,null,"X","X","X","X",{"$f":"VLOOKUP(P1418,Lookup!A:B,2,FALSE)","v":"--"},{"$f":"VLOOKUP(Q1418,Lookup!A:B,2,FALSE)","v":"--"},{"$f":"VLOOKUP(R1418,Lookup!A:B,2,FALSE)","v":"--"},null,{"$f":"IF(E1418&F1418&G1418&I1418&K1418&M1418=\"\",\"\",IF(OR(H1418=\"\",D1418=\"\",AND(AC1418=0,'Contents & 6mo Restriction'!$BE$1=FALSE)),1,0))","v":""},"",0,0,0,0,0,0,null,null,null,null,null,null,null,null,null,null,null,null,null,null,null,null,null,null,null,null,null,null,null,null,null,null,null,null,null,null,null,null,null,null,null,null,null,null,null,null,null,null,null,null,null,null,null,null,null,null,null,null,null,null,null,null,null,null,null,null,null,null,null,null,null,null,null,null,null,null,null,null,null,null,null,null,null,null,null,null,null,null,null,null,null,null,null,null,null,null,null,null,null,null,null,null,null,null,null,null,null,null,0,0,""]
[null,null,null,null,null,null,null,null,null,null,null,null,null,null,"X","X","X","X",{"$f":"VLOOKUP(P1452,Lookup!A:B,2,FALSE)","v":"--"},{"$f":"VLOOKUP(Q1452,Lookup!A:B,2,FALSE)","v":"--"},{"$f":"VLOOKUP(R1452,Lookup!A:B,2,FALSE)","v":"--"},null,{"$f":"IF(E1452&F1452&G1452&I1452&K1452&M1452=\"\",\"\",IF(OR(H1452=\"\",D1452=\"\",AND(AC1452=0,'Contents & 6mo Restriction'!$BE$1=FALSE)),1,0))","v":""},"",0,0,0,0,0,0,null,null,null,null,null,null,null,null,null,null,null,null,null,null,null,null,null,null,null,null,null,null,null,null,null,null,null,null,null,null,null,null,null,null,null,null,null,null,null,null,null,null,null,null,null,null,null,null,null,null,null,null,null,null,null,null,null,null,null,null,null,null,null,null,null,null,null,null,null,null,null,null,null,null,null,null,null,null,null,null,null,null,null,null,null,null,null,null,null,null,null,null,null,null,null,null,null,null,null,null,null,null,0,0,""]
[null,null,null,null,null,null,null,null,null,null,null,null,null,null,"X","X","X","X",{"$f":"VLOOKUP(P1486,Lookup!A:B,2,FALSE)","v":"--"},{"$f":"VLOOKUP(Q1486,Lookup!A:B,2,FALSE)","v":"--"},{"$f":"VLOOKUP(R1486,Lookup!A:B,2,FALSE)","v":"--"},null,{"$f":"IF(E1486&F1486&G1486&I1486&K1486&M1486=\"\",\"\",IF(OR(H1486=\"\",D1486=\"\",AND(AC1486=0,'Contents & 6mo Restriction'!$BE$1=FALSE)),1,0))","v":""},"",0,0,0,0,0,0,null,null,null,null,null,null,null,null,null,null,null,null,null,null,null,null,null,null,null,null,null,null,null,null,null,null,null,null,null,null,null,null,null,null,null,null,null,null,null,null,null,null,null,null,null,null,null,null,null,null,null,null,null,null,null,null,null,null,null,null,null,null,null,null,null,null,null,null,null,null,null,null,null,null,null,null,null,null,null,null,null,null,null,null,null,null,null,null,null,null,null,null,null,null,null,null,null,null,null,null,null,null,0,0,""]
[null,null,null,null,null,null,null,null,null,null,null,null,null,null,"X","X","X","X",{"$f":"VLOOKUP(P1544,Lookup!A:B,2,FALSE)","v":"--"},{"$f":"VLOOKUP(Q1544,Lookup!A:B,2,FALSE)","v":"--"},{"$f":"VLOOKUP(R1544,Lookup!A:B,2,FALSE)","v":"--"},null,{"$f":"IF(E1544&F1544&G1544&I1544&K1544&M1544=\"\",\"\",IF(OR(H1544=\"\",D1544=\"\",AND(AC1544=0,'Contents & 6mo Restriction'!$BE$1=FALSE)),1,0))","v":""},"",0,0,0,0,0,0,null,null,null,null,null,null,null,null,null,null,null,null,null,null,null,null,null,null,null,null,null,null,null,null,null,null,null,null,null,null,null,null,null,null,null,null,null,null,null,null,null,null,null,null,null,null,null,null,null,null,null,null,null,null,null,null,null,null,null,null,null,null,null,null,null,null,null,null,null,null,null,null,null,null,null,null,null,null,null,null,null,null,null,null,null,null,null,null,null,null,null,null,null,null,null,null,null,null,null,null,null,null,0,0,""]
[null,null,null,null,null,null,null,null,null,null,null,null,null,null,"X","X","X","X",{"$f":"VLOOKUP(P1595,Lookup!A:B,2,FALSE)","v":"--"},{"$f":"VLOOKUP(Q1595,Lookup!A:B,2,FALSE)","v":"--"},{"$f":"VLOOKUP(R1595,Lookup!A:B,2,FALSE)","v":"--"},null,{"$f":"IF(E1595&F1595&G1595&I1595&K1595&M1595=\"\",\"\",IF(OR(H1595=\"\",D1595=\"\",AND(AC1595=0,'Contents & 6mo Restriction'!$BE$1=FALSE)),1,0))","v":""},"",0,0,0,0,0,0,null,null,null,null,null,null,null,null,null,null,null,null,null,null,null,null,null,null,null,null,null,null,null,null,null,null,null,null,null,null,null,null,null,null,null,null,null,null,null,null,null,null,null,null,null,null,null,null,null,null,null,null,null,null,null,null,null,null,null,null,null,null,null,null,null,null,null,null,null,null,null,null,null,null,null,null,null,null,null,null,null,null,null,null,null,null,null,null,null,null,null,null,null,null,null,null,null,null,null,null,null,null,0,0,""]
[null,null,null,null,null,null,null,null,null,null,null,null,null,null,"X","X","X","X",{"$f":"VLOOKUP(P1624,Lookup!A:B,2,FALSE)","v":"--"},{"$f":"VLOOKUP(Q1624,Lookup!A:B,2,FALSE)","v":"--"},{"$f":"VLOOKUP(R1624,Lookup!A:B,2,FALSE)","v":"--"},null,{"$f":"IF(E1624&F1624&G1624&I1624&K1624&M1624=\"\",\"\",IF(OR(H1624=\"\",D1624=\"\",AND(AC1624=0,'Contents & 6mo Restriction'!$BE$1=FALSE)),1,0))","v":""},"",0,0,0,0,0,0,null,null,null,null,null,null,null,null,null,null,null,null,null,null,null,null,null,null,null,null,null,null,null,null,null,null,null,null,null,null,null,null,null,null,null,null,null,null,null,null,null,null,null,null,null,null,null,null,null,null,null,null,null,null,null,null,null,null,null,null,null,null,null,null,null,null,null,null,null,null,null,null,null,null,null,null,null,null,null,null,null,null,null,null,null,null,null,null,null,null,null,null,null,null,null,null,null,null,null,null,null,null,0,0,""]
[null,null,null,null,null,null,null,null,null,null,null,null,null,null,"X","X","X","X",{"$f":"VLOOKUP(P1658,Lookup!A:B,2,FALSE)","v":"--"},{"$f":"VLOOKUP(Q1658,Lookup!A:B,2,FALSE)","v":"--"},{"$f":"VLOOKUP(R1658,Lookup!A:B,2,FALSE)","v":"--"},null,{"$f":"IF(E1658&F1658&G1658&I1658&K1658&M1658=\"\",\"\",IF(OR(H1658=\"\",D1658=\"\",AND(AC1658=0,'Contents & 6mo Restriction'!$BE$1=FALSE)),1,0))","v":""},"",0,0,0,0,0,0,null,null,null,null,null,null,null,null,null,null,null,null,null,null,null,null,null,null,null,null,null,null,null,null,null,null,null,null,null,null,null,null,null,null,null,null,null,null,null,null,null,null,null,null,null,null,null,null,null,null,null,null,null,null,null,null,null,null,null,null,null,null,null,null,null,null,null,null,null,null,null,null,null,null,null,null,null,null,null,null,null,null,null,null,null,null,null,null,null,null,null,null,null,null,null,null,null,null,null,null,null,null,0,0,""]
[null,null,null,null,null,null,null,null,null,null,null,null,null,null,"X","X","X","X",{"$f":"VLOOKUP(P1739,Lookup!A:B,2,FALSE)","v":"--"},{"$f":"VLOOKUP(Q1739,Lookup!A:B,2,FALSE)","v":"--"},{"$f":"VLOOKUP(R1739,Lookup!A:B,2,FALSE)","v":"--"},null,{"$f":"IF(E1739&F1739&G1739&I1739&K1739&M1739=\"\",\"\",IF(OR(H1739=\"\",D1739=\"\",AND(AC1739=0,'Contents & 6mo Restriction'!$BE$1=FALSE)),1,0))","v":""},"",0,0,0,0,0,0,null,null,null,null,null,null,null,null,null,null,null,null,null,null,null,null,null,null,null,null,null,null,null,null,null,null,null,null,null,null,null,null,null,null,null,null,null,null,null,null,null,null,null,null,null,null,null,null,null,null,null,null,null,null,null,null,null,null,null,null,null,null,null,null,null,null,null,null,null,null,null,null,null,null,null,null,null,null,null,null,null,null,null,null,null,null,null,null,null,null,null,null,null,null,null,null,null,null,null,null,null,null,0,0,""]
[null,null,null,null,null,null,null,null,null,null,null,null,null,null,"X","X","X","X",{"$f":"VLOOKUP(P1767,Lookup!A:B,2,FALSE)","v":"--"},{"$f":"VLOOKUP(Q1767,Lookup!A:B,2,FALSE)","v":"--"},{"$f":"VLOOKUP(R1767,Lookup!A:B,2,FALSE)","v":"--"},null,{"$f":"IF(E1767&F1767&G1767&I1767&K1767&M1767=\"\",\"\",IF(OR(H1767=\"\",D1767=\"\",AND(AC1767=0,'Contents & 6mo Restriction'!$BE$1=FALSE)),1,0))","v":""},"",0,0,0,0,0,0,null,null,null,null,null,null,null,null,null,null,null,null,null,null,null,null,null,null,null,null,null,null,null,null,null,null,null,null,null,null,null,null,null,null,null,null,null,null,null,null,null,null,null,null,null,null,null,null,null,null,null,null,null,null,null,null,null,null,null,null,null,null,null,null,null,null,null,null,null,null,null,null,null,null,null,null,null,null,null,null,null,null,null,null,null,null,null,null,null,null,null,null,null,null,null,null,null,null,null,null,null,null,0,0,""]
[null,null,null,null,null,null,null,null,null,null,null,null,null,null,"X","X","X","X",{"$f":"VLOOKUP(P1801,Lookup!A:B,2,FALSE)","v":"--"},{"$f":"VLOOKUP(Q1801,Lookup!A:B,2,FALSE)","v":"--"},{"$f":"VLOOKUP(R1801,Lookup!A:B,2,FALSE)","v":"--"},null,{"$f":"IF(E1801&F1801&G1801&I1801&K1801&M1801=\"\",\"\",IF(OR(H1801=\"\",D1801=\"\",AND(AC1801=0,'Contents & 6mo Restriction'!$BE$1=FALSE)),1,0))","v":""},"",0,0,0,0,0,0,null,null,null,null,null,null,null,null,null,null,null,null,null,null,null,null,null,null,null,null,null,null,null,null,null,null,null,null,null,null,null,null,null,null,null,null,null,null,null,null,null,null,null,null,null,null,null,null,null,null,null,null,null,null,null,null,null,null,null,null,null,null,null,null,null,null,null,null,null,null,null,null,null,null,null,null,null,null,null,null,null,null,null,null,null,null,null,null,null,null,null,null,null,null,null,null,null,null,null,null,null,null,0,0,""]
[null,null,null,null,null,null,null,null,null,null,null,null,null,null,"X","X","X","X",{"$f":"VLOOKUP(P1882,Lookup!A:B,2,FALSE)","v":"--"},{"$f":"VLOOKUP(Q1882,Lookup!A:B,2,FALSE)","v":"--"},{"$f":"VLOOKUP(R1882,Lookup!A:B,2,FALSE)","v":"--"},null,{"$f":"IF(E1882&F1882&G1882&I1882&K1882&M1882=\"\",\"\",IF(OR(H1882=\"\",D1882=\"\",AND(AC1882=0,'Contents & 6mo Restriction'!$BE$1=FALSE)),1,0))","v":""},"",0,0,0,0,0,0,null,null,null,null,null,null,null,null,null,null,null,null,null,null,null,null,null,null,null,null,null,null,null,null,null,null,null,null,null,null,null,null,null,null,null,null,null,null,null,null,null,null,null,null,null,null,null,null,null,null,null,null,null,null,null,null,null,null,null,null,null,null,null,null,null,null,null,null,null,null,null,null,null,null,null,null,null,null,null,null,null,null,null,null,null,null,null,null,null,null,null,null,null,null,null,null,null,null,null,null,null,null,{"$f":"IF(ISERROR(FIND(\"Impossible\",S1882&T1882&U1882)),0,1)","v":0},0,""]
[null,null,null,null,null,null,null,null,null,null,null,null,null,null,"X","X","X","X",{"$f":"VLOOKUP(P1911,Lookup!A:B,2,FALSE)","v":"--"},{"$f":"VLOOKUP(Q1911,Lookup!A:B,2,FALSE)","v":"--"},{"$f":"VLOOKUP(R1911,Lookup!A:B,2,FALSE)","v":"--"},null,{"$f":"IF(E1911&F1911&G1911&I1911&K1911&M1911=\"\",\"\",IF(OR(H1911=\"\",D1911=\"\",AND(AC1911=0,'Contents & 6mo Restriction'!$BE$1=FALSE)),1,0))","v":""},"",0,0,0,0,0,0,null,null,null,null,null,null,null,null,null,null,null,null,null,null,null,null,null,null,null,null,null,null,null,null,null,null,null,null,null,null,null,null,null,null,null,null,null,null,null,null,null,null,null,null,null,null,null,null,null,null,null,null,null,null,null,null,null,null,null,null,null,null,null,null,null,null,null,null,null,null,null,null,null,null,null,null,null,null,null,null,null,null,null,null,null,null,null,null,null,null,null,null,null,null,null,null,null,null,null,null,null,null,0,0,""]
[null,null,null,null,null,null,null,null,null,null,null,null,null,null,"X","X","X","X",{"$f":"VLOOKUP(P1946,Lookup!A:B,2,FALSE)","v":"--"},{"$f":"VLOOKUP(Q1946,Lookup!A:B,2,FALSE)","v":"--"},{"$f":"VLOOKUP(R1946,Lookup!A:B,2,FALSE)","v":"--"},null,{"$f":"IF(E1946&F1946&G1946&I1946&K1946&M1946=\"\",\"\",IF(OR(H1946=\"\",D1946=\"\",AND(AC1946=0,'Contents & 6mo Restriction'!$BE$1=FALSE)),1,0))","v":""},"",0,0,0,0,0,0,null,null,null,null,null,null,null,null,null,null,null,null,null,null,null,null,null,null,null,null,null,null,null,null,null,null,null,null,null,null,null,null,null,null,null,null,null,null,null,null,null,null,null,null,null,null,null,null,null,null,null,null,null,null,null,null,null,null,null,null,null,null,null,null,null,null,null,null,null,null,null,null,null,null,null,null,null,null,null,null,null,null,null,null,null,null,null,null,null,null,null,null,null,null,null,null,null,null,null,null,null,null,{"$f":"IF(ISERROR(FIND(\"Impossible\",S1946&T1946&U1946)),0,1)","v":0},0,""]
[null,null,null,null,null,null,null,null,null,null,null,null,null,null,"X","X","X","X",{"$f":"VLOOKUP(P2020,Lookup!A:B,2,FALSE)","v":"--"},{"$f":"VLOOKUP(Q2020,Lookup!A:B,2,FALSE)","v":"--"},{"$f":"VLOOKUP(R2020,Lookup!A:B,2,FALSE)","v":"--"},null,{"$f":"IF(E2020&F2020&G2020&I2020&K2020&M2020=\"\",\"\",IF(OR(H2020=\"\",D2020=\"\",AND(AC2020=0,'Contents & 6mo Restriction'!$BE$1=FALSE)),1,0))","v":""},"",0,0,0,0,0,0,null,null,null,null,null,null,null,null,null,null,null,null,null,null,null,null,null,null,null,null,null,null,null,null,null,null,null,null,null,null,null,null,null,null,null,null,null,null,null,null,null,null,null,null,null,null,null,null,null,null,null,null,null,null,null,null,null,null,null,null,null,null,null,null,null,null,null,null,null,null,null,null,null,null,null,null,null,null,null,null,null,null,null,null,null,null,null,null,null,null,null,null,null,null,null,null,null,null,null,null,null,null,0,0,""]
[null,null,null,null,null,null,null,null,null,null,null,null,null,null,"X","X","X","X",{"$f":"VLOOKUP(P2054,Lookup!A:B,2,FALSE)","v":"--"},{"$f":"VLOOKUP(Q2054,Lookup!A:B,2,FALSE)","v":"--"},{"$f":"VLOOKUP(R2054,Lookup!A:B,2,FALSE)","v":"--"},null,{"$f":"IF(E2054&F2054&G2054&I2054&K2054&M2054=\"\",\"\",IF(OR(H2054=\"\",D2054=\"\",AND(AC2054=0,'Contents & 6mo Restriction'!$BE$1=FALSE)),1,0))","v":""},"",0,0,0,0,0,0,null,null,null,null,null,null,null,null,null,null,null,null,null,null,null,null,null,null,null,null,null,null,null,null,null,null,null,null,null,null,null,null,null,null,null,null,null,null,null,null,null,null,null,null,null,null,null,null,null,null,null,null,null,null,null,null,null,null,null,null,null,null,null,null,null,null,null,null,null,null,null,null,null,null,null,null,null,null,null,null,null,null,null,null,null,null,null,null,null,null,null,null,null,null,null,null,null,null,null,null,null,null,0,0,""]
[null,null,null,null,null,null,null,null,null,null,null,null,null,null,"X","X","X","X",{"$f":"VLOOKUP(P2088,Lookup!A:B,2,FALSE)","v":"--"},{"$f":"VLOOKUP(Q2088,Lookup!A:B,2,FALSE)","v":"--"},{"$f":"VLOOKUP(R2088,Lookup!A:B,2,FALSE)","v":"--"},null,{"$f":"IF(E2088&F2088&G2088&I2088&K2088&M2088=\"\",\"\",IF(OR(H2088=\"\",D2088=\"\",AND(AC2088=0,'Contents & 6mo Restriction'!$BE$1=FALSE)),1,0))","v":""},"",0,0,0,0,0,0,null,null,null,null,null,null,null,null,null,null,null,null,null,null,null,null,null,null,null,null,null,null,null,null,null,null,null,null,null,null,null,null,null,null,null,null,null,null,null,null,null,null,null,null,null,null,null,null,null,null,null,null,null,null,null,null,null,null,null,null,null,null,null,null,null,null,null,null,null,null,null,null,null,null,null,null,null,null,null,null,null,null,null,null,null,null,null,null,null,null,null,null,null,null,null,null,null,null,null,null,null,null,0,0,""]
[null,null,null,null,null,null,null,null,null,null,null,null,null,null,"X","X","X","X",{"$f":"VLOOKUP(P2153,Lookup!A:B,2,FALSE)","v":"--"},{"$f":"VLOOKUP(Q2153,Lookup!A:B,2,FALSE)","v":"--"},{"$f":"VLOOKUP(R2153,Lookup!A:B,2,FALSE)","v":"--"},null,{"$f":"IF(E2153&F2153&G2153&I2153&K2153&M2153=\"\",\"\",IF(OR(H2153=\"\",D2153=\"\",AND(AC2153=0,'Contents & 6mo Restriction'!$BE$1=FALSE)),1,0))","v":""},"",0,0,0,0,0,0,null,null,null,null,null,null,null,null,null,null,null,null,null,null,null,null,null,null,null,null,null,null,null,null,null,null,null,null,null,null,null,null,null,null,null,null,null,null,null,null,null,null,null,null,null,null,null,null,null,null,null,null,null,null,null,null,null,null,null,null,null,null,null,null,null,null,null,null,null,null,null,null,null,null,null,null,null,null,null,null,null,null,null,null,null,null,null,null,null,null,null,null,null,null,null,null,null,null,null,null,null,null,0,0,""]
[null,null,null,null,null,null,null,null,null,null,null,null,null,null,"X","X","X","X",{"$f":"VLOOKUP(P2197,Lookup!A:B,2,FALSE)","v":"--"},{"$f":"VLOOKUP(Q2197,Lookup!A:B,2,FALSE)","v":"--"},{"$f":"VLOOKUP(R2197,Lookup!A:B,2,FALSE)","v":"--"},null,{"$f":"IF(E2197&F2197&G2197&I2197&K2197&M2197=\"\",\"\",IF(OR(H2197=\"\",D2197=\"\",AND(AC2197=0,'Contents & 6mo Restriction'!$BE$1=FALSE)),1,0))","v":""},"",0,0,0,0,0,0,null,null,null,null,null,null,null,null,null,null,null,null,null,null,null,null,null,null,null,null,null,null,null,null,null,null,null,null,null,null,null,null,null,null,null,null,null,null,null,null,null,null,null,null,null,null,null,null,null,null,null,null,null,null,null,null,null,null,null,null,null,null,null,null,null,null,null,null,null,null,null,null,null,null,null,null,null,null,null,null,null,null,null,null,null,null,null,null,null,null,null,null,null,null,null,null,null,null,null,null,null,null,0,{"$f":"IF(ISERROR(FIND(\"progress\",S2197&T2197&U2197)),0,1)","v":0},""]
[null,null,null,null,null,null,null,null,null,null,null,null,null,null,"X","X","X","X",{"$f":"VLOOKUP(P2226,Lookup!A:B,2,FALSE)","v":"--"},{"$f":"VLOOKUP(Q2226,Lookup!A:B,2,FALSE)","v":"--"},{"$f":"VLOOKUP(R2226,Lookup!A:B,2,FALSE)","v":"--"},null,{"$f":"IF(E2226&F2226&G2226&I2226&K2226&M2226=\"\",\"\",IF(OR(H2226=\"\",D2226=\"\",AND(AC2226=0,'Contents & 6mo Restriction'!$BE$1=FALSE)),1,0))","v":""},"",0,0,0,0,0,0,null,null,null,null,null,null,null,null,null,null,null,null,null,null,null,null,null,null,null,null,null,null,null,null,null,null,null,null,null,null,null,null,null,null,null,null,null,null,null,null,null,null,null,null,null,null,null,null,null,null,null,null,null,null,null,null,null,null,null,null,null,null,null,null,null,null,null,null,null,null,null,null,null,null,null,null,null,null,null,null,null,null,null,null,null,null,null,null,null,null,null,null,null,null,null,null,null,null,null,null,null,null,0,0,""]
[null,null,null,null,null,null,null,null,null,null,null,null,null,null,"X","X","X","X",{"$f":"VLOOKUP(P2307,Lookup!A:B,2,FALSE)","v":"--"},{"$f":"VLOOKUP(Q2307,Lookup!A:B,2,FALSE)","v":"--"},{"$f":"VLOOKUP(R2307,Lookup!A:B,2,FALSE)","v":"--"},null,{"$f":"IF(E2307&F2307&G2307&I2307&K2307&M2307=\"\",\"\",IF(OR(H2307=\"\",D2307=\"\",AND(AC2307=0,'Contents & 6mo Restriction'!$BE$1=FALSE)),1,0))","v":""},"",0,0,0,0,0,0,null,null,null,null,null,null,null,null,null,null,null,null,null,null,null,null,null,null,null,null,null,null,null,null,null,null,null,null,null,null,null,null,null,null,null,null,null,null,null,null,null,null,null,null,null,null,null,null,null,null,null,null,null,null,null,null,null,null,null,null,null,null,null,null,null,null,null,null,null,null,null,null,null,null,null,null,null,null,null,null,null,null,null,null,null,null,null,null,null,null,null,null,null,null,null,null,null,null,null,null,null,null,0,0,""]
[null,null,null,null,null,null,null,null,null,null,null,null,null,null,"X","X","X","X",{"$f":"VLOOKUP(P2341,Lookup!A:B,2,FALSE)","v":"--"},{"$f":"VLOOKUP(Q2341,Lookup!A:B,2,FALSE)","v":"--"},{"$f":"VLOOKUP(R2341,Lookup!A:B,2,FALSE)","v":"--"},null,{"$f":"IF(E2341&F2341&G2341&I2341&K2341&M2341=\"\",\"\",IF(OR(H2341=\"\",D2341=\"\",AND(AC2341=0,'Contents & 6mo Restriction'!$BE$1=FALSE)),1,0))","v":""},"",0,0,0,0,0,0,null,null,null,null,null,null,null,null,null,null,null,null,null,null,null,null,null,null,null,null,null,null,null,null,null,null,null,null,null,null,null,null,null,null,null,null,null,null,null,null,null,null,null,null,null,null,null,null,null,null,null,null,null,null,null,null,null,null,null,null,null,null,null,null,null,null,null,null,null,null,null,null,null,null,null,null,null,null,null,null,null,null,null,null,null,null,null,null,null,null,null,null,null,null,null,null,null,null,null,null,null,null,0,0,""]
[null,null,null,null,null,null,null,null,null,null,null,null,null,null,"X","X","X","X",{"$f":"VLOOKUP(P2360,Lookup!A:B,2,FALSE)","v":"--"},{"$f":"VLOOKUP(Q2360,Lookup!A:B,2,FALSE)","v":"--"},{"$f":"VLOOKUP(R2360,Lookup!A:B,2,FALSE)","v":"--"},null,{"$f":"IF(E2360&F2360&G2360&I2360&K2360&M2360=\"\",\"\",IF(OR(H2360=\"\",D2360=\"\",AND(AC2360=0,'Contents & 6mo Restriction'!$BE$1=FALSE)),1,0))","v":""},"",0,0,0,0,0,0,null,null,null,null,null,null,null,null,null,null,null,null,null,null,null,null,null,null,null,null,null,null,null,null,null,null,null,null,null,null,null,null,null,null,null,null,null,null,null,null,null,null,null,null,null,null,null,null,null,null,null,null,null,null,null,null,null,null,null,null,null,null,null,null,null,null,null,null,null,null,null,null,null,null,null,null,null,null,null,null,null,null,null,null,null,null,null,null,null,null,null,null,null,null,null,null,null,null,null,null,null,null,0,0,""]
[null,null,null,null,null,null,null,null,null,null,null,null,null,null,"X","X","X","X",{"$f":"VLOOKUP(P2403,Lookup!A:B,2,FALSE)","v":"--"},{"$f":"VLOOKUP(Q2403,Lookup!A:B,2,FALSE)","v":"--"},{"$f":"VLOOKUP(R2403,Lookup!A:B,2,FALSE)","v":"--"},null,{"$f":"IF(E2403&F2403&G2403&I2403&K2403&M2403=\"\",\"\",IF(OR(H2403=\"\",D2403=\"\",AND(AC2403=0,'Contents & 6mo Restriction'!$BE$1=FALSE)),1,0))","v":""},"",0,0,0,0,0,0,null,null,null,null,null,null,null,null,null,null,null,null,null,null,null,null,null,null,null,null,null,null,null,null,null,null,null,null,null,null,null,null,null,null,null,null,null,null,null,null,null,null,null,null,null,null,null,null,null,null,null,null,null,null,null,null,null,null,null,null,null,null,null,null,null,null,null,null,null,null,null,null,null,null,null,null,null,null,null,null,null,null,null,null,null,null,null,null,null,null,null,null,null,null,null,null,null,null,null,null,null,null,0,0,""]
[null,null,null,null,null,null,null,null,null,null,null,null,null,null,"X","X","X","X",{"$f":"VLOOKUP(P2484,Lookup!A:B,2,FALSE)","v":"--"},{"$f":"VLOOKUP(Q2484,Lookup!A:B,2,FALSE)","v":"--"},{"$f":"VLOOKUP(R2484,Lookup!A:B,2,FALSE)","v":"--"},null,{"$f":"IF(E2484&F2484&G2484&I2484&K2484&M2484=\"\",\"\",IF(OR(H2484=\"\",D2484=\"\",AND(AC2484=0,'Contents & 6mo Restriction'!$BE$1=FALSE)),1,0))","v":""},"",0,0,0,0,0,0,null,null,null,null,null,null,null,null,null,null,null,null,null,null,null,null,null,null,null,null,null,null,null,null,null,null,null,null,null,null,null,null,null,null,null,null,null,null,null,null,null,null,null,null,null,null,null,null,null,null,null,null,null,null,null,null,null,null,null,null,null,null,null,null,null,null,null,null,null,null,null,null,null,null,null,null,null,null,null,null,null,null,null,null,null,null,null,null,null,null,null,null,null,null,null,null,null,null,null,null,null,null,0,0,""]
[null,null,null,null,null,null,null,null,null,null,null,null,null,null,"X","X","X","X",{"$f":"VLOOKUP(P2513,Lookup!A:B,2,FALSE)","v":"--"},{"$f":"VLOOKUP(Q2513,Lookup!A:B,2,FALSE)","v":"--"},{"$f":"VLOOKUP(R2513,Lookup!A:B,2,FALSE)","v":"--"},null,{"$f":"IF(E2513&F2513&G2513&I2513&K2513&M2513=\"\",\"\",IF(OR(H2513=\"\",D2513=\"\",AND(AC2513=0,'Contents & 6mo Restriction'!$BE$1=FALSE)),1,0))","v":""},"",0,0,0,0,0,0,null,null,null,null,null,null,null,null,null,null,null,null,null,null,null,null,null,null,null,null,null,null,null,null,null,null,null,null,null,null,null,null,null,null,null,null,null,null,null,null,null,null,null,null,null,null,null,null,null,null,null,null,null,null,null,null,null,null,null,null,null,null,null,null,null,null,null,null,null,null,null,null,null,null,null,null,null,null,null,null,null,null,null,null,null,null,null,null,null,null,null,null,null,null,null,null,null,null,null,null,null,null,0,0,""]
[null,null,null,null,null,null,null,null,null,null,null,null,null,null,"X","X","X","X",{"$f":"VLOOKUP(P2547,Lookup!A:B,2,FALSE)","v":"--"},{"$f":"VLOOKUP(Q2547,Lookup!A:B,2,FALSE)","v":"--"},{"$f":"VLOOKUP(R2547,Lookup!A:B,2,FALSE)","v":"--"},null,{"$f":"IF(E2547&F2547&G2547&I2547&K2547&M2547=\"\",\"\",IF(OR(H2547=\"\",D2547=\"\",AND(AC2547=0,'Contents & 6mo Restriction'!$BE$1=FALSE)),1,0))","v":""},"",0,0,0,0,0,0,null,null,null,null,null,null,null,null,null,null,null,null,null,null,null,null,null,null,null,null,null,null,null,null,null,null,null,null,null,null,null,null,null,null,null,null,null,null,null,null,null,null,null,null,null,null,null,null,null,null,null,null,null,null,null,null,null,null,null,null,null,null,null,null,null,null,null,null,null,null,null,null,null,null,null,null,null,null,null,null,null,null,null,null,null,null,null,null,null,null,null,null,null,null,null,null,null,null,null,null,null,null,0,0,""]
[null,null,null,null,null,null,null,null,null,null,null,null,null,null,"X","X","X","X",{"$f":"VLOOKUP(P2613,Lookup!A:B,2,FALSE)","v":"--"},{"$f":"VLOOKUP(Q2613,Lookup!A:B,2,FALSE)","v":"--"},{"$f":"VLOOKUP(R2613,Lookup!A:B,2,FALSE)","v":"--"},null,{"$f":"IF(E2613&F2613&G2613&I2613&K2613&M2613=\"\",\"\",IF(OR(H2613=\"\",D2613=\"\",AND(AC2613=0,'Contents & 6mo Restriction'!$BE$1=FALSE)),1,0))","v":""},"",0,0,0,0,0,0,null,null,null,null,null,null,null,null,null,null,null,null,null,null,null,null,null,null,null,null,null,null,null,null,null,null,null,null,null,null,null,null,null,null,null,null,null,null,null,null,null,null,null,null,null,null,null,null,null,null,null,null,null,null,null,null,null,null,null,null,null,null,null,null,null,null,null,null,null,null,null,null,null,null,null,null,null,null,null,null,null,null,null,null,null,null,null,null,null,null,null,null,null,null,null,null,null,null,null,null,null,null,0,0,""]
[null,null,null,null,null,null,null,null,null,null,null,null,null,null,"X","X","X","X",{"$f":"VLOOKUP(P2656,Lookup!A:B,2,FALSE)","v":"--"},{"$f":"VLOOKUP(Q2656,Lookup!A:B,2,FALSE)","v":"--"},{"$f":"VLOOKUP(R2656,Lookup!A:B,2,FALSE)","v":"--"},null,{"$f":"IF(E2656&F2656&G2656&I2656&K2656&M2656=\"\",\"\",IF(OR(H2656=\"\",D2656=\"\",AND(AC2656=0,'Contents & 6mo Restriction'!$BE$1=FALSE)),1,0))","v":""},"",0,0,0,0,0,0,null,null,null,null,null,null,null,null,null,null,null,null,null,null,null,null,null,null,null,null,null,null,null,null,null,null,null,null,null,null,null,null,null,null,null,null,null,null,null,null,null,null,null,null,null,null,null,null,null,null,null,null,null,null,null,null,null,null,null,null,null,null,null,null,null,null,null,null,null,null,null,null,null,null,null,null,null,null,null,null,null,null,null,null,null,null,null,null,null,null,null,null,null,null,null,null,null,null,null,null,null,null,0,0,""]
[null,null,null,null,null,null,null,null,null,null,null,null,null,null,"X","X","X","X",{"$f":"VLOOKUP(P2690,Lookup!A:B,2,FALSE)","v":"--"},{"$f":"VLOOKUP(Q2690,Lookup!A:B,2,FALSE)","v":"--"},{"$f":"VLOOKUP(R2690,Lookup!A:B,2,FALSE)","v":"--"},null,{"$f":"IF(E2690&F2690&G2690&I2690&K2690&M2690=\"\",\"\",IF(OR(H2690=\"\",D2690=\"\",AND(AC2690=0,'Contents & 6mo Restriction'!$BE$1=FALSE)),1,0))","v":""},"",0,0,0,0,0,0,null,null,null,null,null,null,null,null,null,null,null,null,null,null,null,null,null,null,null,null,null,null,null,null,null,null,null,null,null,null,null,null,null,null,null,null,null,null,null,null,null,null,null,null,null,null,null,null,null,null,null,null,null,null,null,null,null,null,null,null,null,null,null,null,null,null,null,null,null,null,null,null,null,null,null,null,null,null,null,null,null,null,null,null,null,null,null,null,null,null,null,null,null,null,null,null,null,null,null,null,null,null,0,0,""]
[null,null,null,null,null,null,null,null,null,null,null,null,null,null,"X","X","X","X",{"$f":"VLOOKUP(P2766,Lookup!A:B,2,FALSE)","v":"--"},{"$f":"VLOOKUP(Q2766,Lookup!A:B,2,FALSE)","v":"--"},{"$f":"VLOOKUP(R2766,Lookup!A:B,2,FALSE)","v":"--"},null,{"$f":"IF(E2766&F2766&G2766&I2766&K2766&M2766=\"\",\"\",IF(OR(H2766=\"\",D2766=\"\",AND(AC2766=0,'Contents & 6mo Restriction'!$BE$1=FALSE)),1,0))","v":""},"",0,0,0,0,0,0,null,null,null,null,null,null,null,null,null,null,null,null,null,null,null,null,null,null,null,null,null,null,null,null,null,null,null,null,null,null,null,null,null,null,null,null,null,null,null,null,null,null,null,null,null,null,null,null,null,null,null,null,null,null,null,null,null,null,null,null,null,null,null,null,null,null,null,null,null,null,null,null,null,null,null,null,null,null,null,null,null,null,null,null,null,null,null,null,null,null,null,null,null,null,null,null,null,null,null,null,null,null,0,0,""]
[null,null,null,null,null,null,null,null,null,null,null,null,null,null,"X","X","X","X",{"$f":"VLOOKUP(P2808,Lookup!A:B,2,FALSE)","v":"--"},{"$f":"VLOOKUP(Q2808,Lookup!A:B,2,FALSE)","v":"--"},{"$f":"VLOOKUP(R2808,Lookup!A:B,2,FALSE)","v":"--"},null,{"$f":"IF(E2808&F2808&G2808&I2808&K2808&M2808=\"\",\"\",IF(OR(H2808=\"\",D2808=\"\",AND(AC2808=0,'Contents & 6mo Restriction'!$BE$1=FALSE)),1,0))","v":""},"",0,0,0,0,0,0,null,null,null,null,null,null,null,null,null,null,null,null,null,null,null,null,null,null,null,null,null,null,null,null,null,null,null,null,null,null,null,null,null,null,null,null,null,null,null,null,null,null,null,null,null,null,null,null,null,null,null,null,null,null,null,null,null,null,null,null,null,null,null,null,null,null,null,null,null,null,null,null,null,null,null,null,null,null,null,null,null,null,null,null,null,null,null,null,null,null,null,null,null,null,null,null,null,null,null,null,null,null,0,0,""]
[null,null,null,null,null,null,null,null,null,null,null,null,null,null,"X","X","X","X",{"$f":"VLOOKUP(P2828,Lookup!A:B,2,FALSE)","v":"--"},{"$f":"VLOOKUP(Q2828,Lookup!A:B,2,FALSE)","v":"--"},{"$f":"VLOOKUP(R2828,Lookup!A:B,2,FALSE)","v":"--"},null,{"$f":"IF(E2828&F2828&G2828&I2828&K2828&M2828=\"\",\"\",IF(OR(H2828=\"\",D2828=\"\",AND(AC2828=0,'Contents & 6mo Restriction'!$BE$1=FALSE)),1,0))","v":""},"",0,0,0,0,0,0,null,null,null,null,null,null,null,null,null,null,null,null,null,null,null,null,null,null,null,null,null,null,null,null,null,null,null,null,null,null,null,null,null,null,null,null,null,null,null,null,null,null,null,null,null,null,null,null,null,null,null,null,null,null,null,null,null,null,null,null,null,null,null,null,null,null,null,null,null,null,null,null,null,null,null,null,null,null,null,null,null,null,null,null,null,null,null,null,null,null,null,null,null,null,null,null,null,null,null,null,null,null,0,0,""]
[null,null,null,null,null,null,null,null,null,null,null,null,null,null,"X","X","X","X",{"$f":"VLOOKUP(P2909,Lookup!A:B,2,FALSE)","v":"--"},{"$f":"VLOOKUP(Q2909,Lookup!A:B,2,FALSE)","v":"--"},{"$f":"VLOOKUP(R2909,Lookup!A:B,2,FALSE)","v":"--"},null,{"$f":"IF(E2909&F2909&G2909&I2909&K2909&M2909=\"\",\"\",IF(OR(H2909=\"\",D2909=\"\",AND(AC2909=0,'Contents & 6mo Restriction'!$BE$1=FALSE)),1,0))","v":""},"",0,0,0,0,0,0,null,null,null,null,null,null,null,null,null,null,null,null,null,null,null,null,null,null,null,null,null,null,null,null,null,null,null,null,null,null,null,null,null,null,null,null,null,null,null,null,null,null,null,null,null,null,null,null,null,null,null,null,null,null,null,null,null,null,null,null,null,null,null,null,null,null,null,null,null,null,null,null,null,null,null,null,null,null,null,null,null,null,null,null,null,null,null,null,null,null,null,null,null,null,null,null,null,null,null,null,null,null,0,0,""]
[null,null,null,null,null,null,null,null,null,null,null,null,null,null,"X","X","X","X",{"$f":"VLOOKUP(P2943,Lookup!A:B,2,FALSE)","v":"--"},{"$f":"VLOOKUP(Q2943,Lookup!A:B,2,FALSE)","v":"--"},{"$f":"VLOOKUP(R2943,Lookup!A:B,2,FALSE)","v":"--"},null,{"$f":"IF(E2943&F2943&G2943&I2943&K2943&M2943=\"\",\"\",IF(OR(H2943=\"\",D2943=\"\",AND(AC2943=0,'Contents & 6mo Restriction'!$BE$1=FALSE)),1,0))","v":""},"",0,0,0,0,0,0,null,null,null,null,null,null,null,null,null,null,null,null,null,null,null,null,null,null,null,null,null,null,null,null,null,null,null,null,null,null,null,null,null,null,null,null,null,null,null,null,null,null,null,null,null,null,null,null,null,null,null,null,null,null,null,null,null,null,null,null,null,null,null,null,null,null,null,null,null,null,null,null,null,null,null,null,null,null,null,null,null,null,null,null,null,null,null,null,null,null,null,null,null,null,null,null,null,null,null,null,null,null,0,0,""]
[null,null,null,null,null,null,null,null,null,null,null,null,null,null,"X","X","X","X",{"$f":"VLOOKUP(P2972,Lookup!A:B,2,FALSE)","v":"--"},{"$f":"VLOOKUP(Q2972,Lookup!A:B,2,FALSE)","v":"--"},{"$f":"VLOOKUP(R2972,Lookup!A:B,2,FALSE)","v":"--"},null,{"$f":"IF(E2972&F2972&G2972&I2972&K2972&M2972=\"\",\"\",IF(OR(H2972=\"\",D2972=\"\",AND(AC2972=0,'Contents & 6mo Restriction'!$BE$1=FALSE)),1,0))","v":""},"",0,0,0,0,0,0,null,null,null,null,null,null,null,null,null,null,null,null,null,null,null,null,null,null,null,null,null,null,null,null,null,null,null,null,null,null,null,null,null,null,null,null,null,null,null,null,null,null,null,null,null,null,null,null,null,null,null,null,null,null,null,null,null,null,null,null,null,null,null,null,null,null,null,null,null,null,null,null,null,null,null,null,null,null,null,null,null,null,null,null,null,null,null,null,null,null,null,null,null,null,null,null,null,null,null,null,null,null,0,0,""]
[null,null,null,null,null,null,null,null,null,null,null,null,null,null,"X","X","X","X",{"$f":"VLOOKUP(P3015,Lookup!A:B,2,FALSE)","v":"--"},{"$f":"VLOOKUP(Q3015,Lookup!A:B,2,FALSE)","v":"--"},{"$f":"VLOOKUP(R3015,Lookup!A:B,2,FALSE)","v":"--"},null,{"$f":"IF(E3015&F3015&G3015&I3015&K3015&M3015=\"\",\"\",IF(OR(H3015=\"\",D3015=\"\",AND(AC3015=0,'Contents & 6mo Restriction'!$BE$1=FALSE)),1,0))","v":""},"",0,0,0,0,0,0,null,null,null,null,null,null,null,null,null,null,null,null,null,null,null,null,null,null,null,null,null,null,null,null,null,null,null,null,null,null,null,null,null,null,null,null,null,null,null,null,null,null,null,null,null,null,null,null,null,null,null,null,null,null,null,null,null,null,null,null,null,null,null,null,null,null,null,null,null,null,null,null,null,null,null,null,null,null,null,null,null,null,null,null,null,null,null,null,null,null,null,null,null,null,null,null,null,null,null,null,null,null,0,0,""]
[null,null,null,null,null,null,null,null,null,null,null,null,null,null,"X","X","X","X",{"$f":"VLOOKUP(P3086,Lookup!A:B,2,FALSE)","v":"--"},{"$f":"VLOOKUP(Q3086,Lookup!A:B,2,FALSE)","v":"--"},{"$f":"VLOOKUP(R3086,Lookup!A:B,2,FALSE)","v":"--"},null,{"$f":"IF(E3086&F3086&G3086&I3086&K3086&M3086=\"\",\"\",IF(OR(H3086=\"\",D3086=\"\",AND(AC3086=0,'Contents & 6mo Restriction'!$BE$1=FALSE)),1,0))","v":""},"",0,0,0,0,0,0,null,null,null,null,null,null,null,null,null,null,null,null,null,null,null,null,null,null,null,null,null,null,null,null,null,null,null,null,null,null,null,null,null,null,null,null,null,null,null,null,null,null,null,null,null,null,null,null,null,null,null,null,null,null,null,null,null,null,null,null,null,null,null,null,null,null,null,null,null,null,null,null,null,null,null,null,null,null,null,null,null,null,null,null,null,null,null,null,null,null,null,null,null,null,null,null,null,null,null,null,null,null,0,0,""]
[null,null,null,null,null,null,null,null,null,null,null,null,null,null,"X","X","X","X",{"$f":"VLOOKUP(P3115,Lookup!A:B,2,FALSE)","v":"--"},{"$f":"VLOOKUP(Q3115,Lookup!A:B,2,FALSE)","v":"--"},{"$f":"VLOOKUP(R3115,Lookup!A:B,2,FALSE)","v":"--"},null,{"$f":"IF(E3115&F3115&G3115&I3115&K3115&M3115=\"\",\"\",IF(OR(H3115=\"\",D3115=\"\",AND(AC3115=0,'Contents & 6mo Restriction'!$BE$1=FALSE)),1,0))","v":""},"",0,0,0,0,0,0,null,null,null,null,null,null,null,null,null,null,null,null,null,null,null,null,null,null,null,null,null,null,null,null,null,null,null,null,null,null,null,null,null,null,null,null,null,null,null,null,null,null,null,null,null,null,null,null,null,null,null,null,null,null,null,null,null,null,null,null,null,null,null,null,null,null,null,null,null,null,null,null,null,null,null,null,null,null,null,null,null,null,null,null,null,null,null,null,null,null,null,null,null,null,null,null,null,null,null,null,null,null,0,0,""]
[null,null,null,null,null,null,null,null,null,null,null,null,null,null,"X","X","X","X",{"$f":"VLOOKUP(P3196,Lookup!A:B,2,FALSE)","v":"--"},{"$f":"VLOOKUP(Q3196,Lookup!A:B,2,FALSE)","v":"--"},{"$f":"VLOOKUP(R3196,Lookup!A:B,2,FALSE)","v":"--"},null,{"$f":"IF(E3196&F3196&G3196&I3196&K3196&M3196=\"\",\"\",IF(OR(H3196=\"\",D3196=\"\",AND(AC3196=0,'Contents & 6mo Restriction'!$BE$1=FALSE)),1,0))","v":""},"",0,0,0,0,0,0,null,null,null,null,null,null,null,null,null,null,null,null,null,null,null,null,null,null,null,null,null,null,null,null,null,null,null,null,null,null,null,null,null,null,null,null,null,null,null,null,null,null,null,null,null,null,null,null,null,null,null,null,null,null,null,null,null,null,null,null,null,null,null,null,null,null,null,null,null,null,null,null,null,null,null,null,null,null,null,null,null,null,null,null,null,null,null,null,null,null,null,null,null,null,null,null,null,null,null,null,null,null,0,0,""]
[null,null,null,null,null,null,null,null,null,null,null,null,null,null,"X","X","X","X",{"$f":"VLOOKUP(P3222,Lookup!A:B,2,FALSE)","v":"--"},{"$f":"VLOOKUP(Q3222,Lookup!A:B,2,FALSE)","v":"--"},{"$f":"VLOOKUP(R3222,Lookup!A:B,2,FALSE)","v":"--"},null,{"$f":"IF(E3222&F3222&G3222&I3222&K3222&M3222=\"\",\"\",IF(OR(H3222=\"\",D3222=\"\",AND(AC3222=0,'Contents & 6mo Restriction'!$BE$1=FALSE)),1,0))","v":""},{"$f":"IF(CONCATENATE(B3222,C3222,E3222,F3222,G3222)=\"\",\"\",1)","v":""},{"$f":"IF(AND(W3222=0,OR(S3222=\"a\",S3222=\"b\",S3222=\"c\",S3222=\"d\",S3222=\"e\",T3222=\"a\",T3222=\"b\",T3222=\"c\",T3222=\"d\",T3222=\"e\",U3222=\"a\",U3222=\"b\",U3222=\"c\",U3222=\"d\",U3222=\"e\")),1,0)","v":0},{"$f":"IF(AND(OR(S3222=\"a\",S3222=\"b\",S3222=\"c\",S3222=\"d\",S3222=\"e\"),OR(T3222=\"a\",T3222=\"b\",T3222=\"c\",T3222=\"d\",T3222=\"e\"),OR(U3222=\"a\",U3222=\"b\",U3222=\"c\",U3222=\"d\",U3222=\"e\"),W3222=0),1,0)","v":0},{"$f":"IF(SUM(AB3222:AD3222)>0,1,0)","v":0},{"$f":"IF(H3222>=DATE(YEAR(D3222),MONTH(D3222)+6,DAY(D3222)),1,0)","v":0},{"$f":"IF(H3222-D3222>=182,1,0)","v":0},{"$f":"IF(OR(AND(MONTH(D3222)=8,DAY(D3222)=30,H3222-D3222>=182),AND(MONTH(D3222)=8,DAY(D3222)=31,H3222-D3222>=181),AND(MONTH(D3222)=10,DAY(D3222)=31,H3222-D3222>=181),AND(MONTH(D3222)=12,DAY(D3222)=31,H3222-D3222>=181)),1,0)","v":0},null,null,null,null,null,null,null,null,null,null,null,null,null,null,null,null,null,null,null,null,null,null,null,null,null,null,null,null,null,null,null,null,null,null,null,null,null,null,null,null,null,null,null,null,null,null,null,null,null,null,null,null,null,null,null,null,null,null,null,null,null,null,null,null,null,null,null,null,null,null,null,null,null,null,null,null,null,null,null,null,null,null,null,null,null,null,null,null,null,null,null,null,null,null,null,null,null,null,null,null,null,null,0,0,{"$f":"IFERROR(W3222,\"Please enter valid dates\")","v":""}]
[null,null,null,null,null,null,null,null,null,null,null,null,null,null,"X","X","X","X",{"$f":"VLOOKUP(P3258,Lookup!A:B,2,FALSE)","v":"--"},{"$f":"VLOOKUP(Q3258,Lookup!A:B,2,FALSE)","v":"--"},{"$f":"VLOOKUP(R3258,Lookup!A:B,2,FALSE)","v":"--"},null,{"$f":"IF(E3258&F3258&G3258&I3258&K3258&M3258=\"\",\"\",IF(OR(H3258=\"\",D3258=\"\",AND(AC3258=0,'Contents & 6mo Restriction'!$BE$1=FALSE)),1,0))","v":""},"",0,0,0,0,0,0,null,null,null,null,null,null,null,null,null,null,null,null,null,null,null,null,null,null,null,null,null,null,null,null,null,null,null,null,null,null,null,null,null,null,null,null,null,null,null,null,null,null,null,null,null,null,null,null,null,null,null,null,null,null,null,null,null,null,null,null,null,null,null,null,null,null,null,null,null,null,null,null,null,null,null,null,null,null,null,null,null,null,null,null,null,null,null,null,null,null,null,null,null,null,null,null,null,null,null,null,null,null,0,0,""]
[null,null,null,null,null,null,null,null,null,null,null,null,null,null,"X","X","X","X",{"$f":"VLOOKUP(P3292,Lookup!A:B,2,FALSE)","v":"--"},{"$f":"VLOOKUP(Q3292,Lookup!A:B,2,FALSE)","v":"--"},{"$f":"VLOOKUP(R3292,Lookup!A:B,2,FALSE)","v":"--"},null,{"$f":"IF(E3292&F3292&G3292&I3292&K3292&M3292=\"\",\"\",IF(OR(H3292=\"\",D3292=\"\",AND(AC3292=0,'Contents & 6mo Restriction'!$BE$1=FALSE)),1,0))","v":""},"",0,0,0,0,0,0,null,null,null,null,null,null,null,null,null,null,null,null,null,null,null,null,null,null,null,null,null,null,null,null,null,null,null,null,null,null,null,null,null,null,null,null,null,null,null,null,null,null,null,null,null,null,null,null,null,null,null,null,null,null,null,null,null,null,null,null,null,null,null,null,null,null,null,null,null,null,null,null,null,null,null,null,null,null,null,null,null,null,null,null,null,null,null,null,null,null,null,null,null,null,null,null,null,null,null,null,null,null,0,0,""]
[null,null,null,null,null,null,null,null,null,null,null,null,null,null,"X","X","X","X",{"$f":"VLOOKUP(P3368,Lookup!A:B,2,FALSE)","v":"--"},{"$f":"VLOOKUP(Q3368,Lookup!A:B,2,FALSE)","v":"--"},{"$f":"VLOOKUP(R3368,Lookup!A:B,2,FALSE)","v":"--"},null,{"$f":"IF(E3368&F3368&G3368&I3368&K3368&M3368=\"\",\"\",IF(OR(H3368=\"\",D3368=\"\",AND(AC3368=0,'Contents & 6mo Restriction'!$BE$1=FALSE)),1,0))","v":""},"",0,0,0,0,0,0,null,null,null,null,null,null,null,null,null,null,null,null,null,null,null,null,null,null,null,null,null,null,null,null,null,null,null,null,null,null,null,null,null,null,null,null,null,null,null,null,null,null,null,null,null,null,null,null,null,null,null,null,null,null,null,null,null,null,null,null,null,null,null,null,null,null,null,null,null,null,null,null,null,null,null,null,null,null,null,null,null,null,null,null,null,null,null,null,null,null,null,null,null,null,null,null,null,null,null,null,null,null,0,0,""]
[null,null,null,null,null,null,null,null,null,null,null,null,null,null,"X","X","X","X",{"$f":"VLOOKUP(P3402,Lookup!A:B,2,FALSE)","v":"--"},{"$f":"VLOOKUP(Q3402,Lookup!A:B,2,FALSE)","v":"--"},{"$f":"VLOOKUP(R3402,Lookup!A:B,2,FALSE)","v":"--"},null,{"$f":"IF(E3402&F3402&G3402&I3402&K3402&M3402=\"\",\"\",IF(OR(H3402=\"\",D3402=\"\",AND(AC3402=0,'Contents & 6mo Restriction'!$BE$1=FALSE)),1,0))","v":""},"",0,0,0,0,0,0,null,null,null,null,null,null,null,null,null,null,null,null,null,null,null,null,null,null,null,null,null,null,null,null,null,null,null,null,null,null,null,null,null,null,null,null,null,null,null,null,null,null,null,null,null,null,null,null,null,null,null,null,null,null,null,null,null,null,null,null,null,null,null,null,null,null,null,null,null,null,null,null,null,null,null,null,null,null,null,null,null,null,null,null,null,null,null,null,null,null,null,null,null,null,null,null,null,null,null,null,null,null,0,0,""]
[null,null,null,null,null,null,null,null,null,null,null,null,null,null,"X","X","X","X",{"$f":"VLOOKUP(P3463,Lookup!A:B,2,FALSE)","v":"--"},{"$f":"VLOOKUP(Q3463,Lookup!A:B,2,FALSE)","v":"--"},{"$f":"VLOOKUP(R3463,Lookup!A:B,2,FALSE)","v":"--"},null,{"$f":"IF(E3463&F3463&G3463&I3463&K3463&M3463=\"\",\"\",IF(OR(H3463=\"\",D3463=\"\",AND(AC3463=0,'Contents & 6mo Restriction'!$BE$1=FALSE)),1,0))","v":""},"",0,0,0,0,0,0,null,null,null,null,null,null,null,null,null,null,null,null,null,null,null,null,null,null,null,null,null,null,null,null,null,null,null,null,null,null,null,null,null,null,null,null,null,null,null,null,null,null,null,null,null,null,null,null,null,null,null,null,null,null,null,null,null,null,null,null,null,null,null,null,null,null,null,null,null,null,null,null,null,null,null,null,null,null,null,null,null,null,null,null,null,null,null,null,null,null,null,null,null,null,null,null,null,null,null,null,null,null,0,0,""]
[null,null,null,null,null,null,null,null,null,null,null,null,null,null,"X","X","X","X",{"$f":"VLOOKUP(P3511,Lookup!A:B,2,FALSE)","v":"--"},{"$f":"VLOOKUP(Q3511,Lookup!A:B,2,FALSE)","v":"--"},{"$f":"VLOOKUP(R3511,Lookup!A:B,2,FALSE)","v":"--"},null,{"$f":"IF(E3511&F3511&G3511&I3511&K3511&M3511=\"\",\"\",IF(OR(H3511=\"\",D3511=\"\",AND(AC3511=0,'Contents & 6mo Restriction'!$BE$1=FALSE)),1,0))","v":""},"",0,0,0,0,0,0,null,null,null,null,null,null,null,null,null,null,null,null,null,null,null,null,null,null,null,null,null,null,null,null,null,null,null,null,null,null,null,null,null,null,null,null,null,null,null,null,null,null,null,null,null,null,null,null,null,null,null,null,null,null,null,null,null,null,null,null,null,null,null,null,null,null,null,null,null,null,null,null,null,null,null,null,null,null,null,null,null,null,null,null,null,null,null,null,null,null,null,null,null,null,null,null,null,null,null,null,null,null,0,0,""]
[null,null,null,null,null,null,null,null,null,null,null,null,null,null,"X","X","X","X",{"$f":"VLOOKUP(P3545,Lookup!A:B,2,FALSE)","v":"--"},{"$f":"VLOOKUP(Q3545,Lookup!A:B,2,FALSE)","v":"--"},{"$f":"VLOOKUP(R3545,Lookup!A:B,2,FALSE)","v":"--"},null,{"$f":"IF(E3545&F3545&G3545&I3545&K3545&M3545=\"\",\"\",IF(OR(H3545=\"\",D3545=\"\",AND(AC3545=0,'Contents & 6mo Restriction'!$BE$1=FALSE)),1,0))","v":""},"",0,0,0,0,0,0,null,null,null,null,null,null,null,null,null,null,null,null,null,null,null,null,null,null,null,null,null,null,null,null,null,null,null,null,null,null,null,null,null,null,null,null,null,null,null,null,null,null,null,null,null,null,null,null,null,null,null,null,null,null,null,null,null,null,null,null,null,null,null,null,null,null,null,null,null,null,null,null,null,null,null,null,null,null,null,null,null,null,null,null,null,null,null,null,null,null,null,null,null,null,null,null,null,null,null,null,null,null,0,0,""]
[null,null,null,null,null,null,null,null,null,null,null,null,null,null,"X","X","X","X",{"$f":"VLOOKUP(P3574,Lookup!A:B,2,FALSE)","v":"--"},{"$f":"VLOOKUP(Q3574,Lookup!A:B,2,FALSE)","v":"--"},{"$f":"VLOOKUP(R3574,Lookup!A:B,2,FALSE)","v":"--"},null,{"$f":"IF(E3574&F3574&G3574&I3574&K3574&M3574=\"\",\"\",IF(OR(H3574=\"\",D3574=\"\",AND(AC3574=0,'Contents & 6mo Restriction'!$BE$1=FALSE)),1,0))","v":""},"",0,0,0,0,0,0,null,null,null,null,null,null,null,null,null,null,null,null,null,null,null,null,null,null,null,null,null,null,null,null,null,null,null,null,null,null,null,null,null,null,null,null,null,null,null,null,null,null,null,null,null,null,null,null,null,null,null,null,null,null,null,null,null,null,null,null,null,null,null,null,null,null,null,null,null,null,null,null,null,null,null,null,null,null,null,null,null,null,null,null,null,null,null,null,null,null,null,null,null,null,null,null,null,null,null,null,null,null,0,0,""]
[null,null,null,null,null,null,null,null,null,null,null,null,null,null,"X","X","X","X",{"$f":"VLOOKUP(P3624,Lookup!A:B,2,FALSE)","v":"--"},{"$f":"VLOOKUP(Q3624,Lookup!A:B,2,FALSE)","v":"--"},{"$f":"VLOOKUP(R3624,Lookup!A:B,2,FALSE)","v":"--"},null,{"$f":"IF(E3624&F3624&G3624&I3624&K3624&M3624=\"\",\"\",IF(OR(H3624=\"\",D3624=\"\",AND(AC3624=0,'Contents & 6mo Restriction'!$BE$1=FALSE)),1,0))","v":""},"",0,0,0,0,0,0,null,null,null,null,null,null,null,null,null,null,null,null,null,null,null,null,null,null,null,null,null,null,null,null,null,null,null,null,null,null,null,null,null,null,null,null,null,null,null,null,null,null,null,null,null,null,null,null,null,null,null,null,null,null,null,null,null,null,null,null,null,null,null,null,null,null,null,null,null,null,null,null,null,null,null,null,null,null,null,null,null,null,null,null,null,null,null,null,null,null,null,null,null,null,null,null,null,null,null,null,null,null,0,0,""]
[null,null,null,null,null,null,null,null,null,null,null,null,null,null,"X","X","X","X",{"$f":"VLOOKUP(P3688,Lookup!A:B,2,FALSE)","v":"--"},{"$f":"VLOOKUP(Q3688,Lookup!A:B,2,FALSE)","v":"--"},{"$f":"VLOOKUP(R3688,Lookup!A:B,2,FALSE)","v":"--"},null,{"$f":"IF(E3688&F3688&G3688&I3688&K3688&M3688=\"\",\"\",IF(OR(H3688=\"\",D3688=\"\",AND(AC3688=0,'Contents & 6mo Restriction'!$BE$1=FALSE)),1,0))","v":""},"",0,0,0,0,0,0,null,null,null,null,null,null,null,null,null,null,null,null,null,null,null,null,null,null,null,null,null,null,null,null,null,null,null,null,null,null,null,null,null,null,null,null,null,null,null,null,null,null,null,null,null,null,null,null,null,null,null,null,null,null,null,null,null,null,null,null,null,null,null,null,null,null,null,null,null,null,null,null,null,null,null,null,null,null,null,null,null,null,null,null,null,null,null,null,null,null,null,null,null,null,null,null,null,null,null,null,null,null,0,0,""]
[null,null,null,null,null,null,null,null,null,null,null,null,null,null,"X","X","X","X",{"$f":"VLOOKUP(P3717,Lookup!A:B,2,FALSE)","v":"--"},{"$f":"VLOOKUP(Q3717,Lookup!A:B,2,FALSE)","v":"--"},{"$f":"VLOOKUP(R3717,Lookup!A:B,2,FALSE)","v":"--"},null,{"$f":"IF(E3717&F3717&G3717&I3717&K3717&M3717=\"\",\"\",IF(OR(H3717=\"\",D3717=\"\",AND(AC3717=0,'Contents & 6mo Restriction'!$BE$1=FALSE)),1,0))","v":""},"",0,0,0,0,0,0,null,null,null,null,null,null,null,null,null,null,null,null,null,null,null,null,null,null,null,null,null,null,null,null,null,null,null,null,null,null,null,null,null,null,null,null,null,null,null,null,null,null,null,null,null,null,null,null,null,null,null,null,null,null,null,null,null,null,null,null,null,null,null,null,null,null,null,null,null,null,null,null,null,null,null,null,null,null,null,null,null,null,null,null,null,null,null,null,null,null,null,null,null,null,null,null,null,null,null,null,null,null,0,0,""]
[null,null,null,null,null,null,null,null,null,null,null,null,null,null,"X","X","X","X",{"$f":"VLOOKUP(P3798,Lookup!A:B,2,FALSE)","v":"--"},{"$f":"VLOOKUP(Q3798,Lookup!A:B,2,FALSE)","v":"--"},{"$f":"VLOOKUP(R3798,Lookup!A:B,2,FALSE)","v":"--"},null,{"$f":"IF(E3798&F3798&G3798&I3798&K3798&M3798=\"\",\"\",IF(OR(H3798=\"\",D3798=\"\",AND(AC3798=0,'Contents & 6mo Restriction'!$BE$1=FALSE)),1,0))","v":""},{"$f":"IF(CONCATENATE(B3798,C3798,E3798,F3798,G3798)=\"\",\"\",1)","v":""},{"$f":"IF(AND(W3798=0,OR(S3798=\"a\",S3798=\"b\",S3798=\"c\",S3798=\"d\",S3798=\"e\",T3798=\"a\",T3798=\"b\",T3798=\"c\",T3798=\"d\",T3798=\"e\",U3798=\"a\",U3798=\"b\",U3798=\"c\",U3798=\"d\",U3798=\"e\")),1,0)","v":0},{"$f":"IF(AND(OR(S3798=\"a\",S3798=\"b\",S3798=\"c\",S3798=\"d\",S3798=\"e\"),OR(T3798=\"a\",T3798=\"b\",T3798=\"c\",T3798=\"d\",T3798=\"e\"),OR(U3798=\"a\",U3798=\"b\",U3798=\"c\",U3798=\"d\",U3798=\"e\"),W3798=0),1,0)","v":0},{"$f":"IF(SUM(AB3798:AD3798)>0,1,0)","v":0},{"$f":"IF(H3798>=DATE(YEAR(D3798),MONTH(D3798)+6,DAY(D3798)),1,0)","v":0},{"$f":"IF(H3798-D3798>=182,1,0)","v":0},{"$f":"IF(OR(AND(MONTH(D3798)=8,DAY(D3798)=30,H3798-D3798>=182),AND(MONTH(D3798)=8,DAY(D3798)=31,H3798-D3798>=181),AND(MONTH(D3798)=10,DAY(D3798)=31,H3798-D3798>=181),AND(MONTH(D3798)=12,DAY(D3798)=31,H3798-D3798>=181)),1,0)","v":0},null,null,null,null,null,null,null,null,null,null,null,null,null,null,null,null,null,null,null,null,null,null,null,null,null,null,null,null,null,null,null,null,null,null,null,null,null,null,null,null,null,null,null,null,null,null,null,null,null,null,null,null,null,null,null,null,null,null,null,null,null,null,null,null,null,null,null,null,null,null,null,null,null,null,null,null,null,null,null,null,null,null,null,null,null,null,null,null,null,null,null,null,null,null,null,null,null,null,null,null,null,null,0,0,{"$f":"IFERROR(W3798,\"Please enter valid dates\")","v":""}]
[null,null,null,null,null,null,null,null,null,null,null,null,null,null,"X","X","X","X",{"$f":"VLOOKUP(P3827,Lookup!A:B,2,FALSE)","v":"--"},{"$f":"VLOOKUP(Q3827,Lookup!A:B,2,FALSE)","v":"--"},{"$f":"VLOOKUP(R3827,Lookup!A:B,2,FALSE)","v":"--"},null,{"$f":"IF(E3827&F3827&G3827&I3827&K3827&M3827=\"\",\"\",IF(OR(H3827=\"\",D3827=\"\",AND(AC3827=0,'Contents & 6mo Restriction'!$BE$1=FALSE)),1,0))","v":""},"",0,0,0,0,0,0,null,null,null,null,null,null,null,null,null,null,null,null,null,null,null,null,null,null,null,null,null,null,null,null,null,null,null,null,null,null,null,null,null,null,null,null,null,null,null,null,null,null,null,null,null,null,null,null,null,null,null,null,null,null,null,null,null,null,null,null,null,null,null,null,null,null,null,null,null,null,null,null,null,null,null,null,null,null,null,null,null,null,null,null,null,null,null,null,null,null,null,null,null,null,null,null,null,null,null,null,null,null,0,0,""]
[null,null,null,null,null,null,null,null,null,null,null,null,null,null,"X","X","X","X",{"$f":"VLOOKUP(P3877,Lookup!A:B,2,FALSE)","v":"--"},{"$f":"VLOOKUP(Q3877,Lookup!A:B,2,FALSE)","v":"--"},{"$f":"VLOOKUP(R3877,Lookup!A:B,2,FALSE)","v":"--"},null,{"$f":"IF(E3877&F3877&G3877&I3877&K3877&M3877=\"\",\"\",IF(OR(H3877=\"\",D3877=\"\",AND(AC3877=0,'Contents & 6mo Restriction'!$BE$1=FALSE)),1,0))","v":""},"",0,0,0,0,0,0,null,null,null,null,null,null,null,null,null,null,null,null,null,null,null,null,null,null,null,null,null,null,null,null,null,null,null,null,null,null,null,null,null,null,null,null,null,null,null,null,null,null,null,null,null,null,null,null,null,null,null,null,null,null,null,null,null,null,null,null,null,null,null,null,null,null,null,null,null,null,null,null,null,null,null,null,null,null,null,null,null,null,null,null,null,null,null,null,null,null,null,null,null,null,null,null,null,null,null,null,null,null,0,0,""]
[null,null,null,null,null,null,null,null,null,null,null,null,null,null,"X","X","X","X",{"$f":"VLOOKUP(P3941,Lookup!A:B,2,FALSE)","v":"--"},{"$f":"VLOOKUP(Q3941,Lookup!A:B,2,FALSE)","v":"--"},{"$f":"VLOOKUP(R3941,Lookup!A:B,2,FALSE)","v":"--"},null,{"$f":"IF(E3941&F3941&G3941&I3941&K3941&M3941=\"\",\"\",IF(OR(H3941=\"\",D3941=\"\",AND(AC3941=0,'Contents & 6mo Restriction'!$BE$1=FALSE)),1,0))","v":""},"",0,0,0,0,0,0,null,null,null,null,null,null,null,null,null,null,null,null,null,null,null,null,null,null,null,null,null,null,null,null,null,null,null,null,null,null,null,null,null,null,null,null,null,null,null,null,null,null,null,null,null,null,null,null,null,null,null,null,null,null,null,null,null,null,null,null,null,null,null,null,null,null,null,null,null,null,null,null,null,null,null,null,null,null,null,null,null,null,null,null,null,null,null,null,null,null,null,null,null,null,null,null,null,null,null,null,null,null,0,0,""]
[null,null,null,null,null,null,null,null,null,null,null,null,null,null,"X","X","X","X",{"$f":"VLOOKUP(P3970,Lookup!A:B,2,FALSE)","v":"--"},{"$f":"VLOOKUP(Q3970,Lookup!A:B,2,FALSE)","v":"--"},{"$f":"VLOOKUP(R3970,Lookup!A:B,2,FALSE)","v":"--"},null,{"$f":"IF(E3970&F3970&G3970&I3970&K3970&M3970=\"\",\"\",IF(OR(H3970=\"\",D3970=\"\",AND(AC3970=0,'Contents & 6mo Restriction'!$BE$1=FALSE)),1,0))","v":""},"",0,0,0,0,0,0,null,null,null,null,null,null,null,null,null,null,null,null,null,null,null,null,null,null,null,null,null,null,null,null,null,null,null,null,null,null,null,null,null,null,null,null,null,null,null,null,null,null,null,null,null,null,null,null,null,null,null,null,null,null,null,null,null,null,null,null,null,null,null,null,null,null,null,null,null,null,null,null,null,null,null,null,null,null,null,null,null,null,null,null,null,null,null,null,null,null,null,null,null,null,null,null,null,null,null,null,null,null,0,0,""]
[null,null,null,null,null,null,null,null,null,null,null,null,null,null,"X","X","X","X",{"$f":"VLOOKUP(P4004,Lookup!A:B,2,FALSE)","v":"--"},{"$f":"VLOOKUP(Q4004,Lookup!A:B,2,FALSE)","v":"--"},{"$f":"VLOOKUP(R4004,Lookup!A:B,2,FALSE)","v":"--"},null,{"$f":"IF(E4004&F4004&G4004&I4004&K4004&M4004=\"\",\"\",IF(OR(H4004=\"\",D4004=\"\",AND(AC4004=0,'Contents & 6mo Restriction'!$BE$1=FALSE)),1,0))","v":""},"",0,0,0,0,0,0,null,null,null,null,null,null,null,null,null,null,null,null,null,null,null,null,null,null,null,null,null,null,null,null,null,null,null,null,null,null,null,null,null,null,null,null,null,null,null,null,null,null,null,null,null,null,null,null,null,null,null,null,null,null,null,null,null,null,null,null,null,null,null,null,null,null,null,null,null,null,null,null,null,null,null,null,null,null,null,null,null,null,null,null,null,null,null,null,null,null,null,null,null,null,null,null,null,null,null,null,null,null,0,0,""]
[null,null,null,null,null,null,null,null,null,null,null,null,null,null,"X","X","X","X",{"$f":"VLOOKUP(P4072,Lookup!A:B,2,FALSE)","v":"--"},{"$f":"VLOOKUP(Q4072,Lookup!A:B,2,FALSE)","v":"--"},{"$f":"VLOOKUP(R4072,Lookup!A:B,2,FALSE)","v":"--"},null,{"$f":"IF(E4072&F4072&G4072&I4072&K4072&M4072=\"\",\"\",IF(OR(H4072=\"\",D4072=\"\",AND(AC4072=0,'Contents & 6mo Restriction'!$BE$1=FALSE)),1,0))","v":""},"",0,0,0,0,0,0,null,null,null,null,null,null,null,null,null,null,null,null,null,null,null,null,null,null,null,null,null,null,null,null,null,null,null,null,null,null,null,null,null,null,null,null,null,null,null,null,null,null,null,null,null,null,null,null,null,null,null,null,null,null,null,null,null,null,null,null,null,null,null,null,null,null,null,null,null,null,null,null,null,null,null,null,null,null,null,null,null,null,null,null,null,null,null,null,null,null,null,null,null,null,null,null,null,null,null,null,null,null,0,0,""]
[null,null,null,null,null,null,null,null,null,null,null,null,null,null,"X","X","X","X",{"$f":"VLOOKUP(P4113,Lookup!A:B,2,FALSE)","v":"--"},{"$f":"VLOOKUP(Q4113,Lookup!A:B,2,FALSE)","v":"--"},{"$f":"VLOOKUP(R4113,Lookup!A:B,2,FALSE)","v":"--"},null,{"$f":"IF(E4113&F4113&G4113&I4113&K4113&M4113=\"\",\"\",IF(OR(H4113=\"\",D4113=\"\",AND(AC4113=0,'Contents & 6mo Restriction'!$BE$1=FALSE)),1,0))","v":""},"",0,0,0,0,0,0,null,null,null,null,null,null,null,null,null,null,null,null,null,null,null,null,null,null,null,null,null,null,null,null,null,null,null,null,null,null,null,null,null,null,null,null,null,null,null,null,null,null,null,null,null,null,null,null,null,null,null,null,null,null,null,null,null,null,null,null,null,null,null,null,null,null,null,null,null,null,null,null,null,null,null,null,null,null,null,null,null,null,null,null,null,null,null,null,null,null,null,null,null,null,null,null,null,null,null,null,null,null,0,0,""]
[null,null,null,null,null,null,null,null,null,null,null,null,null,null,"X","X","X","X",{"$f":"VLOOKUP(P4147,Lookup!A:B,2,FALSE)","v":"--"},{"$f":"VLOOKUP(Q4147,Lookup!A:B,2,FALSE)","v":"--"},{"$f":"VLOOKUP(R4147,Lookup!A:B,2,FALSE)","v":"--"},null,{"$f":"IF(E4147&F4147&G4147&I4147&K4147&M4147=\"\",\"\",IF(OR(H4147=\"\",D4147=\"\",AND(AC4147=0,'Contents & 6mo Restriction'!$BE$1=FALSE)),1,0))","v":""},"",0,0,0,0,0,0,null,null,null,null,null,null,null,null,null,null,null,null,null,null,null,null,null,null,null,null,null,null,null,null,null,null,null,null,null,null,null,null,null,null,null,null,null,null,null,null,null,null,null,null,null,null,null,null,null,null,null,null,null,null,null,null,null,null,null,null,null,null,null,null,null,null,null,null,null,null,null,null,null,null,null,null,null,null,null,null,null,null,null,null,null,null,null,null,null,null,null,null,null,null,null,null,null,null,null,null,null,null,0,0,""]
[null,null,null,null,null,null,null,null,null,null,null,null,null,null,"X","X","X","X",{"$f":"VLOOKUP(P4223,Lookup!A:B,2,FALSE)","v":"--"},{"$f":"VLOOKUP(Q4223,Lookup!A:B,2,FALSE)","v":"--"},{"$f":"VLOOKUP(R4223,Lookup!A:B,2,FALSE)","v":"--"},null,{"$f":"IF(E4223&F4223&G4223&I4223&K4223&M4223=\"\",\"\",IF(OR(H4223=\"\",D4223=\"\",AND(AC4223=0,'Contents & 6mo Restriction'!$BE$1=FALSE)),1,0))","v":""},"",0,0,0,0,0,0,null,null,null,null,null,null,null,null,null,null,null,null,null,null,null,null,null,null,null,null,null,null,null,null,null,null,null,null,null,null,null,null,null,null,null,null,null,null,null,null,null,null,null,null,null,null,null,null,null,null,null,null,null,null,null,null,null,null,null,null,null,null,null,null,null,null,null,null,null,null,null,null,null,null,null,null,null,null,null,null,null,null,null,null,null,null,null,null,null,null,null,null,null,null,null,null,null,null,null,null,null,null,0,0,""]
[null,null,null,null,null,null,null,null,null,null,null,null,null,null,"X","X","X","X",{"$f":"VLOOKUP(P4257,Lookup!A:B,2,FALSE)","v":"--"},{"$f":"VLOOKUP(Q4257,Lookup!A:B,2,FALSE)","v":"--"},{"$f":"VLOOKUP(R4257,Lookup!A:B,2,FALSE)","v":"--"},null,{"$f":"IF(E4257&F4257&G4257&I4257&K4257&M4257=\"\",\"\",IF(OR(H4257=\"\",D4257=\"\",AND(AC4257=0,'Contents & 6mo Restriction'!$BE$1=FALSE)),1,0))","v":""},"",0,0,0,0,0,0,null,null,null,null,null,null,null,null,null,null,null,null,null,null,null,null,null,null,null,null,null,null,null,null,null,null,null,null,null,null,null,null,null,null,null,null,null,null,null,null,null,null,null,null,null,null,null,null,null,null,null,null,null,null,null,null,null,null,null,null,null,null,null,null,null,null,null,null,null,null,null,null,null,null,null,null,null,null,null,null,null,null,null,null,null,null,null,null,null,null,null,null,null,null,null,null,null,null,null,null,null,null,0,0,""]
[null,null,null,null,null,null,null,null,null,null,null,null,null,null,"X","X","X","X",{"$f":"VLOOKUP(P4279,Lookup!A:B,2,FALSE)","v":"--"},{"$f":"VLOOKUP(Q4279,Lookup!A:B,2,FALSE)","v":"--"},{"$f":"VLOOKUP(R4279,Lookup!A:B,2,FALSE)","v":"--"},null,{"$f":"IF(E4279&F4279&G4279&I4279&K4279&M4279=\"\",\"\",IF(OR(H4279=\"\",D4279=\"\",AND(AC4279=0,'Contents & 6mo Restriction'!$BE$1=FALSE)),1,0))","v":""},"",0,0,0,0,0,0,null,null,null,null,null,null,null,null,null,null,null,null,null,null,null,null,null,null,null,null,null,null,null,null,null,null,null,null,null,null,null,null,null,null,null,null,null,null,null,null,null,null,null,null,null,null,null,null,null,null,null,null,null,null,null,null,null,null,null,null,null,null,null,null,null,null,null,null,null,null,null,null,null,null,null,null,null,null,null,null,null,null,null,null,null,null,null,null,null,null,null,null,null,null,null,null,null,null,null,null,null,null,0,0,""]
[null,null,null,null,null,null,null,null,null,null,null,null,null,null,"X","X","X","X",{"$f":"VLOOKUP(P4366,Lookup!A:B,2,FALSE)","v":"--"},{"$f":"VLOOKUP(Q4366,Lookup!A:B,2,FALSE)","v":"--"},{"$f":"VLOOKUP(R4366,Lookup!A:B,2,FALSE)","v":"--"},null,{"$f":"IF(E4366&F4366&G4366&I4366&K4366&M4366=\"\",\"\",IF(OR(H4366=\"\",D4366=\"\",AND(AC4366=0,'Contents & 6mo Restriction'!$BE$1=FALSE)),1,0))","v":""},"",0,0,0,0,0,0,null,null,null,null,null,null,null,null,null,null,null,null,null,null,null,null,null,null,null,null,null,null,null,null,null,null,null,null,null,null,null,null,null,null,null,null,null,null,null,null,null,null,null,null,null,null,null,null,null,null,null,null,null,null,null,null,null,null,null,null,null,null,null,null,null,null,null,null,null,null,null,null,null,null,null,null,null,null,null,null,null,null,null,null,null,null,null,null,null,null,null,null,null,null,null,null,null,null,null,null,null,null,0,0,""]
[null,null,null,null,null,null,null,null,null,null,null,null,null,null,"X","X","X","X",{"$f":"VLOOKUP(P4400,Lookup!A:B,2,FALSE)","v":"--"},{"$f":"VLOOKUP(Q4400,Lookup!A:B,2,FALSE)","v":"--"},{"$f":"VLOOKUP(R4400,Lookup!A:B,2,FALSE)","v":"--"},null,{"$f":"IF(E4400&F4400&G4400&I4400&K4400&M4400=\"\",\"\",IF(OR(H4400=\"\",D4400=\"\",AND(AC4400=0,'Contents & 6mo Restriction'!$BE$1=FALSE)),1,0))","v":""},"",0,0,0,0,0,0,null,null,null,null,null,null,null,null,null,null,null,null,null,null,null,null,null,null,null,null,null,null,null,null,null,null,null,null,null,null,null,null,null,null,null,null,null,null,null,null,null,null,null,null,null,null,null,null,null,null,null,null,null,null,null,null,null,null,null,null,null,null,null,null,null,null,null,null,null,null,null,null,null,null,null,null,null,null,null,null,null,null,null,null,null,null,null,null,null,null,null,null,null,null,null,null,null,null,null,null,null,null,0,0,""]
[null,null,null,null,null,null,null,null,null,null,null,null,null,null,"X","X","X","X",{"$f":"VLOOKUP(P4434,Lookup!A:B,2,FALSE)","v":"--"},{"$f":"VLOOKUP(Q4434,Lookup!A:B,2,FALSE)","v":"--"},{"$f":"VLOOKUP(R4434,Lookup!A:B,2,FALSE)","v":"--"},null,{"$f":"IF(E4434&F4434&G4434&I4434&K4434&M4434=\"\",\"\",IF(OR(H4434=\"\",D4434=\"\",AND(AC4434=0,'Contents & 6mo Restriction'!$BE$1=FALSE)),1,0))","v":""},"",0,0,0,0,0,0,null,null,null,null,null,null,null,null,null,null,null,null,null,null,null,null,null,null,null,null,null,null,null,null,null,null,null,null,null,null,null,null,null,null,null,null,null,null,null,null,null,null,null,null,null,null,null,null,null,null,null,null,null,null,null,null,null,null,null,null,null,null,null,null,null,null,null,null,null,null,null,null,null,null,null,null,null,null,null,null,null,null,null,null,null,null,null,null,null,null,null,null,null,null,null,null,null,null,null,null,null,null,0,0,""]
[null,null,null,null,null,null,null,null,null,null,null,null,null,null,"X","X","X","X",{"$f":"VLOOKUP(P4486,Lookup!A:B,2,FALSE)","v":"--"},{"$f":"VLOOKUP(Q4486,Lookup!A:B,2,FALSE)","v":"--"},{"$f":"VLOOKUP(R4486,Lookup!A:B,2,FALSE)","v":"--"},null,{"$f":"IF(E4486&F4486&G4486&I4486&K4486&M4486=\"\",\"\",IF(OR(H4486=\"\",D4486=\"\",AND(AC4486=0,'Contents & 6mo Restriction'!$BE$1=FALSE)),1,0))","v":""},"",0,0,0,0,0,0,null,null,null,null,null,null,null,null,null,null,null,null,null,null,null,null,null,null,null,null,null,null,null,null,null,null,null,null,null,null,null,null,null,null,null,null,null,null,null,null,null,null,null,null,null,null,null,null,null,null,null,null,null,null,null,null,null,null,null,null,null,null,null,null,null,null,null,null,null,null,null,null,null,null,null,null,null,null,null,null,null,null,null,null,null,null,null,null,null,null,null,null,null,null,null,null,null,null,null,null,null,null,0,0,""]
[null,null,null,null,null,null,null,null,null,null,null,null,null,null,"X","X","X","X",{"$f":"VLOOKUP(P4543,Lookup!A:B,2,FALSE)","v":"--"},{"$f":"VLOOKUP(Q4543,Lookup!A:B,2,FALSE)","v":"--"},{"$f":"VLOOKUP(R4543,Lookup!A:B,2,FALSE)","v":"--"},null,{"$f":"IF(E4543&F4543&G4543&I4543&K4543&M4543=\"\",\"\",IF(OR(H4543=\"\",D4543=\"\",AND(AC4543=0,'Contents & 6mo Restriction'!$BE$1=FALSE)),1,0))","v":""},"",0,0,0,0,0,0,null,null,null,null,null,null,null,null,null,null,null,null,null,null,null,null,null,null,null,null,null,null,null,null,null,null,null,null,null,null,null,null,null,null,null,null,null,null,null,null,null,null,null,null,null,null,null,null,null,null,null,null,null,null,null,null,null,null,null,null,null,null,null,null,null,null,null,null,null,null,null,null,null,null,null,null,null,null,null,null,null,null,null,null,null,null,null,null,null,null,null,null,null,null,null,null,null,null,null,null,null,null,0,0,""]
[null,null,null,null,null,null,null,null,null,null,null,null,null,null,"X","X","X","X",{"$f":"VLOOKUP(P4572,Lookup!A:B,2,FALSE)","v":"--"},{"$f":"VLOOKUP(Q4572,Lookup!A:B,2,FALSE)","v":"--"},{"$f":"VLOOKUP(R4572,Lookup!A:B,2,FALSE)","v":"--"},null,{"$f":"IF(E4572&F4572&G4572&I4572&K4572&M4572=\"\",\"\",IF(OR(H4572=\"\",D4572=\"\",AND(AC4572=0,'Contents & 6mo Restriction'!$BE$1=FALSE)),1,0))","v":""},"",0,0,0,0,0,0,null,null,null,null,null,null,null,null,null,null,null,null,null,null,null,null,null,null,null,null,null,null,null,null,null,null,null,null,null,null,null,null,null,null,null,null,null,null,null,null,null,null,null,null,null,null,null,null,null,null,null,null,null,null,null,null,null,null,null,null,null,null,null,null,null,null,null,null,null,null,null,null,null,null,null,null,null,null,null,null,null,null,null,null,null,null,null,null,null,null,null,null,null,null,null,null,null,null,null,null,null,null,0,0,""]
[null,null,null,null,null,null,null,null,null,null,null,null,null,null,"X","X","X","X",{"$f":"VLOOKUP(P4606,Lookup!A:B,2,FALSE)","v":"--"},{"$f":"VLOOKUP(Q4606,Lookup!A:B,2,FALSE)","v":"--"},{"$f":"VLOOKUP(R4606,Lookup!A:B,2,FALSE)","v":"--"},null,{"$f":"IF(E4606&F4606&G4606&I4606&K4606&M4606=\"\",\"\",IF(OR(H4606=\"\",D4606=\"\",AND(AC4606=0,'Contents & 6mo Restriction'!$BE$1=FALSE)),1,0))","v":""},"",0,0,0,0,0,0,null,null,null,null,null,null,null,null,null,null,null,null,null,null,null,null,null,null,null,null,null,null,null,null,null,null,null,null,null,null,null,null,null,null,null,null,null,null,null,null,null,null,null,null,null,null,null,null,null,null,null,null,null,null,null,null,null,null,null,null,null,null,null,null,null,null,null,null,null,null,null,null,null,null,null,null,null,null,null,null,null,null,null,null,null,null,null,null,null,null,null,null,null,null,null,null,null,null,null,null,null,null,0,0,""]
[null,null,null,null,null,null,null,null,null,null,null,null,null,null,"X","X","X","X",{"$f":"VLOOKUP(P4687,Lookup!A:B,2,FALSE)","v":"--"},{"$f":"VLOOKUP(Q4687,Lookup!A:B,2,FALSE)","v":"--"},{"$f":"VLOOKUP(R4687,Lookup!A:B,2,FALSE)","v":"--"},null,{"$f":"IF(E4687&F4687&G4687&I4687&K4687&M4687=\"\",\"\",IF(OR(H4687=\"\",D4687=\"\",AND(AC4687=0,'Contents & 6mo Restriction'!$BE$1=FALSE)),1,0))","v":""},"",0,0,0,0,0,0,null,null,null,null,null,null,null,null,null,null,null,null,null,null,null,null,null,null,null,null,null,null,null,null,null,null,null,null,null,null,null,null,null,null,null,null,null,null,null,null,null,null,null,null,null,null,null,null,null,null,null,null,null,null,null,null,null,null,null,null,null,null,null,null,null,null,null,null,null,null,null,null,null,null,null,null,null,null,null,null,null,null,null,null,null,null,null,null,null,null,null,null,null,null,null,null,null,null,null,null,null,null,0,0,""]
[null,null,null,null,null,null,null,null,null,null,null,null,null,null,"X","X","X","X",{"$f":"VLOOKUP(P4739,Lookup!A:B,2,FALSE)","v":"--"},{"$f":"VLOOKUP(Q4739,Lookup!A:B,2,FALSE)","v":"--"},{"$f":"VLOOKUP(R4739,Lookup!A:B,2,FALSE)","v":"--"},null,{"$f":"IF(E4739&F4739&G4739&I4739&K4739&M4739=\"\",\"\",IF(OR(H4739=\"\",D4739=\"\",AND(AC4739=0,'Contents & 6mo Restriction'!$BE$1=FALSE)),1,0))","v":""},"",0,0,0,0,0,0,null,null,null,null,null,null,null,null,null,null,null,null,null,null,null,null,null,null,null,null,null,null,null,null,null,null,null,null,null,null,null,null,null,null,null,null,null,null,null,null,null,null,null,null,null,null,null,null,null,null,null,null,null,null,null,null,null,null,null,null,null,null,null,null,null,null,null,null,null,null,null,null,null,null,null,null,null,null,null,null,null,null,null,null,null,null,null,null,null,null,null,null,null,null,null,null,null,null,null,null,null,null,0,0,""]
[null,null,null,null,null,null,null,null,null,null,null,null,null,null,"X","X","X","X",{"$f":"VLOOKUP(P4749,Lookup!A:B,2,FALSE)","v":"--"},{"$f":"VLOOKUP(Q4749,Lookup!A:B,2,FALSE)","v":"--"},{"$f":"VLOOKUP(R4749,Lookup!A:B,2,FALSE)","v":"--"},null,{"$f":"IF(E4749&F4749&G4749&I4749&K4749&M4749=\"\",\"\",IF(OR(H4749=\"\",D4749=\"\",AND(AC4749=0,'Contents & 6mo Restriction'!$BE$1=FALSE)),1,0))","v":""},"",0,0,0,0,0,0,null,null,null,null,null,null,null,null,null,null,null,null,null,null,null,null,null,null,null,null,null,null,null,null,null,null,null,null,null,null,null,null,null,null,null,null,null,null,null,null,null,null,null,null,null,null,null,null,null,null,null,null,null,null,null,null,null,null,null,null,null,null,null,null,null,null,null,null,null,null,null,null,null,null,null,null,null,null,null,null,null,null,null,null,null,null,null,null,null,null,null,null,null,null,null,null,null,null,null,null,null,null,0,0,""]
[null,null,null,null,null,null,null,null,null,null,null,null,null,null,"X","X","X","X",{"$f":"VLOOKUP(P4825,Lookup!A:B,2,FALSE)","v":"--"},{"$f":"VLOOKUP(Q4825,Lookup!A:B,2,FALSE)","v":"--"},{"$f":"VLOOKUP(R4825,Lookup!A:B,2,FALSE)","v":"--"},null,{"$f":"IF(E4825&F4825&G4825&I4825&K4825&M4825=\"\",\"\",IF(OR(H4825=\"\",D4825=\"\",AND(AC4825=0,'Contents & 6mo Restriction'!$BE$1=FALSE)),1,0))","v":""},"",0,0,0,0,0,0,null,null,null,null,null,null,null,null,null,null,null,null,null,null,null,null,null,null,null,null,null,null,null,null,null,null,null,null,null,null,null,null,null,null,null,null,null,null,null,null,null,null,null,null,null,null,null,null,null,null,null,null,null,null,null,null,null,null,null,null,null,null,null,null,null,null,null,null,null,null,null,null,null,null,null,null,null,null,null,null,null,null,null,null,null,null,null,null,null,null,null,null,null,null,null,null,null,null,null,null,null,null,0,0,""]
[null,null,null,null,null,null,null,null,null,null,null,null,null,null,"X","X","X","X",{"$f":"VLOOKUP(P4859,Lookup!A:B,2,FALSE)","v":"--"},{"$f":"VLOOKUP(Q4859,Lookup!A:B,2,FALSE)","v":"--"},{"$f":"VLOOKUP(R4859,Lookup!A:B,2,FALSE)","v":"--"},null,{"$f":"IF(E4859&F4859&G4859&I4859&K4859&M4859=\"\",\"\",IF(OR(H4859=\"\",D4859=\"\",AND(AC4859=0,'Contents & 6mo Restriction'!$BE$1=FALSE)),1,0))","v":""},"",0,0,0,0,0,0,null,null,null,null,null,null,null,null,null,null,null,null,null,null,null,null,null,null,null,null,null,null,null,null,null,null,null,null,null,null,null,null,null,null,null,null,null,null,null,null,null,null,null,null,null,null,null,null,null,null,null,null,null,null,null,null,null,null,null,null,null,null,null,null,null,null,null,null,null,null,null,null,null,null,null,null,null,null,null,null,null,null,null,null,null,null,null,null,null,null,null,null,null,null,null,null,null,null,null,null,null,null,0,0,""]
[null,null,null,null,null,null,null,null,null,null,null,null,null,null,"X","X","X","X",{"$f":"VLOOKUP(P4893,Lookup!A:B,2,FALSE)","v":"--"},{"$f":"VLOOKUP(Q4893,Lookup!A:B,2,FALSE)","v":"--"},{"$f":"VLOOKUP(R4893,Lookup!A:B,2,FALSE)","v":"--"},null,{"$f":"IF(E4893&F4893&G4893&I4893&K4893&M4893=\"\",\"\",IF(OR(H4893=\"\",D4893=\"\",AND(AC4893=0,'Contents & 6mo Restriction'!$BE$1=FALSE)),1,0))","v":""},"",0,0,0,0,0,0,null,null,null,null,null,null,null,null,null,null,null,null,null,null,null,null,null,null,null,null,null,null,null,null,null,null,null,null,null,null,null,null,null,null,null,null,null,null,null,null,null,null,null,null,null,null,null,null,null,null,null,null,null,null,null,null,null,null,null,null,null,null,null,null,null,null,null,null,null,null,null,null,null,null,null,null,null,null,null,null,null,null,null,null,null,null,null,null,null,null,null,null,null,null,null,null,null,null,null,null,null,null,0,0,""]
[null,null,null,null,null,null,null,null,null,null,null,null,null,null,"X","X","X","X",{"$f":"VLOOKUP(P4946,Lookup!A:B,2,FALSE)","v":"--"},{"$f":"VLOOKUP(Q4946,Lookup!A:B,2,FALSE)","v":"--"},{"$f":"VLOOKUP(R4946,Lookup!A:B,2,FALSE)","v":"--"},null,{"$f":"IF(E4946&F4946&G4946&I4946&K4946&M4946=\"\",\"\",IF(OR(H4946=\"\",D4946=\"\",AND(AC4946=0,'Contents & 6mo Restriction'!$BE$1=FALSE)),1,0))","v":""},"",0,0,0,0,0,0,null,null,null,null,null,null,null,null,null,null,null,null,null,null,null,null,null,null,null,null,null,null,null,null,null,null,null,null,null,null,null,null,null,null,null,null,null,null,null,null,null,null,null,null,null,null,null,null,null,null,null,null,null,null,null,null,null,null,null,null,null,null,null,null,null,null,null,null,null,null,null,null,null,null,null,null,null,null,null,null,null,null,null,null,null,null,null,null,null,null,null,null,null,null,null,null,null,null,null,null,null,null,0,0,""]
[null,null,null,null,null,null,null,null,null,null,null,null,null,null,"X","X","X","X",{"$f":"VLOOKUP(P5002,Lookup!A:B,2,FALSE)","v":"--"},{"$f":"VLOOKUP(Q5002,Lookup!A:B,2,FALSE)","v":"--"},{"$f":"VLOOKUP(R5002,Lookup!A:B,2,FALSE)","v":"--"},null,{"$f":"IF(E5002&F5002&G5002&I5002&K5002&M5002=\"\",\"\",IF(OR(H5002=\"\",D5002=\"\",AND(AC5002=0,'Contents & 6mo Restriction'!$BE$1=FALSE)),1,0))","v":""},"",0,0,0,0,0,0,null,null,null,null,null,null,null,null,null,null,null,null,null,null,null,null,null,null,null,null,null,null,null,null,null,null,null,null,null,null,null,null,null,null,null,null,null,null,null,null,null,null,null,null,null,null,null,null,null,null,null,null,null,null,null,null,null,null,null,null,null,null,null,null,null,null,null,null,null,null,null,null,null,null,null,null,null,null,null,null,null,null,null,null,null,null,null,null,null,null,null,null,null,null,null,null,null,null,null,null,null,null,0,0,""]
[null,null,null,null,null,null,null,null,null,null,null,null,null,null,"X","X","X","X",{"$f":"VLOOKUP(P5036,Lookup!A:B,2,FALSE)","v":"--"},{"$f":"VLOOKUP(Q5036,Lookup!A:B,2,FALSE)","v":"--"},{"$f":"VLOOKUP(R5036,Lookup!A:B,2,FALSE)","v":"--"},null,{"$f":"IF(E5036&F5036&G5036&I5036&K5036&M5036=\"\",\"\",IF(OR(H5036=\"\",D5036=\"\",AND(AC5036=0,'Contents & 6mo Restriction'!$BE$1=FALSE)),1,0))","v":""},"",0,0,0,0,0,0,null,null,null,null,null,null,null,null,null,null,null,null,null,null,null,null,null,null,null,null,null,null,null,null,null,null,null,null,null,null,null,null,null,null,null,null,null,null,null,null,null,null,null,null,null,null,null,null,null,null,null,null,null,null,null,null,null,null,null,null,null,null,null,null,null,null,null,null,null,null,null,null,null,null,null,null,null,null,null,null,null,null,null,null,null,null,null,null,null,null,null,null,null,null,null,null,null,null,null,null,null,null,0,0,""]
[null,null,null,null,null,null,null,null,null,null,null,null,null,null,"X","X","X","X",{"$f":"VLOOKUP(P5112,Lookup!A:B,2,FALSE)","v":"--"},{"$f":"VLOOKUP(Q5112,Lookup!A:B,2,FALSE)","v":"--"},{"$f":"VLOOKUP(R5112,Lookup!A:B,2,FALSE)","v":"--"},null,{"$f":"IF(E5112&F5112&G5112&I5112&K5112&M5112=\"\",\"\",IF(OR(H5112=\"\",D5112=\"\",AND(AC5112=0,'Contents & 6mo Restriction'!$BE$1=FALSE)),1,0))","v":""},"",0,0,0,0,0,0,null,null,null,null,null,null,null,null,null,null,null,null,null,null,null,null,null,null,null,null,null,null,null,null,null,null,null,null,null,null,null,null,null,null,null,null,null,null,null,null,null,null,null,null,null,null,null,null,null,null,null,null,null,null,null,null,null,null,null,null,null,null,null,null,null,null,null,null,null,null,null,null,null,null,null,null,null,null,null,null,null,null,null,null,null,null,null,null,null,null,null,null,null,null,null,null,null,null,null,null,null,null,0,0,""]
[null,null,null,null,null,null,null,null,null,null,null,null,null,null,"X","X","X","X",{"$f":"VLOOKUP(P5141,Lookup!A:B,2,FALSE)","v":"--"},{"$f":"VLOOKUP(Q5141,Lookup!A:B,2,FALSE)","v":"--"},{"$f":"VLOOKUP(R5141,Lookup!A:B,2,FALSE)","v":"--"},null,{"$f":"IF(E5141&F5141&G5141&I5141&K5141&M5141=\"\",\"\",IF(OR(H5141=\"\",D5141=\"\",AND(AC5141=0,'Contents & 6mo Restriction'!$BE$1=FALSE)),1,0))","v":""},"",0,0,0,0,0,0,null,null,null,null,null,null,null,null,null,null,null,null,null,null,null,null,null,null,null,null,null,null,null,null,null,null,null,null,null,null,null,null,null,null,null,null,null,null,null,null,null,null,null,null,null,null,null,null,null,null,null,null,null,null,null,null,null,null,null,null,null,null,null,null,null,null,null,null,null,null,null,null,null,null,null,null,null,null,null,null,null,null,null,null,null,null,null,null,null,null,null,null,null,null,null,null,null,null,null,null,null,null,0,{"$f":"IF(ISERROR(FIND(\"progress\",S5141&T5141&U5141)),0,1)","v":0},""]
[null,null,null,null,null,null,null,null,null,null,null,null,null,null,"X","X","X","X",{"$f":"VLOOKUP(P5174,Lookup!A:B,2,FALSE)","v":"--"},{"$f":"VLOOKUP(Q5174,Lookup!A:B,2,FALSE)","v":"--"},{"$f":"VLOOKUP(R5174,Lookup!A:B,2,FALSE)","v":"--"},null,{"$f":"IF(E5174&F5174&G5174&I5174&K5174&M5174=\"\",\"\",IF(OR(H5174=\"\",D5174=\"\",AND(AC5174=0,'Contents & 6mo Restriction'!$BE$1=FALSE)),1,0))","v":""},"",0,0,0,0,0,0,null,null,null,null,null,null,null,null,null,null,null,null,null,null,null,null,null,null,null,null,null,null,null,null,null,null,null,null,null,null,null,null,null,null,null,null,null,null,null,null,null,null,null,null,null,null,null,null,null,null,null,null,null,null,null,null,null,null,null,null,null,null,null,null,null,null,null,null,null,null,null,null,null,null,null,null,null,null,null,null,null,null,null,null,null,null,null,null,null,null,null,null,null,null,null,null,null,null,null,null,null,null,0,0,""]
[null,null,null,null,null,null,null,null,null,null,null,null,null,null,"X","X","X","X",{"$f":"VLOOKUP(P5255,Lookup!A:B,2,FALSE)","v":"--"},{"$f":"VLOOKUP(Q5255,Lookup!A:B,2,FALSE)","v":"--"},{"$f":"VLOOKUP(R5255,Lookup!A:B,2,FALSE)","v":"--"},null,{"$f":"IF(E5255&F5255&G5255&I5255&K5255&M5255=\"\",\"\",IF(OR(H5255=\"\",D5255=\"\",AND(AC5255=0,'Contents & 6mo Restriction'!$BE$1=FALSE)),1,0))","v":""},"",0,0,0,0,0,0,null,null,null,null,null,null,null,null,null,null,null,null,null,null,null,null,null,null,null,null,null,null,null,null,null,null,null,null,null,null,null,null,null,null,null,null,null,null,null,null,null,null,null,null,null,null,null,null,null,null,null,null,null,null,null,null,null,null,null,null,null,null,null,null,null,null,null,null,null,null,null,null,null,null,null,null,null,null,null,null,null,null,null,null,null,null,null,null,null,null,null,null,null,null,null,null,null,null,null,null,null,null,0,0,""]
[null,null,null,null,null,null,null,null,null,null,null,null,null,null,"X","X","X","X",{"$f":"VLOOKUP(P5289,Lookup!A:B,2,FALSE)","v":"--"},{"$f":"VLOOKUP(Q5289,Lookup!A:B,2,FALSE)","v":"--"},{"$f":"VLOOKUP(R5289,Lookup!A:B,2,FALSE)","v":"--"},null,{"$f":"IF(E5289&F5289&G5289&I5289&K5289&M5289=\"\",\"\",IF(OR(H5289=\"\",D5289=\"\",AND(AC5289=0,'Contents & 6mo Restriction'!$BE$1=FALSE)),1,0))","v":""},"",0,0,0,0,0,0,null,null,null,null,null,null,null,null,null,null,null,null,null,null,null,null,null,null,null,null,null,null,null,null,null,null,null,null,null,null,null,null,null,null,null,null,null,null,null,null,null,null,null,null,null,null,null,null,null,null,null,null,null,null,null,null,null,null,null,null,null,null,null,null,null,null,null,null,null,null,null,null,null,null,null,null,null,null,null,null,null,null,null,null,null,null,null,null,null,null,null,null,null,null,null,null,null,null,null,null,null,null,0,0,""]
[null,null,null,null,null,null,null,null,null,null,null,null,null,null,"X","X","X","X",{"$f":"VLOOKUP(P5318,Lookup!A:B,2,FALSE)","v":"--"},{"$f":"VLOOKUP(Q5318,Lookup!A:B,2,FALSE)","v":"--"},{"$f":"VLOOKUP(R5318,Lookup!A:B,2,FALSE)","v":"--"},null,{"$f":"IF(E5318&F5318&G5318&I5318&K5318&M5318=\"\",\"\",IF(OR(H5318=\"\",D5318=\"\",AND(AC5318=0,'Contents & 6mo Restriction'!$BE$1=FALSE)),1,0))","v":""},"",0,0,0,0,0,0,null,null,null,null,null,null,null,null,null,null,null,null,null,null,null,null,null,null,null,null,null,null,null,null,null,null,null,null,null,null,null,null,null,null,null,null,null,null,null,null,null,null,null,null,null,null,null,null,null,null,null,null,null,null,null,null,null,null,null,null,null,null,null,null,null,null,null,null,null,null,null,null,null,null,null,null,null,null,null,null,null,null,null,null,null,null,null,null,null,null,null,null,null,null,null,null,null,null,null,null,null,null,0,0,""]
[null,null,null,null,null,null,null,null,null,null,null,null,null,null,"X","X","X","X",{"$f":"VLOOKUP(P5394,Lookup!A:B,2,FALSE)","v":"--"},{"$f":"VLOOKUP(Q5394,Lookup!A:B,2,FALSE)","v":"--"},{"$f":"VLOOKUP(R5394,Lookup!A:B,2,FALSE)","v":"--"},null,{"$f":"IF(E5394&F5394&G5394&I5394&K5394&M5394=\"\",\"\",IF(OR(H5394=\"\",D5394=\"\",AND(AC5394=0,'Contents & 6mo Restriction'!$BE$1=FALSE)),1,0))","v":""},"",0,0,0,0,0,0,null,null,null,null,null,null,null,null,null,null,null,null,null,null,null,null,null,null,null,null,null,null,null,null,null,null,null,null,null,null,null,null,null,null,null,null,null,null,null,null,null,null,null,null,null,null,null,null,null,null,null,null,null,null,null,null,null,null,null,null,null,null,null,null,null,null,null,null,null,null,null,null,null,null,null,null,null,null,null,null,null,null,null,null,null,null,null,null,null,null,null,null,null,null,null,null,null,null,null,null,null,null,0,0,""]
[null,null,null,null,null,null,null,null,null,null,null,null,null,null,"X","X","X","X",{"$f":"VLOOKUP(P5427,Lookup!A:B,2,FALSE)","v":"--"},{"$f":"VLOOKUP(Q5427,Lookup!A:B,2,FALSE)","v":"--"},{"$f":"VLOOKUP(R5427,Lookup!A:B,2,FALSE)","v":"--"},null,{"$f":"IF(E5427&F5427&G5427&I5427&K5427&M5427=\"\",\"\",IF(OR(H5427=\"\",D5427=\"\",AND(AC5427=0,'Contents & 6mo Restriction'!$BE$1=FALSE)),1,0))","v":""},"",0,0,0,0,0,0,null,null,null,null,null,null,null,null,null,null,null,null,null,null,null,null,null,null,null,null,null,null,null,null,null,null,null,null,null,null,null,null,null,null,null,null,null,null,null,null,null,null,null,null,null,null,null,null,null,null,null,null,null,null,null,null,null,null,null,null,null,null,null,null,null,null,null,null,null,null,null,null,null,null,null,null,null,null,null,null,null,null,null,null,null,null,null,null,null,null,null,null,null,null,null,null,null,null,null,null,null,null,0,0,""]
[null,null,null,null,null,null,null,null,null,null,null,null,null,null,"X","X","X","X",{"$f":"VLOOKUP(P5461,Lookup!A:B,2,FALSE)","v":"--"},{"$f":"VLOOKUP(Q5461,Lookup!A:B,2,FALSE)","v":"--"},{"$f":"VLOOKUP(R5461,Lookup!A:B,2,FALSE)","v":"--"},null,{"$f":"IF(E5461&F5461&G5461&I5461&K5461&M5461=\"\",\"\",IF(OR(H5461=\"\",D5461=\"\",AND(AC5461=0,'Contents & 6mo Restriction'!$BE$1=FALSE)),1,0))","v":""},"",0,0,0,0,0,0,null,null,null,null,null,null,null,null,null,null,null,null,null,null,null,null,null,null,null,null,null,null,null,null,null,null,null,null,null,null,null,null,null,null,null,null,null,null,null,null,null,null,null,null,null,null,null,null,null,null,null,null,null,null,null,null,null,null,null,null,null,null,null,null,null,null,null,null,null,null,null,null,null,null,null,null,null,null,null,null,null,null,null,null,null,null,null,null,null,null,null,null,null,null,null,null,null,null,null,null,null,null,0,{"$f":"IF(ISERROR(FIND(\"progress\",S5461&T5461&U5461)),0,1)","v":0},""]
[null,null,null,null,null,null,null,null,null,null,null,null,null,null,"X","X","X","X",{"$f":"VLOOKUP(P5495,Lookup!A:B,2,FALSE)","v":"--"},{"$f":"VLOOKUP(Q5495,Lookup!A:B,2,FALSE)","v":"--"},{"$f":"VLOOKUP(R5495,Lookup!A:B,2,FALSE)","v":"--"},null,{"$f":"IF(E5495&F5495&G5495&I5495&K5495&M5495=\"\",\"\",IF(OR(H5495=\"\",D5495=\"\",AND(AC5495=0,'Contents & 6mo Restriction'!$BE$1=FALSE)),1,0))","v":""},"",0,0,0,0,0,0,null,null,null,null,null,null,null,null,null,null,null,null,null,null,null,null,null,null,null,null,null,null,null,null,null,null,null,null,null,null,null,null,null,null,null,null,null,null,null,null,null,null,null,null,null,null,null,null,null,null,null,null,null,null,null,null,null,null,null,null,null,null,null,null,null,null,null,null,null,null,null,null,null,null,null,null,null,null,null,null,null,null,null,null,null,null,null,null,null,null,null,null,null,null,null,null,null,null,null,null,null,null,0,0,""]
[null,null,null,null,null,null,null,null,null,null,null,null,null,null,"X","X","X","X",{"$f":"VLOOKUP(P5555,Lookup!A:B,2,FALSE)","v":"--"},{"$f":"VLOOKUP(Q5555,Lookup!A:B,2,FALSE)","v":"--"},{"$f":"VLOOKUP(R5555,Lookup!A:B,2,FALSE)","v":"--"},null,{"$f":"IF(E5555&F5555&G5555&I5555&K5555&M5555=\"\",\"\",IF(OR(H5555=\"\",D5555=\"\",AND(AC5555=0,'Contents & 6mo Restriction'!$BE$1=FALSE)),1,0))","v":""},"",0,0,0,0,0,0,null,null,null,null,null,null,null,null,null,null,null,null,null,null,null,null,null,null,null,null,null,null,null,null,null,null,null,null,null,null,null,null,null,null,null,null,null,null,null,null,null,null,null,null,null,null,null,null,null,null,null,null,null,null,null,null,null,null,null,null,null,null,null,null,null,null,null,null,null,null,null,null,null,null,null,null,null,null,null,null,null,null,null,null,null,null,null,null,null,null,null,null,null,null,null,null,null,null,null,null,null,null,0,0,""]
[null,null,null,null,null,null,null,null,null,null,null,null,null,null,"X","X","X","X",{"$f":"VLOOKUP(P5604,Lookup!A:B,2,FALSE)","v":"--"},{"$f":"VLOOKUP(Q5604,Lookup!A:B,2,FALSE)","v":"--"},{"$f":"VLOOKUP(R5604,Lookup!A:B,2,FALSE)","v":"--"},null,{"$f":"IF(E5604&F5604&G5604&I5604&K5604&M5604=\"\",\"\",IF(OR(H5604=\"\",D5604=\"\",AND(AC5604=0,'Contents & 6mo Restriction'!$BE$1=FALSE)),1,0))","v":""},"",0,0,0,0,0,0,null,null,null,null,null,null,null,null,null,null,null,null,null,null,null,null,null,null,null,null,null,null,null,null,null,null,null,null,null,null,null,null,null,null,null,null,null,null,null,null,null,null,null,null,null,null,null,null,null,null,null,null,null,null,null,null,null,null,null,null,null,null,null,null,null,null,null,null,null,null,null,null,null,null,null,null,null,null,null,null,null,null,null,null,null,null,null,null,null,null,null,null,null,null,null,null,null,null,null,null,null,null,0,0,""]
[null,null,null,null,null,null,null,null,null,null,null,null,null,null,"X","X","X","X",{"$f":"VLOOKUP(P5638,Lookup!A:B,2,FALSE)","v":"--"},{"$f":"VLOOKUP(Q5638,Lookup!A:B,2,FALSE)","v":"--"},{"$f":"VLOOKUP(R5638,Lookup!A:B,2,FALSE)","v":"--"},null,{"$f":"IF(E5638&F5638&G5638&I5638&K5638&M5638=\"\",\"\",IF(OR(H5638=\"\",D5638=\"\",AND(AC5638=0,'Contents & 6mo Restriction'!$BE$1=FALSE)),1,0))","v":""},"",0,0,0,0,0,0,null,null,null,null,null,null,null,null,null,null,null,null,null,null,null,null,null,null,null,null,null,null,null,null,null,null,null,null,null,null,null,null,null,null,null,null,null,null,null,null,null,null,null,null,null,null,null,null,null,null,null,null,null,null,null,null,null,null,null,null,null,null,null,null,null,null,null,null,null,null,null,null,null,null,null,null,null,null,null,null,null,null,null,null,null,null,null,null,null,null,null,null,null,null,null,null,null,null,null,null,null,null,0,0,""]
[null,null,null,null,null,null,null,null,null,null,null,null,null,null,"X","X","X","X",{"$f":"VLOOKUP(P5714,Lookup!A:B,2,FALSE)","v":"--"},{"$f":"VLOOKUP(Q5714,Lookup!A:B,2,FALSE)","v":"--"},{"$f":"VLOOKUP(R5714,Lookup!A:B,2,FALSE)","v":"--"},null,{"$f":"IF(E5714&F5714&G5714&I5714&K5714&M5714=\"\",\"\",IF(OR(H5714=\"\",D5714=\"\",AND(AC5714=0,'Contents & 6mo Restriction'!$BE$1=FALSE)),1,0))","v":""},"",0,0,0,0,0,0,null,null,null,null,null,null,null,null,null,null,null,null,null,null,null,null,null,null,null,null,null,null,null,null,null,null,null,null,null,null,null,null,null,null,null,null,null,null,null,null,null,null,null,null,null,null,null,null,null,null,null,null,null,null,null,null,null,null,null,null,null,null,null,null,null,null,null,null,null,null,null,null,null,null,null,null,null,null,null,null,null,null,null,null,null,null,null,null,null,null,null,null,null,null,null,null,null,null,null,null,null,null,0,0,""]
[null,null,null,null,null,null,null,null,null,null,null,null,null,null,"X","X","X","X",{"$f":"VLOOKUP(P5748,Lookup!A:B,2,FALSE)","v":"--"},{"$f":"VLOOKUP(Q5748,Lookup!A:B,2,FALSE)","v":"--"},{"$f":"VLOOKUP(R5748,Lookup!A:B,2,FALSE)","v":"--"},null,{"$f":"IF(E5748&F5748&G5748&I5748&K5748&M5748=\"\",\"\",IF(OR(H5748=\"\",D5748=\"\",AND(AC5748=0,'Contents & 6mo Restriction'!$BE$1=FALSE)),1,0))","v":""},"",0,0,0,0,0,0,null,null,null,null,null,null,null,null,null,null,null,null,null,null,null,null,null,null,null,null,null,null,null,null,null,null,null,null,null,null,null,null,null,null,null,null,null,null,null,null,null,null,null,null,null,null,null,null,null,null,null,null,null,null,null,null,null,null,null,null,null,null,null,null,null,null,null,null,null,null,null,null,null,null,null,null,null,null,null,null,null,null,null,null,null,null,null,null,null,null,null,null,null,null,null,null,null,null,null,null,null,null,0,0,""]
[null,null,null,null,null,null,null,null,null,null,null,null,null,null,"X","X","X","X",{"$f":"VLOOKUP(P5808,Lookup!A:B,2,FALSE)","v":"--"},{"$f":"VLOOKUP(Q5808,Lookup!A:B,2,FALSE)","v":"--"},{"$f":"VLOOKUP(R5808,Lookup!A:B,2,FALSE)","v":"--"},null,{"$f":"IF(E5808&F5808&G5808&I5808&K5808&M5808=\"\",\"\",IF(OR(H5808=\"\",D5808=\"\",AND(AC5808=0,'Contents & 6mo Restriction'!$BE$1=FALSE)),1,0))","v":""},"",0,0,0,0,0,0,null,null,null,null,null,null,null,null,null,null,null,null,null,null,null,null,null,null,null,null,null,null,null,null,null,null,null,null,null,null,null,null,null,null,null,null,null,null,null,null,null,null,null,null,null,null,null,null,null,null,null,null,null,null,null,null,null,null,null,null,null,null,null,null,null,null,null,null,null,null,null,null,null,null,null,null,null,null,null,null,null,null,null,null,null,null,null,null,null,null,null,null,null,null,null,null,null,null,null,null,null,null,0,0,""]
[null,null,null,null,null,null,null,null,null,null,null,null,null,null,"X","X","X","X",{"$f":"VLOOKUP(P5857,Lookup!A:B,2,FALSE)","v":"--"},{"$f":"VLOOKUP(Q5857,Lookup!A:B,2,FALSE)","v":"--"},{"$f":"VLOOKUP(R5857,Lookup!A:B,2,FALSE)","v":"--"},null,{"$f":"IF(E5857&F5857&G5857&I5857&K5857&M5857=\"\",\"\",IF(OR(H5857=\"\",D5857=\"\",AND(AC5857=0,'Contents & 6mo Restriction'!$BE$1=FALSE)),1,0))","v":""},"",0,0,0,0,0,0,null,null,null,null,null,null,null,null,null,null,null,null,null,null,null,null,null,null,null,null,null,null,null,null,null,null,null,null,null,null,null,null,null,null,null,null,null,null,null,null,null,null,null,null,null,null,null,null,null,null,null,null,null,null,null,null,null,null,null,null,null,null,null,null,null,null,null,null,null,null,null,null,null,null,null,null,null,null,null,null,null,null,null,null,null,null,null,null,null,null,null,null,null,null,null,null,null,null,null,null,null,null,0,0,""]
[null,null,null,null,null,null,null,null,null,null,null,null,null,null,"X","X","X","X",{"$f":"VLOOKUP(P5891,Lookup!A:B,2,FALSE)","v":"--"},{"$f":"VLOOKUP(Q5891,Lookup!A:B,2,FALSE)","v":"--"},{"$f":"VLOOKUP(R5891,Lookup!A:B,2,FALSE)","v":"--"},null,{"$f":"IF(E5891&F5891&G5891&I5891&K5891&M5891=\"\",\"\",IF(OR(H5891=\"\",D5891=\"\",AND(AC5891=0,'Contents & 6mo Restriction'!$BE$1=FALSE)),1,0))","v":""},"",0,0,0,0,0,0,null,null,null,null,null,null,null,null,null,null,null,null,null,null,null,null,null,null,null,null,null,null,null,null,null,null,null,null,null,null,null,null,null,null,null,null,null,null,null,null,null,null,null,null,null,null,null,null,null,null,null,null,null,null,null,null,null,null,null,null,null,null,null,null,null,null,null,null,null,null,null,null,null,null,null,null,null,null,null,null,null,null,null,null,null,null,null,null,null,null,null,null,null,null,null,null,null,null,null,null,null,null,0,0,""]
[null,null,null,null,null,null,null,null,null,null,null,null,null,null,"X","X","X","X",{"$f":"VLOOKUP(P5920,Lookup!A:B,2,FALSE)","v":"--"},{"$f":"VLOOKUP(Q5920,Lookup!A:B,2,FALSE)","v":"--"},{"$f":"VLOOKUP(R5920,Lookup!A:B,2,FALSE)","v":"--"},null,{"$f":"IF(E5920&F5920&G5920&I5920&K5920&M5920=\"\",\"\",IF(OR(H5920=\"\",D5920=\"\",AND(AC5920=0,'Contents & 6mo Restriction'!$BE$1=FALSE)),1,0))","v":""},"",0,0,0,0,0,0,null,null,null,null,null,null,null,null,null,null,null,null,null,null,null,null,null,null,null,null,null,null,null,null,null,null,null,null,null,null,null,null,null,null,null,null,null,null,null,null,null,null,null,null,null,null,null,null,null,null,null,null,null,null,null,null,null,null,null,null,null,null,null,null,null,null,null,null,null,null,null,null,null,null,null,null,null,null,null,null,null,null,null,null,null,null,null,null,null,null,null,null,null,null,null,null,null,null,null,null,null,null,0,0,""]
[null,null,null,null,null,null,null,null,null,null,null,null,null,null,"X","X","X","X",{"$f":"VLOOKUP(P6003,Lookup!A:B,2,FALSE)","v":"--"},{"$f":"VLOOKUP(Q6003,Lookup!A:B,2,FALSE)","v":"--"},{"$f":"VLOOKUP(R6003,Lookup!A:B,2,FALSE)","v":"--"},null,{"$f":"IF(E6003&F6003&G6003&I6003&K6003&M6003=\"\",\"\",IF(OR(H6003=\"\",D6003=\"\",AND(AC6003=0,'Contents & 6mo Restriction'!$BE$1=FALSE)),1,0))","v":""},"",0,0,0,0,0,0,null,null,null,null,null,null,null,null,null,null,null,null,null,null,null,null,null,null,null,null,null,null,null,null,null,null,null,null,null,null,null,null,null,null,null,null,null,null,null,null,null,null,null,null,null,null,null,null,null,null,null,null,null,null,null,null,null,null,null,null,null,null,null,null,null,null,null,null,null,null,null,null,null,null,null,null,null,null,null,null,null,null,null,null,null,null,null,null,null,null,null,null,null,null,null,null,null,null,null,null,null,null,0,0,""]
[null,null,null,null,null,null,null,null,null,null,null,null,null,null,"X","X","X","X",{"$f":"VLOOKUP(P6034,Lookup!A:B,2,FALSE)","v":"--"},{"$f":"VLOOKUP(Q6034,Lookup!A:B,2,FALSE)","v":"--"},{"$f":"VLOOKUP(R6034,Lookup!A:B,2,FALSE)","v":"--"},null,{"$f":"IF(E6034&F6034&G6034&I6034&K6034&M6034=\"\",\"\",IF(OR(H6034=\"\",D6034=\"\",AND(AC6034=0,'Contents & 6mo Restriction'!$BE$1=FALSE)),1,0))","v":""},"",0,0,0,0,0,0,null,null,null,null,null,null,null,null,null,null,null,null,null,null,null,null,null,null,null,null,null,null,null,null,null,null,null,null,null,null,null,null,null,null,null,null,null,null,null,null,null,null,null,null,null,null,null,null,null,null,null,null,null,null,null,null,null,null,null,null,null,null,null,null,null,null,null,null,null,null,null,null,null,null,null,null,null,null,null,null,null,null,null,null,null,null,null,null,null,null,null,null,null,null,null,null,null,null,null,null,null,null,0,0,""]
[null,null,null,null,null,null,null,null,null,null,null,null,null,null,"X",{"$f":"CONCATENATE(E6063,I6063,J6063,O6063)","v":"X"},{"$f":"CONCATENATE(F6063,K6063,L6063,O6063)","v":"X"},{"$f":"CONCATENATE(G6063,M6063,N6063,O6063)","v":"X"},{"$f":"VLOOKUP(P6063,Lookup!A:B,2,FALSE)","v":"--"},{"$f":"VLOOKUP(Q6063,Lookup!A:B,2,FALSE)","v":"--"},{"$f":"VLOOKUP(R6063,Lookup!A:B,2,FALSE)","v":"--"},null,{"$f":"IF(E6063&F6063&G6063&I6063&K6063&M6063=\"\",\"\",IF(OR(H6063=\"\",D6063=\"\",AND(AC6063=0,'Contents & 6mo Restriction'!$BE$1=FALSE)),1,0))","v":""},"",0,0,0,0,0,0,null,null,null,null,null,null,null,null,null,null,null,null,null,null,null,null,null,null,null,null,null,null,null,null,null,null,null,null,null,null,null,null,null,null,null,null,null,null,null,null,null,null,null,null,null,null,null,null,null,null,null,null,null,null,null,null,null,null,null,null,null,null,null,null,null,null,null,null,null,null,null,null,null,null,null,null,null,null,null,null,null,null,null,null,null,null,null,null,null,null,null,null,null,null,null,null,null,null,null,null,null,null,0,0,""]
[null,null,null,null,null,null,null,null,null,null,null,null,null,null,"X","X","X","X",{"$f":"VLOOKUP(P6144,Lookup!A:B,2,FALSE)","v":"--"},{"$f":"VLOOKUP(Q6144,Lookup!A:B,2,FALSE)","v":"--"},{"$f":"VLOOKUP(R6144,Lookup!A:B,2,FALSE)","v":"--"},null,{"$f":"IF(E6144&F6144&G6144&I6144&K6144&M6144=\"\",\"\",IF(OR(H6144=\"\",D6144=\"\",AND(AC6144=0,'Contents & 6mo Restriction'!$BE$1=FALSE)),1,0))","v":""},"",0,0,0,0,0,0,null,null,null,null,null,null,null,null,null,null,null,null,null,null,null,null,null,null,null,null,null,null,null,null,null,null,null,null,null,null,null,null,null,null,null,null,null,null,null,null,null,null,null,null,null,null,null,null,null,null,null,null,null,null,null,null,null,null,null,null,null,null,null,null,null,null,null,null,null,null,null,null,null,null,null,null,null,null,null,null,null,null,null,null,null,null,null,null,null,null,null,null,null,null,null,null,null,null,null,null,null,null,0,0,""]
[null,null,null,null,null,null,null,null,null,null,null,null,null,null,"X","X","X","X",{"$f":"VLOOKUP(P6173,Lookup!A:B,2,FALSE)","v":"--"},{"$f":"VLOOKUP(Q6173,Lookup!A:B,2,FALSE)","v":"--"},{"$f":"VLOOKUP(R6173,Lookup!A:B,2,FALSE)","v":"--"},null,{"$f":"IF(E6173&F6173&G6173&I6173&K6173&M6173=\"\",\"\",IF(OR(H6173=\"\",D6173=\"\",AND(AC6173=0,'Contents & 6mo Restriction'!$BE$1=FALSE)),1,0))","v":""},"",0,0,0,0,0,0,null,null,null,null,null,null,null,null,null,null,null,null,null,null,null,null,null,null,null,null,null,null,null,null,null,null,null,null,null,null,null,null,null,null,null,null,null,null,null,null,null,null,null,null,null,null,null,null,null,null,null,null,null,null,null,null,null,null,null,null,null,null,null,null,null,null,null,null,null,null,null,null,null,null,null,null,null,null,null,null,null,null,null,null,null,null,null,null,null,null,null,null,null,null,null,null,null,null,null,null,null,null,0,0,""]
[null,null,null,null,null,null,null,null,null,null,null,null,null,null,"X","X","X","X",{"$f":"VLOOKUP(P6210,Lookup!A:B,2,FALSE)","v":"--"},{"$f":"VLOOKUP(Q6210,Lookup!A:B,2,FALSE)","v":"--"},{"$f":"VLOOKUP(R6210,Lookup!A:B,2,FALSE)","v":"--"},null,{"$f":"IF(E6210&F6210&G6210&I6210&K6210&M6210=\"\",\"\",IF(OR(H6210=\"\",D6210=\"\",AND(AC6210=0,'Contents & 6mo Restriction'!$BE$1=FALSE)),1,0))","v":""},"",0,0,0,0,0,0,null,null,null,null,null,null,null,null,null,null,null,null,null,null,null,null,null,null,null,null,null,null,null,null,null,null,null,null,null,null,null,null,null,null,null,null,null,null,null,null,null,null,null,null,null,null,null,null,null,null,null,null,null,null,null,null,null,null,null,null,null,null,null,null,null,null,null,null,null,null,null,null,null,null,null,null,null,null,null,null,null,null,null,null,null,null,null,null,null,null,null,null,null,null,null,null,null,null,null,null,null,null,0,0,""]
[null,null,null,null,null,null,null,null,null,null,null,null,null,null,"X","X","X","X",{"$f":"VLOOKUP(P6240,Lookup!A:B,2,FALSE)","v":"--"},{"$f":"VLOOKUP(Q6240,Lookup!A:B,2,FALSE)","v":"--"},{"$f":"VLOOKUP(R6240,Lookup!A:B,2,FALSE)","v":"--"},null,{"$f":"IF(E6240&F6240&G6240&I6240&K6240&M6240=\"\",\"\",IF(OR(H6240=\"\",D6240=\"\",AND(AC6240=0,'Contents & 6mo Restriction'!$BE$1=FALSE)),1,0))","v":""},"",0,0,0,0,0,0,null,null,null,null,null,null,null,null,null,null,null,null,null,null,null,null,null,null,null,null,null,null,null,null,null,null,null,null,null,null,null,null,null,null,null,null,null,null,null,null,null,null,null,null,null,null,null,null,null,null,null,null,null,null,null,null,null,null,null,null,null,null,null,null,null,null,null,null,null,null,null,null,null,null,null,null,null,null,null,null,null,null,null,null,null,null,null,null,null,null,null,null,null,null,null,null,null,null,null,null,null,null,0,0,""]
[null,null,null,null,null,null,null,null,null,null,null,null,null,null,"X","X","X","X",{"$f":"VLOOKUP(P6316,Lookup!A:B,2,FALSE)","v":"--"},{"$f":"VLOOKUP(Q6316,Lookup!A:B,2,FALSE)","v":"--"},{"$f":"VLOOKUP(R6316,Lookup!A:B,2,FALSE)","v":"--"},null,{"$f":"IF(E6316&F6316&G6316&I6316&K6316&M6316=\"\",\"\",IF(OR(H6316=\"\",D6316=\"\",AND(AC6316=0,'Contents & 6mo Restriction'!$BE$1=FALSE)),1,0))","v":""},"",0,0,0,0,0,0,null,null,null,null,null,null,null,null,null,null,null,null,null,null,null,null,null,null,null,null,null,null,null,null,null,null,null,null,null,null,null,null,null,null,null,null,null,null,null,null,null,null,null,null,null,null,null,null,null,null,null,null,null,null,null,null,null,null,null,null,null,null,null,null,null,null,null,null,null,null,null,null,null,null,null,null,null,null,null,null,null,null,null,null,null,null,null,null,null,null,null,null,null,null,null,null,null,null,null,null,null,null,0,0,""]
[null,null,null,null,null,null,null,null,null,null,null,null,null,null,"X","X","X","X",{"$f":"VLOOKUP(P6350,Lookup!A:B,2,FALSE)","v":"--"},{"$f":"VLOOKUP(Q6350,Lookup!A:B,2,FALSE)","v":"--"},{"$f":"VLOOKUP(R6350,Lookup!A:B,2,FALSE)","v":"--"},null,{"$f":"IF(E6350&F6350&G6350&I6350&K6350&M6350=\"\",\"\",IF(OR(H6350=\"\",D6350=\"\",AND(AC6350=0,'Contents & 6mo Restriction'!$BE$1=FALSE)),1,0))","v":""},"",0,0,0,0,0,0,null,null,null,null,null,null,null,null,null,null,null,null,null,null,null,null,null,null,null,null,null,null,null,null,null,null,null,null,null,null,null,null,null,null,null,null,null,null,null,null,null,null,null,null,null,null,null,null,null,null,null,null,null,null,null,null,null,null,null,null,null,null,null,null,null,null,null,null,null,null,null,null,null,null,null,null,null,null,null,null,null,null,null,null,null,null,null,null,null,null,null,null,null,null,null,null,null,null,null,null,null,null,0,0,""]
[null,null,null,null,null,null,null,null,null,null,null,null,null,null,"X","X","X","X",{"$f":"VLOOKUP(P6417,Lookup!A:B,2,FALSE)","v":"--"},{"$f":"VLOOKUP(Q6417,Lookup!A:B,2,FALSE)","v":"--"},{"$f":"VLOOKUP(R6417,Lookup!A:B,2,FALSE)","v":"--"},null,{"$f":"IF(E6417&F6417&G6417&I6417&K6417&M6417=\"\",\"\",IF(OR(H6417=\"\",D6417=\"\",AND(AC6417=0,'Contents & 6mo Restriction'!$BE$1=FALSE)),1,0))","v":""},"",0,0,0,0,0,0,null,null,null,null,null,null,null,null,null,null,null,null,null,null,null,null,null,null,null,null,null,null,null,null,null,null,null,null,null,null,null,null,null,null,null,null,null,null,null,null,null,null,null,null,null,null,null,null,null,null,null,null,null,null,null,null,null,null,null,null,null,null,null,null,null,null,null,null,null,null,null,null,null,null,null,null,null,null,null,null,null,null,null,null,null,null,null,null,null,null,null,null,null,null,null,null,null,null,null,null,null,null,0,0,""]
[null,null,null,null,null,null,null,null,null,null,null,null,null,null,"X","X","X","X",{"$f":"VLOOKUP(P6459,Lookup!A:B,2,FALSE)","v":"--"},{"$f":"VLOOKUP(Q6459,Lookup!A:B,2,FALSE)","v":"--"},{"$f":"VLOOKUP(R6459,Lookup!A:B,2,FALSE)","v":"--"},null,{"$f":"IF(E6459&F6459&G6459&I6459&K6459&M6459=\"\",\"\",IF(OR(H6459=\"\",D6459=\"\",AND(AC6459=0,'Contents & 6mo Restriction'!$BE$1=FALSE)),1,0))","v":""},"",0,0,0,0,0,0,null,null,null,null,null,null,null,null,null,null,null,null,null,null,null,null,null,null,null,null,null,null,null,null,null,null,null,null,null,null,null,null,null,null,null,null,null,null,null,null,null,null,null,null,null,null,null,null,null,null,null,null,null,null,null,null,null,null,null,null,null,null,null,null,null,null,null,null,null,null,null,null,null,null,null,null,null,null,null,null,null,null,null,null,null,null,null,null,null,null,null,null,null,null,null,null,null,null,null,null,null,null,0,0,""]
[null,null,null,null,null,null,null,null,null,null,null,null,null,null,"X","X","X","X",{"$f":"VLOOKUP(P6493,Lookup!A:B,2,FALSE)","v":"--"},{"$f":"VLOOKUP(Q6493,Lookup!A:B,2,FALSE)","v":"--"},{"$f":"VLOOKUP(R6493,Lookup!A:B,2,FALSE)","v":"--"},null,{"$f":"IF(E6493&F6493&G6493&I6493&K6493&M6493=\"\",\"\",IF(OR(H6493=\"\",D6493=\"\",AND(AC6493=0,'Contents & 6mo Restriction'!$BE$1=FALSE)),1,0))","v":""},"",0,0,0,0,0,0,null,null,null,null,null,null,null,null,null,null,null,null,null,null,null,null,null,null,null,null,null,null,null,null,null,null,null,null,null,null,null,null,null,null,null,null,null,null,null,null,null,null,null,null,null,null,null,null,null,null,null,null,null,null,null,null,null,null,null,null,null,null,null,null,null,null,null,null,null,null,null,null,null,null,null,null,null,null,null,null,null,null,null,null,null,null,null,null,null,null,null,null,null,null,null,null,null,null,null,null,null,null,0,0,""]
[null,null,null,null,null,null,null,null,null,null,null,null,null,null,"X","X","X","X",{"$f":"VLOOKUP(P6522,Lookup!A:B,2,FALSE)","v":"--"},{"$f":"VLOOKUP(Q6522,Lookup!A:B,2,FALSE)","v":"--"},{"$f":"VLOOKUP(R6522,Lookup!A:B,2,FALSE)","v":"--"},null,{"$f":"IF(E6522&F6522&G6522&I6522&K6522&M6522=\"\",\"\",IF(OR(H6522=\"\",D6522=\"\",AND(AC6522=0,'Contents & 6mo Restriction'!$BE$1=FALSE)),1,0))","v":""},"",0,0,0,0,0,0,null,null,null,null,null,null,null,null,null,null,null,null,null,null,null,null,null,null,null,null,null,null,null,null,null,null,null,null,null,null,null,null,null,null,null,null,null,null,null,null,null,null,null,null,null,null,null,null,null,null,null,null,null,null,null,null,null,null,null,null,null,null,null,null,null,null,null,null,null,null,null,null,null,null,null,null,null,null,null,null,null,null,null,null,null,null,null,null,null,null,null,null,null,null,null,null,null,null,null,null,null,null,0,0,""]
[null,null,null,null,null,null,null,null,null,null,null,null,null,null,"X","X","X","X",{"$f":"VLOOKUP(P6603,Lookup!A:B,2,FALSE)","v":"--"},{"$f":"VLOOKUP(Q6603,Lookup!A:B,2,FALSE)","v":"--"},{"$f":"VLOOKUP(R6603,Lookup!A:B,2,FALSE)","v":"--"},null,{"$f":"IF(E6603&F6603&G6603&I6603&K6603&M6603=\"\",\"\",IF(OR(H6603=\"\",D6603=\"\",AND(AC6603=0,'Contents & 6mo Restriction'!$BE$1=FALSE)),1,0))","v":""},"",0,0,0,0,0,0,null,null,null,null,null,null,null,null,null,null,null,null,null,null,null,null,null,null,null,null,null,null,null,null,null,null,null,null,null,null,null,null,null,null,null,null,null,null,null,null,null,null,null,null,null,null,null,null,null,null,null,null,null,null,null,null,null,null,null,null,null,null,null,null,null,null,null,null,null,null,null,null,null,null,null,null,null,null,null,null,null,null,null,null,null,null,null,null,null,null,null,null,null,null,null,null,null,null,null,null,null,null,0,0,""]
[null,null,null,null,null,null,null,null,null,null,null,null,null,null,"X","X","X","X",{"$f":"VLOOKUP(P6658,Lookup!A:B,2,FALSE)","v":"--"},{"$f":"VLOOKUP(Q6658,Lookup!A:B,2,FALSE)","v":"--"},{"$f":"VLOOKUP(R6658,Lookup!A:B,2,FALSE)","v":"--"},null,{"$f":"IF(E6658&F6658&G6658&I6658&K6658&M6658=\"\",\"\",IF(OR(H6658=\"\",D6658=\"\",AND(AC6658=0,'Contents & 6mo Restriction'!$BE$1=FALSE)),1,0))","v":""},"",0,0,0,0,0,0,null,null,null,null,null,null,null,null,null,null,null,null,null,null,null,null,null,null,null,null,null,null,null,null,null,null,null,null,null,null,null,null,null,null,null,null,null,null,null,null,null,null,null,null,null,null,null,null,null,null,null,null,null,null,null,null,null,null,null,null,null,null,null,null,null,null,null,null,null,null,null,null,null,null,null,null,null,null,null,null,null,null,null,null,null,null,null,null,null,null,null,null,null,null,null,null,null,null,null,null,null,null,0,0,""]
[null,null,null,null,null,null,null,null,null,null,null,null,null,null,"X","X","X","X",{"$f":"VLOOKUP(P6665,Lookup!A:B,2,FALSE)","v":"--"},{"$f":"VLOOKUP(Q6665,Lookup!A:B,2,FALSE)","v":"--"},{"$f":"VLOOKUP(R6665,Lookup!A:B,2,FALSE)","v":"--"},null,{"$f":"IF(E6665&F6665&G6665&I6665&K6665&M6665=\"\",\"\",IF(OR(H6665=\"\",D6665=\"\",AND(AC6665=0,'Contents & 6mo Restriction'!$BE$1=FALSE)),1,0))","v":""},"",0,0,0,0,0,0,null,null,null,null,null,null,null,null,null,null,null,null,null,null,null,null,null,null,null,null,null,null,null,null,null,null,null,null,null,null,null,null,null,null,null,null,null,null,null,null,null,null,null,null,null,null,null,null,null,null,null,null,null,null,null,null,null,null,null,null,null,null,null,null,null,null,null,null,null,null,null,null,null,null,null,null,null,null,null,null,null,null,null,null,null,null,null,null,null,null,null,null,null,null,null,null,null,null,null,null,null,null,0,0,""]
[null,null,null,null,null,null,null,null,null,null,null,null,null,null,"X","X","X","X",{"$f":"VLOOKUP(P6746,Lookup!A:B,2,FALSE)","v":"--"},{"$f":"VLOOKUP(Q6746,Lookup!A:B,2,FALSE)","v":"--"},{"$f":"VLOOKUP(R6746,Lookup!A:B,2,FALSE)","v":"--"},null,{"$f":"IF(E6746&F6746&G6746&I6746&K6746&M6746=\"\",\"\",IF(OR(H6746=\"\",D6746=\"\",AND(AC6746=0,'Contents & 6mo Restriction'!$BE$1=FALSE)),1,0))","v":""},"",0,0,0,0,0,0,null,null,null,null,null,null,null,null,null,null,null,null,null,null,null,null,null,null,null,null,null,null,null,null,null,null,null,null,null,null,null,null,null,null,null,null,null,null,null,null,null,null,null,null,null,null,null,null,null,null,null,null,null,null,null,null,null,null,null,null,null,null,null,null,null,null,null,null,null,null,null,null,null,null,null,null,null,null,null,null,null,null,null,null,null,null,null,null,null,null,null,null,null,null,null,null,null,null,null,null,null,null,{"$f":"IF(ISERROR(FIND(\"Impossible\",S6746&T6746&U6746)),0,1)","v":0},0,""]
[null,null,null,null,null,null,null,null,null,null,null,null,null,null,"X","X","X","X",{"$f":"VLOOKUP(P6775,Lookup!A:B,2,FALSE)","v":"--"},{"$f":"VLOOKUP(Q6775,Lookup!A:B,2,FALSE)","v":"--"},{"$f":"VLOOKUP(R6775,Lookup!A:B,2,FALSE)","v":"--"},null,{"$f":"IF(E6775&F6775&G6775&I6775&K6775&M6775=\"\",\"\",IF(OR(H6775=\"\",D6775=\"\",AND(AC6775=0,'Contents & 6mo Restriction'!$BE$1=FALSE)),1,0))","v":""},"",0,0,0,0,0,0,null,null,null,null,null,null,null,null,null,null,null,null,null,null,null,null,null,null,null,null,null,null,null,null,null,null,null,null,null,null,null,null,null,null,null,null,null,null,null,null,null,null,null,null,null,null,null,null,null,null,null,null,null,null,null,null,null,null,null,null,null,null,null,null,null,null,null,null,null,null,null,null,null,null,null,null,null,null,null,null,null,null,null,null,null,null,null,null,null,null,null,null,null,null,null,null,null,null,null,null,null,null,0,0,""]
[null,null,null,null,null,null,null,null,null,null,null,null,null,null,"X","X","X","X",{"$f":"VLOOKUP(P6819,Lookup!A:B,2,FALSE)","v":"--"},{"$f":"VLOOKUP(Q6819,Lookup!A:B,2,FALSE)","v":"--"},{"$f":"VLOOKUP(R6819,Lookup!A:B,2,FALSE)","v":"--"},null,{"$f":"IF(E6819&F6819&G6819&I6819&K6819&M6819=\"\",\"\",IF(OR(H6819=\"\",D6819=\"\",AND(AC6819=0,'Contents & 6mo Restriction'!$BE$1=FALSE)),1,0))","v":""},"",0,0,0,0,0,0,null,null,null,null,null,null,null,null,null,null,null,null,null,null,null,null,null,null,null,null,null,null,null,null,null,null,null,null,null,null,null,null,null,null,null,null,null,null,null,null,null,null,null,null,null,null,null,null,null,null,null,null,null,null,null,null,null,null,null,null,null,null,null,null,null,null,null,null,null,null,null,null,null,null,null,null,null,null,null,null,null,null,null,null,null,null,null,null,null,null,null,null,null,null,null,null,null,null,null,null,null,null,0,0,""]
[null,null,null,null,null,null,null,null,null,null,null,null,null,null,"X","X","X","X",{"$f":"VLOOKUP(P6889,Lookup!A:B,2,FALSE)","v":"--"},{"$f":"VLOOKUP(Q6889,Lookup!A:B,2,FALSE)","v":"--"},{"$f":"VLOOKUP(R6889,Lookup!A:B,2,FALSE)","v":"--"},null,{"$f":"IF(E6889&F6889&G6889&I6889&K6889&M6889=\"\",\"\",IF(OR(H6889=\"\",D6889=\"\",AND(AC6889=0,'Contents & 6mo Restriction'!$BE$1=FALSE)),1,0))","v":""},"",0,0,0,0,0,0,null,null,null,null,null,null,null,null,null,null,null,null,null,null,null,null,null,null,null,null,null,null,null,null,null,null,null,null,null,null,null,null,null,null,null,null,null,null,null,null,null,null,null,null,null,null,null,null,null,null,null,null,null,null,null,null,null,null,null,null,null,null,null,null,null,null,null,null,null,null,null,null,null,null,null,null,null,null,null,null,null,null,null,null,null,null,null,null,null,null,null,null,null,null,null,null,null,null,null,null,null,null,0,0,""]
[null,null,null,null,null,null,null,null,null,null,null,null,null,null,"X","X","X","X",{"$f":"VLOOKUP(P6918,Lookup!A:B,2,FALSE)","v":"--"},{"$f":"VLOOKUP(Q6918,Lookup!A:B,2,FALSE)","v":"--"},{"$f":"VLOOKUP(R6918,Lookup!A:B,2,FALSE)","v":"--"},null,{"$f":"IF(E6918&F6918&G6918&I6918&K6918&M6918=\"\",\"\",IF(OR(H6918=\"\",D6918=\"\",AND(AC6918=0,'Contents & 6mo Restriction'!$BE$1=FALSE)),1,0))","v":""},"",0,0,0,0,0,0,null,null,null,null,null,null,null,null,null,null,null,null,null,null,null,null,null,null,null,null,null,null,null,null,null,null,null,null,null,null,null,null,null,null,null,null,null,null,null,null,null,null,null,null,null,null,null,null,null,null,null,null,null,null,null,null,null,null,null,null,null,null,null,null,null,null,null,null,null,null,null,null,null,null,null,null,null,null,null,null,null,null,null,null,null,null,null,null,null,null,null,null,null,null,null,null,null,null,null,null,null,null,0,0,""]
[null,null,null,null,null,null,null,null,null,null,null,null,null,null,"X","X","X","X",{"$f":"VLOOKUP(P6952,Lookup!A:B,2,FALSE)","v":"--"},{"$f":"VLOOKUP(Q6952,Lookup!A:B,2,FALSE)","v":"--"},{"$f":"VLOOKUP(R6952,Lookup!A:B,2,FALSE)","v":"--"},null,{"$f":"IF(E6952&F6952&G6952&I6952&K6952&M6952=\"\",\"\",IF(OR(H6952=\"\",D6952=\"\",AND(AC6952=0,'Contents & 6mo Restriction'!$BE$1=FALSE)),1,0))","v":""},"",0,0,0,0,0,0,null,null,null,null,null,null,null,null,null,null,null,null,null,null,null,null,null,null,null,null,null,null,null,null,null,null,null,null,null,null,null,null,null,null,null,null,null,null,null,null,null,null,null,null,null,null,null,null,null,null,null,null,null,null,null,null,null,null,null,null,null,null,null,null,null,null,null,null,null,null,null,null,null,null,null,null,null,null,null,null,null,null,null,null,null,null,null,null,null,null,null,null,null,null,null,null,null,null,null,null,null,null,0,0,""]
[null,null,null,null,null,null,null,null,null,null,null,null,null,null,"X","X","X","X",{"$f":"VLOOKUP(P7028,Lookup!A:B,2,FALSE)","v":"--"},{"$f":"VLOOKUP(Q7028,Lookup!A:B,2,FALSE)","v":"--"},{"$f":"VLOOKUP(R7028,Lookup!A:B,2,FALSE)","v":"--"},null,{"$f":"IF(E7028&F7028&G7028&I7028&K7028&M7028=\"\",\"\",IF(OR(H7028=\"\",D7028=\"\",AND(AC7028=0,'Contents & 6mo Restriction'!$BE$1=FALSE)),1,0))","v":""},"",0,0,0,0,0,0,null,null,null,null,null,null,null,null,null,null,null,null,null,null,null,null,null,null,null,null,null,null,null,null,null,null,null,null,null,null,null,null,null,null,null,null,null,null,null,null,null,null,null,null,null,null,null,null,null,null,null,null,null,null,null,null,null,null,null,null,null,null,null,null,null,null,null,null,null,null,null,null,null,null,null,null,null,null,null,null,null,null,null,null,null,null,null,null,null,null,null,null,null,null,null,null,null,null,null,null,null,null,0,0,""]
[null,null,null,null,null,null,null,null,null,null,null,null,null,null,"X","X","X","X",{"$f":"VLOOKUP(P7072,Lookup!A:B,2,FALSE)","v":"--"},{"$f":"VLOOKUP(Q7072,Lookup!A:B,2,FALSE)","v":"--"},{"$f":"VLOOKUP(R7072,Lookup!A:B,2,FALSE)","v":"--"},null,{"$f":"IF(E7072&F7072&G7072&I7072&K7072&M7072=\"\",\"\",IF(OR(H7072=\"\",D7072=\"\",AND(AC7072=0,'Contents & 6mo Restriction'!$BE$1=FALSE)),1,0))","v":""},"",0,0,0,0,0,0,null,null,null,null,null,null,null,null,null,null,null,null,null,null,null,null,null,null,null,null,null,null,null,null,null,null,null,null,null,null,null,null,null,null,null,null,null,null,null,null,null,null,null,null,null,null,null,null,null,null,null,null,null,null,null,null,null,null,null,null,null,null,null,null,null,null,null,null,null,null,null,null,null,null,null,null,null,null,null,null,null,null,null,null,null,null,null,null,null,null,null,null,null,null,null,null,null,null,null,null,null,null,0,0,""]
[null,null,null,null,null,null,null,null,null,null,null,null,null,null,"X","X","X","X",{"$f":"VLOOKUP(P7095,Lookup!A:B,2,FALSE)","v":"--"},{"$f":"VLOOKUP(Q7095,Lookup!A:B,2,FALSE)","v":"--"},{"$f":"VLOOKUP(R7095,Lookup!A:B,2,FALSE)","v":"--"},null,{"$f":"IF(E7095&F7095&G7095&I7095&K7095&M7095=\"\",\"\",IF(OR(H7095=\"\",D7095=\"\",AND(AC7095=0,'Contents & 6mo Restriction'!$BE$1=FALSE)),1,0))","v":""},"",0,0,0,0,0,0,null,null,null,null,null,null,null,null,null,null,null,null,null,null,null,null,null,null,null,null,null,null,null,null,null,null,null,null,null,null,null,null,null,null,null,null,null,null,null,null,null,null,null,null,null,null,null,null,null,null,null,null,null,null,null,null,null,null,null,null,null,null,null,null,null,null,null,null,null,null,null,null,null,null,null,null,null,null,null,null,null,null,null,null,null,null,null,null,null,null,null,null,null,null,null,null,null,null,null,null,null,null,0,0,""]
[null,null,null,null,null,null,null,null,null,null,null,null,null,null,"X","X","X","X",{"$f":"VLOOKUP(P7171,Lookup!A:B,2,FALSE)","v":"--"},{"$f":"VLOOKUP(Q7171,Lookup!A:B,2,FALSE)","v":"--"},{"$f":"VLOOKUP(R7171,Lookup!A:B,2,FALSE)","v":"--"},null,{"$f":"IF(E7171&F7171&G7171&I7171&K7171&M7171=\"\",\"\",IF(OR(H7171=\"\",D7171=\"\",AND(AC7171=0,'Contents & 6mo Restriction'!$BE$1=FALSE)),1,0))","v":""},"",0,0,0,0,0,0,null,null,null,null,null,null,null,null,null,null,null,null,null,null,null,null,null,null,null,null,null,null,null,null,null,null,null,null,null,null,null,null,null,null,null,null,null,null,null,null,null,null,null,null,null,null,null,null,null,null,null,null,null,null,null,null,null,null,null,null,null,null,null,null,null,null,null,null,null,null,null,null,null,null,null,null,null,null,null,null,null,null,null,null,null,null,null,null,null,null,null,null,null,null,null,null,null,null,null,null,null,null,0,0,""]
[null,null,null,null,null,null,null,null,null,null,null,null,null,null,"X","X","X","X",{"$f":"VLOOKUP(P7205,Lookup!A:B,2,FALSE)","v":"--"},{"$f":"VLOOKUP(Q7205,Lookup!A:B,2,FALSE)","v":"--"},{"$f":"VLOOKUP(R7205,Lookup!A:B,2,FALSE)","v":"--"},null,{"$f":"IF(E7205&F7205&G7205&I7205&K7205&M7205=\"\",\"\",IF(OR(H7205=\"\",D7205=\"\",AND(AC7205=0,'Contents & 6mo Restriction'!$BE$1=FALSE)),1,0))","v":""},"",0,0,0,0,0,0,null,null,null,null,null,null,null,null,null,null,null,null,null,null,null,null,null,null,null,null,null,null,null,null,null,null,null,null,null,null,null,null,null,null,null,null,null,null,null,null,null,null,null,null,null,null,null,null,null,null,null,null,null,null,null,null,null,null,null,null,null,null,null,null,null,null,null,null,null,null,null,null,null,null,null,null,null,null,null,null,null,null,null,null,null,null,null,null,null,null,null,null,null,null,null,null,null,null,null,null,null,null,0,0,""]
[null,null,null,null,null,null,null,null,null,null,null,null,null,null,"X","X","X","X",{"$f":"VLOOKUP(P7239,Lookup!A:B,2,FALSE)","v":"--"},{"$f":"VLOOKUP(Q7239,Lookup!A:B,2,FALSE)","v":"--"},{"$f":"VLOOKUP(R7239,Lookup!A:B,2,FALSE)","v":"--"},null,{"$f":"IF(E7239&F7239&G7239&I7239&K7239&M7239=\"\",\"\",IF(OR(H7239=\"\",D7239=\"\",AND(AC7239=0,'Contents & 6mo Restriction'!$BE$1=FALSE)),1,0))","v":""},"",0,0,0,0,0,0,null,null,null,null,null,null,null,null,null,null,null,null,null,null,null,null,null,null,null,null,null,null,null,null,null,null,null,null,null,null,null,null,null,null,null,null,null,null,null,null,null,null,null,null,null,null,null,null,null,null,null,null,null,null,null,null,null,null,null,null,null,null,null,null,null,null,null,null,null,null,null,null,null,null,null,null,null,null,null,null,null,null,null,null,null,null,null,null,null,null,null,null,null,null,null,null,null,null,null,null,null,null,0,0,""]
[null,null,null,null,null,null,null,null,null,null,null,null,null,null,"X",{"$f":"CONCATENATE(E7279,I7279,J7279,O7279)","v":"X"},{"$f":"CONCATENATE(F7279,K7279,L7279,O7279)","v":"X"},{"$f":"CONCATENATE(G7279,M7279,N7279,O7279)","v":"X"},{"$f":"VLOOKUP(P7279,Lookup!A:B,2,FALSE)","v":"--"},{"$f":"VLOOKUP(Q7279,Lookup!A:B,2,FALSE)","v":"--"},{"$f":"VLOOKUP(R7279,Lookup!A:B,2,FALSE)","v":"--"},null,{"$f":"IF(E7279&F7279&G7279&I7279&K7279&M7279=\"\",\"\",IF(OR(H7279=\"\",D7279=\"\",AND(AC7279=0,'Contents & 6mo Restriction'!$BE$1=FALSE)),1,0))","v":""},"",0,0,0,0,0,0,null,null,null,null,null,null,null,null,null,null,null,null,null,null,null,null,null,null,null,null,null,null,null,null,null,null,null,null,null,null,null,null,null,null,null,null,null,null,null,null,null,null,null,null,null,null,null,null,null,null,null,null,null,null,null,null,null,null,null,null,null,null,null,null,null,null,null,null,null,null,null,null,null,null,null,null,null,null,null,null,null,null,null,null,null,null,null,null,null,null,null,null,null,null,null,null,null,null,null,null,null,null,0,0,""]
[null,null,null,null,null,null,null,null,null,null,null,null,null,null,"X","X","X","X",{"$f":"VLOOKUP(P7348,Lookup!A:B,2,FALSE)","v":"--"},{"$f":"VLOOKUP(Q7348,Lookup!A:B,2,FALSE)","v":"--"},{"$f":"VLOOKUP(R7348,Lookup!A:B,2,FALSE)","v":"--"},null,{"$f":"IF(E7348&F7348&G7348&I7348&K7348&M7348=\"\",\"\",IF(OR(H7348=\"\",D7348=\"\",AND(AC7348=0,'Contents & 6mo Restriction'!$BE$1=FALSE)),1,0))","v":""},"",0,0,0,0,0,0,null,null,null,null,null,null,null,null,null,null,null,null,null,null,null,null,null,null,null,null,null,null,null,null,null,null,null,null,null,null,null,null,null,null,null,null,null,null,null,null,null,null,null,null,null,null,null,null,null,null,null,null,null,null,null,null,null,null,null,null,null,null,null,null,null,null,null,null,null,null,null,null,null,null,null,null,null,null,null,null,null,null,null,null,null,null,null,null,null,null,null,null,null,null,null,null,null,null,null,null,null,null,0,0,""]
[null,null,null,null,null,null,null,null,null,null,null,null,null,null,"X","X","X","X",{"$f":"VLOOKUP(P7377,Lookup!A:B,2,FALSE)","v":"--"},{"$f":"VLOOKUP(Q7377,Lookup!A:B,2,FALSE)","v":"--"},{"$f":"VLOOKUP(R7377,Lookup!A:B,2,FALSE)","v":"--"},null,{"$f":"IF(E7377&F7377&G7377&I7377&K7377&M7377=\"\",\"\",IF(OR(H7377=\"\",D7377=\"\",AND(AC7377=0,'Contents & 6mo Restriction'!$BE$1=FALSE)),1,0))","v":""},"",0,0,0,0,0,0,null,null,null,null,null,null,null,null,null,null,null,null,null,null,null,null,null,null,null,null,null,null,null,null,null,null,null,null,null,null,null,null,null,null,null,null,null,null,null,null,null,null,null,null,null,null,null,null,null,null,null,null,null,null,null,null,null,null,null,null,null,null,null,null,null,null,null,null,null,null,null,null,null,null,null,null,null,null,null,null,null,null,null,null,null,null,null,null,null,null,null,null,null,null,null,null,null,null,null,null,null,null,0,0,""]
[null,null,null,null,null,null,null,null,null,null,null,null,null,null,"X","X","X","X",{"$f":"VLOOKUP(P7411,Lookup!A:B,2,FALSE)","v":"--"},{"$f":"VLOOKUP(Q7411,Lookup!A:B,2,FALSE)","v":"--"},{"$f":"VLOOKUP(R7411,Lookup!A:B,2,FALSE)","v":"--"},null,{"$f":"IF(E7411&F7411&G7411&I7411&K7411&M7411=\"\",\"\",IF(OR(H7411=\"\",D7411=\"\",AND(AC7411=0,'Contents & 6mo Restriction'!$BE$1=FALSE)),1,0))","v":""},"",0,0,0,0,0,0,null,null,null,null,null,null,null,null,null,null,null,null,null,null,null,null,null,null,null,null,null,null,null,null,null,null,null,null,null,null,null,null,null,null,null,null,null,null,null,null,null,null,null,null,null,null,null,null,null,null,null,null,null,null,null,null,null,null,null,null,null,null,null,null,null,null,null,null,null,null,null,null,null,null,null,null,null,null,null,null,null,null,null,null,null,null,null,null,null,null,null,null,null,null,null,null,null,null,null,null,null,null,0,0,""]
[null,null,null,null,null,null,null,null,null,null,null,null,null,null,"X","X","X","X",{"$f":"VLOOKUP(P7474,Lookup!A:B,2,FALSE)","v":"--"},{"$f":"VLOOKUP(Q7474,Lookup!A:B,2,FALSE)","v":"--"},{"$f":"VLOOKUP(R7474,Lookup!A:B,2,FALSE)","v":"--"},null,{"$f":"IF(E7474&F7474&G7474&I7474&K7474&M7474=\"\",\"\",IF(OR(H7474=\"\",D7474=\"\",AND(AC7474=0,'Contents & 6mo Restriction'!$BE$1=FALSE)),1,0))","v":""},"",0,0,0,0,0,0,null,null,null,null,null,null,null,null,null,null,null,null,null,null,null,null,null,null,null,null,null,null,null,null,null,null,null,null,null,null,null,null,null,null,null,null,null,null,null,null,null,null,null,null,null,null,null,null,null,null,null,null,null,null,null,null,null,null,null,null,null,null,null,null,null,null,null,null,null,null,null,null,null,null,null,null,null,null,null,null,null,null,null,null,null,null,null,null,null,null,null,null,null,null,null,null,null,null,null,null,null,null,0,0,""]
[null,null,null,null,null,null,null,null,null,null,null,null,null,null,"X","X","X","X",{"$f":"VLOOKUP(P7520,Lookup!A:B,2,FALSE)","v":"--"},{"$f":"VLOOKUP(Q7520,Lookup!A:B,2,FALSE)","v":"--"},{"$f":"VLOOKUP(R7520,Lookup!A:B,2,FALSE)","v":"--"},null,{"$f":"IF(E7520&F7520&G7520&I7520&K7520&M7520=\"\",\"\",IF(OR(H7520=\"\",D7520=\"\",AND(AC7520=0,'Contents & 6mo Restriction'!$BE$1=FALSE)),1,0))","v":""},"",0,0,0,0,0,0,null,null,null,null,null,null,null,null,null,null,null,null,null,null,null,null,null,null,null,null,null,null,null,null,null,null,null,null,null,null,null,null,null,null,null,null,null,null,null,null,null,null,null,null,null,null,null,null,null,null,null,null,null,null,null,null,null,null,null,null,null,null,null,null,null,null,null,null,null,null,null,null,null,null,null,null,null,null,null,null,null,null,null,null,null,null,null,null,null,null,null,null,null,null,null,null,null,null,null,null,null,null,0,0,""]
[null,null,null,null,null,null,null,null,null,null,null,null,null,null,"X","X","X","X",{"$f":"VLOOKUP(P7554,Lookup!A:B,2,FALSE)","v":"--"},{"$f":"VLOOKUP(Q7554,Lookup!A:B,2,FALSE)","v":"--"},{"$f":"VLOOKUP(R7554,Lookup!A:B,2,FALSE)","v":"--"},null,{"$f":"IF(E7554&F7554&G7554&I7554&K7554&M7554=\"\",\"\",IF(OR(H7554=\"\",D7554=\"\",AND(AC7554=0,'Contents & 6mo Restriction'!$BE$1=FALSE)),1,0))","v":""},"",0,0,0,0,0,0,null,null,null,null,null,null,null,null,null,null,null,null,null,null,null,null,null,null,null,null,null,null,null,null,null,null,null,null,null,null,null,null,null,null,null,null,null,null,null,null,null,null,null,null,null,null,null,null,null,null,null,null,null,null,null,null,null,null,null,null,null,null,null,null,null,null,null,null,null,null,null,null,null,null,null,null,null,null,null,null,null,null,null,null,null,null,null,null,null,null,null,null,null,null,null,null,null,null,null,null,null,null,0,0,""]
[null,null,null,null,null,null,null,null,null,null,null,null,null,null,"X","X","X","X",{"$f":"VLOOKUP(P7635,Lookup!A:B,2,FALSE)","v":"--"},{"$f":"VLOOKUP(Q7635,Lookup!A:B,2,FALSE)","v":"--"},{"$f":"VLOOKUP(R7635,Lookup!A:B,2,FALSE)","v":"--"},null,{"$f":"IF(E7635&F7635&G7635&I7635&K7635&M7635=\"\",\"\",IF(OR(H7635=\"\",D7635=\"\",AND(AC7635=0,'Contents & 6mo Restriction'!$BE$1=FALSE)),1,0))","v":""},"",0,0,0,0,0,0,null,null,null,null,null,null,null,null,null,null,null,null,null,null,null,null,null,null,null,null,null,null,null,null,null,null,null,null,null,null,null,null,null,null,null,null,null,null,null,null,null,null,null,null,null,null,null,null,null,null,null,null,null,null,null,null,null,null,null,null,null,null,null,null,null,null,null,null,null,null,null,null,null,null,null,null,null,null,null,null,null,null,null,null,null,null,null,null,null,null,null,null,null,null,null,null,null,null,null,null,null,null,0,0,""]
[null,null,null,null,null,null,null,null,null,null,null,null,null,null,"X","X","X","X",{"$f":"VLOOKUP(P7664,Lookup!A:B,2,FALSE)","v":"--"},{"$f":"VLOOKUP(Q7664,Lookup!A:B,2,FALSE)","v":"--"},{"$f":"VLOOKUP(R7664,Lookup!A:B,2,FALSE)","v":"--"},null,{"$f":"IF(E7664&F7664&G7664&I7664&K7664&M7664=\"\",\"\",IF(OR(H7664=\"\",D7664=\"\",AND(AC7664=0,'Contents & 6mo Restriction'!$BE$1=FALSE)),1,0))","v":""},"",0,0,0,0,0,0,null,null,null,null,null,null,null,null,null,null,null,null,null,null,null,null,null,null,null,null,null,null,null,null,null,null,null,null,null,null,null,null,null,null,null,null,null,null,null,null,null,null,null,null,null,null,null,null,null,null,null,null,null,null,null,null,null,null,null,null,null,null,null,null,null,null,null,null,null,null,null,null,null,null,null,null,null,null,null,null,null,null,null,null,null,null,null,null,null,null,null,null,null,null,null,null,null,null,null,null,null,null,0,0,""]
[null,null,null,null,null,null,null,null,null,null,null,null,null,null,"X",{"$f":"CONCATENATE(E7727,I7727,J7727,O7727)","v":"X"},{"$f":"CONCATENATE(F7727,K7727,L7727,O7727)","v":"X"},{"$f":"CONCATENATE(G7727,M7727,N7727,O7727)","v":"X"},{"$f":"VLOOKUP(P7727,Lookup!A:B,2,FALSE)","v":"--"},{"$f":"VLOOKUP(Q7727,Lookup!A:B,2,FALSE)","v":"--"},{"$f":"VLOOKUP(R7727,Lookup!A:B,2,FALSE)","v":"--"},null,{"$f":"IF(E7727&F7727&G7727&I7727&K7727&M7727=\"\",\"\",IF(OR(H7727=\"\",D7727=\"\",AND(AC7727=0,'Contents & 6mo Restriction'!$BE$1=FALSE)),1,0))","v":""},"",0,0,0,0,0,0,null,null,null,null,null,null,null,null,null,null,null,null,null,null,null,null,null,null,null,null,null,null,null,null,null,null,null,null,null,null,null,null,null,null,null,null,null,null,null,null,null,null,null,null,null,null,null,null,null,null,null,null,null,null,null,null,null,null,null,null,null,null,null,null,null,null,null,null,null,null,null,null,null,null,null,null,null,null,null,null,null,null,null,null,null,null,null,null,null,null,null,null,null,null,null,null,null,null,null,null,null,null,0,0,""]
[null,null,null,null,null,null,null,null,null,null,null,null,null,null,"X","X","X","X",{"$f":"VLOOKUP(P7773,Lookup!A:B,2,FALSE)","v":"--"},{"$f":"VLOOKUP(Q7773,Lookup!A:B,2,FALSE)","v":"--"},{"$f":"VLOOKUP(R7773,Lookup!A:B,2,FALSE)","v":"--"},null,{"$f":"IF(E7773&F7773&G7773&I7773&K7773&M7773=\"\",\"\",IF(OR(H7773=\"\",D7773=\"\",AND(AC7773=0,'Contents & 6mo Restriction'!$BE$1=FALSE)),1,0))","v":""},"",0,0,0,0,0,0,null,null,null,null,null,null,null,null,null,null,null,null,null,null,null,null,null,null,null,null,null,null,null,null,null,null,null,null,null,null,null,null,null,null,null,null,null,null,null,null,null,null,null,null,null,null,null,null,null,null,null,null,null,null,null,null,null,null,null,null,null,null,null,null,null,null,null,null,null,null,null,null,null,null,null,null,null,null,null,null,null,null,null,null,null,null,null,null,null,null,null,null,null,null,null,null,null,null,null,null,null,null,0,0,""]
[null,null,null,null,null,null,null,null,null,null,null,null,null,null,"X","X","X","X",{"$f":"VLOOKUP(P7807,Lookup!A:B,2,FALSE)","v":"--"},{"$f":"VLOOKUP(Q7807,Lookup!A:B,2,FALSE)","v":"--"},{"$f":"VLOOKUP(R7807,Lookup!A:B,2,FALSE)","v":"--"},null,{"$f":"IF(E7807&F7807&G7807&I7807&K7807&M7807=\"\",\"\",IF(OR(H7807=\"\",D7807=\"\",AND(AC7807=0,'Contents & 6mo Restriction'!$BE$1=FALSE)),1,0))","v":""},"",0,0,0,0,0,0,null,null,null,null,null,null,null,null,null,null,null,null,null,null,null,null,null,null,null,null,null,null,null,null,null,null,null,null,null,null,null,null,null,null,null,null,null,null,null,null,null,null,null,null,null,null,null,null,null,null,null,null,null,null,null,null,null,null,null,null,null,null,null,null,null,null,null,null,null,null,null,null,null,null,null,null,null,null,null,null,null,null,null,null,null,null,null,null,null,null,null,null,null,null,null,null,null,null,null,null,null,null,0,0,""]
[null,null,null,null,null,null,null,null,null,null,null,null,null,null,"X","X","X","X",{"$f":"VLOOKUP(P7841,Lookup!A:B,2,FALSE)","v":"--"},{"$f":"VLOOKUP(Q7841,Lookup!A:B,2,FALSE)","v":"--"},{"$f":"VLOOKUP(R7841,Lookup!A:B,2,FALSE)","v":"--"},null,{"$f":"IF(E7841&F7841&G7841&I7841&K7841&M7841=\"\",\"\",IF(OR(H7841=\"\",D7841=\"\",AND(AC7841=0,'Contents & 6mo Restriction'!$BE$1=FALSE)),1,0))","v":""},"",0,0,0,0,0,0,null,null,null,null,null,null,null,null,null,null,null,null,null,null,null,null,null,null,null,null,null,null,null,null,null,null,null,null,null,null,null,null,null,null,null,null,null,null,null,null,null,null,null,null,null,null,null,null,null,null,null,null,null,null,null,null,null,null,null,null,null,null,null,null,null,null,null,null,null,null,null,null,null,null,null,null,null,null,null,null,null,null,null,null,null,null,null,null,null,null,null,null,null,null,null,null,null,null,null,null,null,null,0,0,""]
[null,null,null,null,null,null,null,null,null,null,null,null,null,null,"X","X","X","X",{"$f":"VLOOKUP(P7888,Lookup!A:B,2,FALSE)","v":"--"},{"$f":"VLOOKUP(Q7888,Lookup!A:B,2,FALSE)","v":"--"},{"$f":"VLOOKUP(R7888,Lookup!A:B,2,FALSE)","v":"--"},null,{"$f":"IF(E7888&F7888&G7888&I7888&K7888&M7888=\"\",\"\",IF(OR(H7888=\"\",D7888=\"\",AND(AC7888=0,'Contents & 6mo Restriction'!$BE$1=FALSE)),1,0))","v":""},"",0,0,0,0,0,0,null,null,null,null,null,null,null,null,null,null,null,null,null,null,null,null,null,null,null,null,null,null,null,null,null,null,null,null,null,null,null,null,null,null,null,null,null,null,null,null,null,null,null,null,null,null,null,null,null,null,null,null,null,null,null,null,null,null,null,null,null,null,null,null,null,null,null,null,null,null,null,null,null,null,null,null,null,null,null,null,null,null,null,null,null,null,null,null,null,null,null,null,null,null,null,null,null,null,null,null,null,null,0,0,""]
[null,null,null,null,null,null,null,null,null,null,null,null,null,null,"X","X","X","X",{"$f":"VLOOKUP(P7950,Lookup!A:B,2,FALSE)","v":"--"},{"$f":"VLOOKUP(Q7950,Lookup!A:B,2,FALSE)","v":"--"},{"$f":"VLOOKUP(R7950,Lookup!A:B,2,FALSE)","v":"--"},null,{"$f":"IF(E7950&F7950&G7950&I7950&K7950&M7950=\"\",\"\",IF(OR(H7950=\"\",D7950=\"\",AND(AC7950=0,'Contents & 6mo Restriction'!$BE$1=FALSE)),1,0))","v":""},"",0,0,0,0,0,0,null,null,null,null,null,null,null,null,null,null,null,null,null,null,null,null,null,null,null,null,null,null,null,null,null,null,null,null,null,null,null,null,null,null,null,null,null,null,null,null,null,null,null,null,null,null,null,null,null,null,null,null,null,null,null,null,null,null,null,null,null,null,null,null,null,null,null,null,null,null,null,null,null,null,null,null,null,null,null,null,null,null,null,null,null,null,null,null,null,null,null,null,null,null,null,null,null,null,null,null,null,null,0,0,""]
[null,null,null,null,null,null,null,null,null,null,null,null,null,null,"X","X","X","X",{"$f":"VLOOKUP(P7979,Lookup!A:B,2,FALSE)","v":"--"},{"$f":"VLOOKUP(Q7979,Lookup!A:B,2,FALSE)","v":"--"},{"$f":"VLOOKUP(R7979,Lookup!A:B,2,FALSE)","v":"--"},null,{"$f":"IF(E7979&F7979&G7979&I7979&K7979&M7979=\"\",\"\",IF(OR(H7979=\"\",D7979=\"\",AND(AC7979=0,'Contents & 6mo Restriction'!$BE$1=FALSE)),1,0))","v":""},"",0,0,0,0,0,0,null,null,null,null,null,null,null,null,null,null,null,null,null,null,null,null,null,null,null,null,null,null,null,null,null,null,null,null,null,null,null,null,null,null,null,null,null,null,null,null,null,null,null,null,null,null,null,null,null,null,null,null,null,null,null,null,null,null,null,null,null,null,null,null,null,null,null,null,null,null,null,null,null,null,null,null,null,null,null,null,null,null,null,null,null,null,null,null,null,null,null,null,null,null,null,null,null,null,null,null,null,null,0,0,""]
[null,null,null,null,null,null,null,null,null,null,null,null,null,null,"X","X","X","X",{"$f":"VLOOKUP(P8060,Lookup!A:B,2,FALSE)","v":"--"},{"$f":"VLOOKUP(Q8060,Lookup!A:B,2,FALSE)","v":"--"},{"$f":"VLOOKUP(R8060,Lookup!A:B,2,FALSE)","v":"--"},null,{"$f":"IF(E8060&F8060&G8060&I8060&K8060&M8060=\"\",\"\",IF(OR(H8060=\"\",D8060=\"\",AND(AC8060=0,'Contents & 6mo Restriction'!$BE$1=FALSE)),1,0))","v":""},"",0,0,0,0,0,0,null,null,null,null,null,null,null,null,null,null,null,null,null,null,null,null,null,null,null,null,null,null,null,null,null,null,null,null,null,null,null,null,null,null,null,null,null,null,null,null,null,null,null,null,null,null,null,null,null,null,null,null,null,null,null,null,null,null,null,null,null,null,null,null,null,null,null,null,null,null,null,null,null,null,null,null,null,null,null,null,null,null,null,null,null,null,null,null,null,null,null,null,null,null,null,null,null,null,null,null,null,null,0,0,""]
[null,null,null,null,null,null,null,null,null,null,null,null,null,null,"X","X","X","X",{"$f":"VLOOKUP(P8094,Lookup!A:B,2,FALSE)","v":"--"},{"$f":"VLOOKUP(Q8094,Lookup!A:B,2,FALSE)","v":"--"},{"$f":"VLOOKUP(R8094,Lookup!A:B,2,FALSE)","v":"--"},null,{"$f":"IF(E8094&F8094&G8094&I8094&K8094&M8094=\"\",\"\",IF(OR(H8094=\"\",D8094=\"\",AND(AC8094=0,'Contents & 6mo Restriction'!$BE$1=FALSE)),1,0))","v":""},"",0,0,0,0,0,0,null,null,null,null,null,null,null,null,null,null,null,null,null,null,null,null,null,null,null,null,null,null,null,null,null,null,null,null,null,null,null,null,null,null,null,null,null,null,null,null,null,null,null,null,null,null,null,null,null,null,null,null,null,null,null,null,null,null,null,null,null,null,null,null,null,null,null,null,null,null,null,null,null,null,null,null,null,null,null,null,null,null,null,null,null,null,null,null,null,null,null,null,null,null,null,null,null,null,null,null,null,null,0,0,""]
[null,null,null,null,null,null,null,null,null,null,null,null,null,null,"X","X","X","X",{"$f":"VLOOKUP(P8141,Lookup!A:B,2,FALSE)","v":"--"},{"$f":"VLOOKUP(Q8141,Lookup!A:B,2,FALSE)","v":"--"},{"$f":"VLOOKUP(R8141,Lookup!A:B,2,FALSE)","v":"--"},null,{"$f":"IF(E8141&F8141&G8141&I8141&K8141&M8141=\"\",\"\",IF(OR(H8141=\"\",D8141=\"\",AND(AC8141=0,'Contents & 6mo Restriction'!$BE$1=FALSE)),1,0))","v":""},"",0,0,0,0,0,0,null,null,null,null,null,null,null,null,null,null,null,null,null,null,null,null,null,null,null,null,null,null,null,null,null,null,null,null,null,null,null,null,null,null,null,null,null,null,null,null,null,null,null,null,null,null,null,null,null,null,null,null,null,null,null,null,null,null,null,null,null,null,null,null,null,null,null,null,null,null,null,null,null,null,null,null,null,null,null,null,null,null,null,null,null,null,null,null,null,null,null,null,null,null,null,null,null,null,null,null,null,null,0,0,""]
[null,null,null,null,null,null,null,null,null,null,null,null,null,null,"X","X","X","X",{"$f":"VLOOKUP(P8156,Lookup!A:B,2,FALSE)","v":"--"},{"$f":"VLOOKUP(Q8156,Lookup!A:B,2,FALSE)","v":"--"},{"$f":"VLOOKUP(R8156,Lookup!A:B,2,FALSE)","v":"--"},null,{"$f":"IF(E8156&F8156&G8156&I8156&K8156&M8156=\"\",\"\",IF(OR(H8156=\"\",D8156=\"\",AND(AC8156=0,'Contents & 6mo Restriction'!$BE$1=FALSE)),1,0))","v":""},"",0,0,0,0,0,0,null,null,null,null,null,null,null,null,null,null,null,null,null,null,null,null,null,null,null,null,null,null,null,null,null,null,null,null,null,null,null,null,null,null,null,null,null,null,null,null,null,null,null,null,null,null,null,null,null,null,null,null,null,null,null,null,null,null,null,null,null,null,null,null,null,null,null,null,null,null,null,null,null,null,null,null,null,null,null,null,null,null,null,null,null,null,null,null,null,null,null,null,null,null,null,null,null,null,null,null,null,null,0,0,""]
[null,null,null,null,null,null,null,null,null,null,null,null,null,null,"X","X","X","X",{"$f":"VLOOKUP(P8237,Lookup!A:B,2,FALSE)","v":"--"},{"$f":"VLOOKUP(Q8237,Lookup!A:B,2,FALSE)","v":"--"},{"$f":"VLOOKUP(R8237,Lookup!A:B,2,FALSE)","v":"--"},null,{"$f":"IF(E8237&F8237&G8237&I8237&K8237&M8237=\"\",\"\",IF(OR(H8237=\"\",D8237=\"\",AND(AC8237=0,'Contents & 6mo Restriction'!$BE$1=FALSE)),1,0))","v":""},"",0,0,0,0,0,0,null,null,null,null,null,null,null,null,null,null,null,null,null,null,null,null,null,null,null,null,null,null,null,null,null,null,null,null,null,null,null,null,null,null,null,null,null,null,null,null,null,null,null,null,null,null,null,null,null,null,null,null,null,null,null,null,null,null,null,null,null,null,null,null,null,null,null,null,null,null,null,null,null,null,null,null,null,null,null,null,null,null,null,null,null,null,null,null,null,null,null,null,null,null,null,null,null,null,null,null,null,null,0,0,""]
[null,null,null,null,null,null,null,null,null,null,null,null,null,null,"X","X","X","X",{"$f":"VLOOKUP(P8266,Lookup!A:B,2,FALSE)","v":"--"},{"$f":"VLOOKUP(Q8266,Lookup!A:B,2,FALSE)","v":"--"},{"$f":"VLOOKUP(R8266,Lookup!A:B,2,FALSE)","v":"--"},null,{"$f":"IF(E8266&F8266&G8266&I8266&K8266&M8266=\"\",\"\",IF(OR(H8266=\"\",D8266=\"\",AND(AC8266=0,'Contents & 6mo Restriction'!$BE$1=FALSE)),1,0))","v":""},"",0,0,0,0,0,0,null,null,null,null,null,null,null,null,null,null,null,null,null,null,null,null,null,null,null,null,null,null,null,null,null,null,null,null,null,null,null,null,null,null,null,null,null,null,null,null,null,null,null,null,null,null,null,null,null,null,null,null,null,null,null,null,null,null,null,null,null,null,null,null,null,null,null,null,null,null,null,null,null,null,null,null,null,null,null,null,null,null,null,null,null,null,null,null,null,null,null,null,null,null,null,null,null,null,null,null,null,null,0,0,""]
[null,null,null,null,null,null,null,null,null,null,null,null,null,null,"X","X","X","X",{"$f":"VLOOKUP(P8336,Lookup!A:B,2,FALSE)","v":"--"},{"$f":"VLOOKUP(Q8336,Lookup!A:B,2,FALSE)","v":"--"},{"$f":"VLOOKUP(R8336,Lookup!A:B,2,FALSE)","v":"--"},null,{"$f":"IF(E8336&F8336&G8336&I8336&K8336&M8336=\"\",\"\",IF(OR(H8336=\"\",D8336=\"\",AND(AC8336=0,'Contents & 6mo Restriction'!$BE$1=FALSE)),1,0))","v":""},"",0,0,0,0,0,0,null,null,null,null,null,null,null,null,null,null,null,null,null,null,null,null,null,null,null,null,null,null,null,null,null,null,null,null,null,null,null,null,null,null,null,null,null,null,null,null,null,null,null,null,null,null,null,null,null,null,null,null,null,null,null,null,null,null,null,null,null,null,null,null,null,null,null,null,null,null,null,null,null,null,null,null,null,null,null,null,null,null,null,null,null,null,null,null,null,null,null,null,null,null,null,null,null,null,null,null,null,null,0,0,""]
[null,null,null,null,null,null,null,null,null,null,null,null,null,null,"X","X","X","X",{"$f":"VLOOKUP(P8375,Lookup!A:B,2,FALSE)","v":"--"},{"$f":"VLOOKUP(Q8375,Lookup!A:B,2,FALSE)","v":"--"},{"$f":"VLOOKUP(R8375,Lookup!A:B,2,FALSE)","v":"--"},null,{"$f":"IF(E8375&F8375&G8375&I8375&K8375&M8375=\"\",\"\",IF(OR(H8375=\"\",D8375=\"\",AND(AC8375=0,'Contents & 6mo Restriction'!$BE$1=FALSE)),1,0))","v":""},"",0,0,0,0,0,0,null,null,null,null,null,null,null,null,null,null,null,null,null,null,null,null,null,null,null,null,null,null,null,null,null,null,null,null,null,null,null,null,null,null,null,null,null,null,null,null,null,null,null,null,null,null,null,null,null,null,null,null,null,null,null,null,null,null,null,null,null,null,null,null,null,null,null,null,null,null,null,null,null,null,null,null,null,null,null,null,null,null,null,null,null,null,null,null,null,null,null,null,null,null,null,null,null,null,null,null,null,null,0,0,""]
[null,null,null,null,null,null,null,null,null,null,null,null,null,null,"X","X","X","X",{"$f":"VLOOKUP(P8409,Lookup!A:B,2,FALSE)","v":"--"},{"$f":"VLOOKUP(Q8409,Lookup!A:B,2,FALSE)","v":"--"},{"$f":"VLOOKUP(R8409,Lookup!A:B,2,FALSE)","v":"--"},null,{"$f":"IF(E8409&F8409&G8409&I8409&K8409&M8409=\"\",\"\",IF(OR(H8409=\"\",D8409=\"\",AND(AC8409=0,'Contents & 6mo Restriction'!$BE$1=FALSE)),1,0))","v":""},"",0,0,0,0,0,0,null,null,null,null,null,null,null,null,null,null,null,null,null,null,null,null,null,null,null,null,null,null,null,null,null,null,null,null,null,null,null,null,null,null,null,null,null,null,null,null,null,null,null,null,null,null,null,null,null,null,null,null,null,null,null,null,null,null,null,null,null,null,null,null,null,null,null,null,null,null,null,null,null,null,null,null,null,null,null,null,null,null,null,null,null,null,null,null,null,null,null,null,null,null,null,null,null,null,null,null,null,null,0,0,""]
[null,null,null,null,null,null,null,null,null,null,null,null,null,null,"X","X","X","X",{"$f":"VLOOKUP(P8443,Lookup!A:B,2,FALSE)","v":"--"},{"$f":"VLOOKUP(Q8443,Lookup!A:B,2,FALSE)","v":"--"},{"$f":"VLOOKUP(R8443,Lookup!A:B,2,FALSE)","v":"--"},null,{"$f":"IF(E8443&F8443&G8443&I8443&K8443&M8443=\"\",\"\",IF(OR(H8443=\"\",D8443=\"\",AND(AC8443=0,'Contents & 6mo Restriction'!$BE$1=FALSE)),1,0))","v":""},"",0,0,0,0,0,0,null,null,null,null,null,null,null,null,null,null,null,null,null,null,null,null,null,null,null,null,null,null,null,null,null,null,null,null,null,null,null,null,null,null,null,null,null,null,null,null,null,null,null,null,null,null,null,null,null,null,null,null,null,null,null,null,null,null,null,null,null,null,null,null,null,null,null,null,null,null,null,null,null,null,null,null,null,null,null,null,null,null,null,null,null,null,null,null,null,null,null,null,null,null,null,null,null,null,null,null,null,null,0,0,""]
[null,null,null,null,null,null,null,null,null,null,null,null,null,null,"X","X","X","X",{"$f":"VLOOKUP(P8519,Lookup!A:B,2,FALSE)","v":"--"},{"$f":"VLOOKUP(Q8519,Lookup!A:B,2,FALSE)","v":"--"},{"$f":"VLOOKUP(R8519,Lookup!A:B,2,FALSE)","v":"--"},null,{"$f":"IF(E8519&F8519&G8519&I8519&K8519&M8519=\"\",\"\",IF(OR(H8519=\"\",D8519=\"\",AND(AC8519=0,'Contents & 6mo Restriction'!$BE$1=FALSE)),1,0))","v":""},"",0,0,0,0,0,0,null,null,null,null,null,null,null,null,null,null,null,null,null,null,null,null,null,null,null,null,null,null,null,null,null,null,null,null,null,null,null,null,null,null,null,null,null,null,null,null,null,null,null,null,null,null,null,null,null,null,null,null,null,null,null,null,null,null,null,null,null,null,null,null,null,null,null,null,null,null,null,null,null,null,null,null,null,null,null,null,null,null,null,null,null,null,null,null,null,null,null,null,null,null,null,null,null,null,null,null,null,null,0,0,""]
[null,null,null,null,null,null,null,null,null,null,null,null,null,null,"X","X","X","X",{"$f":"VLOOKUP(P8543,Lookup!A:B,2,FALSE)","v":"--"},{"$f":"VLOOKUP(Q8543,Lookup!A:B,2,FALSE)","v":"--"},{"$f":"VLOOKUP(R8543,Lookup!A:B,2,FALSE)","v":"--"},null,{"$f":"IF(E8543&F8543&G8543&I8543&K8543&M8543=\"\",\"\",IF(OR(H8543=\"\",D8543=\"\",AND(AC8543=0,'Contents & 6mo Restriction'!$BE$1=FALSE)),1,0))","v":""},"",0,0,0,0,0,0,null,null,null,null,null,null,null,null,null,null,null,null,null,null,null,null,null,null,null,null,null,null,null,null,null,null,null,null,null,null,null,null,null,null,null,null,null,null,null,null,null,null,null,null,null,null,null,null,null,null,null,null,null,null,null,null,null,null,null,null,null,null,null,null,null,null,null,null,null,null,null,null,null,null,null,null,null,null,null,null,null,null,null,null,null,null,null,null,null,null,null,null,null,null,null,null,null,null,null,null,null,null,0,0,""]
[null,null,null,null,null,null,null,null,null,null,null,null,null,null,"X","X","X","X",{"$f":"VLOOKUP(P8586,Lookup!A:B,2,FALSE)","v":"--"},{"$f":"VLOOKUP(Q8586,Lookup!A:B,2,FALSE)","v":"--"},{"$f":"VLOOKUP(R8586,Lookup!A:B,2,FALSE)","v":"--"},null,{"$f":"IF(E8586&F8586&G8586&I8586&K8586&M8586=\"\",\"\",IF(OR(H8586=\"\",D8586=\"\",AND(AC8586=0,'Contents & 6mo Restriction'!$BE$1=FALSE)),1,0))","v":""},"",0,0,0,0,0,0,null,null,null,null,null,null,null,null,null,null,null,null,null,null,null,null,null,null,null,null,null,null,null,null,null,null,null,null,null,null,null,null,null,null,null,null,null,null,null,null,null,null,null,null,null,null,null,null,null,null,null,null,null,null,null,null,null,null,null,null,null,null,null,null,null,null,null,null,null,null,null,null,null,null,null,null,null,null,null,null,null,null,null,null,null,null,null,null,null,null,null,null,null,null,null,null,null,null,null,null,null,null,0,0,""]
[null,null,null,null,null,null,null,null,null,null,null,null,null,null,"X","X","X","X",{"$f":"VLOOKUP(P8662,Lookup!A:B,2,FALSE)","v":"--"},{"$f":"VLOOKUP(Q8662,Lookup!A:B,2,FALSE)","v":"--"},{"$f":"VLOOKUP(R8662,Lookup!A:B,2,FALSE)","v":"--"},null,{"$f":"IF(E8662&F8662&G8662&I8662&K8662&M8662=\"\",\"\",IF(OR(H8662=\"\",D8662=\"\",AND(AC8662=0,'Contents & 6mo Restriction'!$BE$1=FALSE)),1,0))","v":""},{"$f":"IF(CONCATENATE(B8662,C8662,E8662,F8662,G8662)=\"\",\"\",1)","v":""},{"$f":"IF(AND(W8662=0,OR(S8662=\"a\",S8662=\"b\",S8662=\"c\",S8662=\"d\",S8662=\"e\",T8662=\"a\",T8662=\"b\",T8662=\"c\",T8662=\"d\",T8662=\"e\",U8662=\"a\",U8662=\"b\",U8662=\"c\",U8662=\"d\",U8662=\"e\")),1,0)","v":0},{"$f":"IF(AND(OR(S8662=\"a\",S8662=\"b\",S8662=\"c\",S8662=\"d\",S8662=\"e\"),OR(T8662=\"a\",T8662=\"b\",T8662=\"c\",T8662=\"d\",T8662=\"e\"),OR(U8662=\"a\",U8662=\"b\",U8662=\"c\",U8662=\"d\",U8662=\"e\"),W8662=0),1,0)","v":0},{"$f":"IF(SUM(AB8662:AD8662)>0,1,0)","v":0},{"$f":"IF(H8662>=DATE(YEAR(D8662),MONTH(D8662)+6,DAY(D8662)),1,0)","v":0},{"$f":"IF(H8662-D8662>=182,1,0)","v":0},{"$f":"IF(OR(AND(MONTH(D8662)=8,DAY(D8662)=30,H8662-D8662>=182),AND(MONTH(D8662)=8,DAY(D8662)=31,H8662-D8662>=181),AND(MONTH(D8662)=10,DAY(D8662)=31,H8662-D8662>=181),AND(MONTH(D8662)=12,DAY(D8662)=31,H8662-D8662>=181)),1,0)","v":0},null,null,null,null,null,null,null,null,null,null,null,null,null,null,null,null,null,null,null,null,null,null,null,null,null,null,null,null,null,null,null,null,null,null,null,null,null,null,null,null,null,null,null,null,null,null,null,null,null,null,null,null,null,null,null,null,null,null,null,null,null,null,null,null,null,null,null,null,null,null,null,null,null,null,null,null,null,null,null,null,null,null,null,null,null,null,null,null,null,null,null,null,null,null,null,null,null,null,null,null,null,null,0,0,{"$f":"IFERROR(W8662,\"Please enter valid dates\")","v":""}]
[null,null,null,null,null,null,null,null,null,null,null,null,null,null,"X","X","X","X",{"$f":"VLOOKUP(P8696,Lookup!A:B,2,FALSE)","v":"--"},{"$f":"VLOOKUP(Q8696,Lookup!A:B,2,FALSE)","v":"--"},{"$f":"VLOOKUP(R8696,Lookup!A:B,2,FALSE)","v":"--"},null,{"$f":"IF(E8696&F8696&G8696&I8696&K8696&M8696=\"\",\"\",IF(OR(H8696=\"\",D8696=\"\",AND(AC8696=0,'Contents & 6mo Restriction'!$BE$1=FALSE)),1,0))","v":""},"",0,0,0,0,0,0,null,null,null,null,null,null,null,null,null,null,null,null,null,null,null,null,null,null,null,null,null,null,null,null,null,null,null,null,null,null,null,null,null,null,null,null,null,null,null,null,null,null,null,null,null,null,null,null,null,null,null,null,null,null,null,null,null,null,null,null,null,null,null,null,null,null,null,null,null,null,null,null,null,null,null,null,null,null,null,null,null,null,null,null,null,null,null,null,null,null,null,null,null,null,null,null,null,null,null,null,null,null,0,0,""]
[null,null,null,null,null,null,null,null,null,null,null,null,null,null,"X","X","X","X",{"$f":"VLOOKUP(P8750,Lookup!A:B,2,FALSE)","v":"--"},{"$f":"VLOOKUP(Q8750,Lookup!A:B,2,FALSE)","v":"--"},{"$f":"VLOOKUP(R8750,Lookup!A:B,2,FALSE)","v":"--"},null,{"$f":"IF(E8750&F8750&G8750&I8750&K8750&M8750=\"\",\"\",IF(OR(H8750=\"\",D8750=\"\",AND(AC8750=0,'Contents & 6mo Restriction'!$BE$1=FALSE)),1,0))","v":""},"",0,0,0,0,0,0,null,null,null,null,null,null,null,null,null,null,null,null,null,null,null,null,null,null,null,null,null,null,null,null,null,null,null,null,null,null,null,null,null,null,null,null,null,null,null,null,null,null,null,null,null,null,null,null,null,null,null,null,null,null,null,null,null,null,null,null,null,null,null,null,null,null,null,null,null,null,null,null,null,null,null,null,null,null,null,null,null,null,null,null,null,null,null,null,null,null,null,null,null,null,null,null,null,null,null,null,null,null,0,0,""]
[null,null,null,null,null,null,null,null,null,null,null,null,null,null,"X","X","X","X",{"$f":"VLOOKUP(P8805,Lookup!A:B,2,FALSE)","v":"--"},{"$f":"VLOOKUP(Q8805,Lookup!A:B,2,FALSE)","v":"--"},{"$f":"VLOOKUP(R8805,Lookup!A:B,2,FALSE)","v":"--"},null,{"$f":"IF(E8805&F8805&G8805&I8805&K8805&M8805=\"\",\"\",IF(OR(H8805=\"\",D8805=\"\",AND(AC8805=0,'Contents & 6mo Restriction'!$BE$1=FALSE)),1,0))","v":""},"",0,0,0,0,0,0,null,null,null,null,null,null,null,null,null,null,null,null,null,null,null,null,null,null,null,null,null,null,null,null,null,null,null,null,null,null,null,null,null,null,null,null,null,null,null,null,null,null,null,null,null,null,null,null,null,null,null,null,null,null,null,null,null,null,null,null,null,null,null,null,null,null,null,null,null,null,null,null,null,null,null,null,null,null,null,null,null,null,null,null,null,null,null,null,null,null,null,null,null,null,null,null,null,null,null,null,null,null,0,0,""]
[null,null,null,null,null,null,null,null,null,null,null,null,null,null,"X","X","X","X",{"$f":"VLOOKUP(P8839,Lookup!A:B,2,FALSE)","v":"--"},{"$f":"VLOOKUP(Q8839,Lookup!A:B,2,FALSE)","v":"--"},{"$f":"VLOOKUP(R8839,Lookup!A:B,2,FALSE)","v":"--"},null,{"$f":"IF(E8839&F8839&G8839&I8839&K8839&M8839=\"\",\"\",IF(OR(H8839=\"\",D8839=\"\",AND(AC8839=0,'Contents & 6mo Restriction'!$BE$1=FALSE)),1,0))","v":""},"",0,0,0,0,0,0,null,null,null,null,null,null,null,null,null,null,null,null,null,null,null,null,null,null,null,null,null,null,null,null,null,null,null,null,null,null,null,null,null,null,null,null,null,null,null,null,null,null,null,null,null,null,null,null,null,null,null,null,null,null,null,null,null,null,null,null,null,null,null,null,null,null,null,null,null,null,null,null,null,null,null,null,null,null,null,null,null,null,null,null,null,null,null,null,null,null,null,null,null,null,null,null,null,null,null,null,null,null,0,0,""]
[null,null,null,null,null,null,null,null,null,null,null,null,null,null,"X","X","X","X",{"$f":"VLOOKUP(P8868,Lookup!A:B,2,FALSE)","v":"--"},{"$f":"VLOOKUP(Q8868,Lookup!A:B,2,FALSE)","v":"--"},{"$f":"VLOOKUP(R8868,Lookup!A:B,2,FALSE)","v":"--"},null,{"$f":"IF(E8868&F8868&G8868&I8868&K8868&M8868=\"\",\"\",IF(OR(H8868=\"\",D8868=\"\",AND(AC8868=0,'Contents & 6mo Restriction'!$BE$1=FALSE)),1,0))","v":""},"",0,0,0,0,0,0,null,null,null,null,null,null,null,null,null,null,null,null,null,null,null,null,null,null,null,null,null,null,null,null,null,null,null,null,null,null,null,null,null,null,null,null,null,null,null,null,null,null,null,null,null,null,null,null,null,null,null,null,null,null,null,null,null,null,null,null,null,null,null,null,null,null,null,null,null,null,null,null,null,null,null,null,null,null,null,null,null,null,null,null,null,null,null,null,null,null,null,null,null,null,null,null,null,null,null,null,null,null,0,0,""]
[null,null,null,null,null,null,null,null,null,null,null,null,null,null,"X","X","X","X",{"$f":"VLOOKUP(P8949,Lookup!A:B,2,FALSE)","v":"--"},{"$f":"VLOOKUP(Q8949,Lookup!A:B,2,FALSE)","v":"--"},{"$f":"VLOOKUP(R8949,Lookup!A:B,2,FALSE)","v":"--"},null,{"$f":"IF(E8949&F8949&G8949&I8949&K8949&M8949=\"\",\"\",IF(OR(H8949=\"\",D8949=\"\",AND(AC8949=0,'Contents & 6mo Restriction'!$BE$1=FALSE)),1,0))","v":""},"",0,0,0,0,0,0,null,null,null,null,null,null,null,null,null,null,null,null,null,null,null,null,null,null,null,null,null,null,null,null,null,null,null,null,null,null,null,null,null,null,null,null,null,null,null,null,null,null,null,null,null,null,null,null,null,null,null,null,null,null,null,null,null,null,null,null,null,null,null,null,null,null,null,null,null,null,null,null,null,null,null,null,null,null,null,null,null,null,null,null,null,null,null,null,null,null,null,null,null,null,null,null,null,null,null,null,null,null,0,0,""]
[null,null,null,null,null,null,null,null,null,null,null,null,null,null,"X","X","X","X",{"$f":"VLOOKUP(P8957,Lookup!A:B,2,FALSE)","v":"--"},{"$f":"VLOOKUP(Q8957,Lookup!A:B,2,FALSE)","v":"--"},{"$f":"VLOOKUP(R8957,Lookup!A:B,2,FALSE)","v":"--"},null,{"$f":"IF(E8957&F8957&G8957&I8957&K8957&M8957=\"\",\"\",IF(OR(H8957=\"\",D8957=\"\",AND(AC8957=0,'Contents & 6mo Restriction'!$BE$1=FALSE)),1,0))","v":""},"",0,0,0,0,0,0,null,null,null,null,null,null,null,null,null,null,null,null,null,null,null,null,null,null,null,null,null,null,null,null,null,null,null,null,null,null,null,null,null,null,null,null,null,null,null,null,null,null,null,null,null,null,null,null,null,null,null,null,null,null,null,null,null,null,null,null,null,null,null,null,null,null,null,null,null,null,null,null,null,null,null,null,null,null,null,null,null,null,null,null,null,null,null,null,null,null,null,null,null,null,null,null,null,null,null,null,null,null,0,0,""]
[null,null,null,null,null,null,null,null,null,null,null,null,null,null,"X","X","X","X",{"$f":"VLOOKUP(P9011,Lookup!A:B,2,FALSE)","v":"--"},{"$f":"VLOOKUP(Q9011,Lookup!A:B,2,FALSE)","v":"--"},{"$f":"VLOOKUP(R9011,Lookup!A:B,2,FALSE)","v":"--"},null,{"$f":"IF(E9011&F9011&G9011&I9011&K9011&M9011=\"\",\"\",IF(OR(H9011=\"\",D9011=\"\",AND(AC9011=0,'Contents & 6mo Restriction'!$BE$1=FALSE)),1,0))","v":""},"",0,0,0,0,0,0,null,null,null,null,null,null,null,null,null,null,null,null,null,null,null,null,null,null,null,null,null,null,null,null,null,null,null,null,null,null,null,null,null,null,null,null,null,null,null,null,null,null,null,null,null,null,null,null,null,null,null,null,null,null,null,null,null,null,null,null,null,null,null,null,null,null,null,null,null,null,null,null,null,null,null,null,null,null,null,null,null,null,null,null,null,null,null,null,null,null,null,null,null,null,null,null,null,null,null,null,null,null,0,0,""]
[null,null,null,null,null,null,null,null,null,null,null,null,null,null,"X","X","X","X",{"$f":"VLOOKUP(P9045,Lookup!A:B,2,FALSE)","v":"--"},{"$f":"VLOOKUP(Q9045,Lookup!A:B,2,FALSE)","v":"--"},{"$f":"VLOOKUP(R9045,Lookup!A:B,2,FALSE)","v":"--"},null,{"$f":"IF(E9045&F9045&G9045&I9045&K9045&M9045=\"\",\"\",IF(OR(H9045=\"\",D9045=\"\",AND(AC9045=0,'Contents & 6mo Restriction'!$BE$1=FALSE)),1,0))","v":""},"",0,0,0,0,0,0,null,null,null,null,null,null,null,null,null,null,null,null,null,null,null,null,null,null,null,null,null,null,null,null,null,null,null,null,null,null,null,null,null,null,null,null,null,null,null,null,null,null,null,null,null,null,null,null,null,null,null,null,null,null,null,null,null,null,null,null,null,null,null,null,null,null,null,null,null,null,null,null,null,null,null,null,null,null,null,null,null,null,null,null,null,null,null,null,null,null,null,null,null,null,null,null,null,null,null,null,null,null,0,{"$f":"IF(ISERROR(FIND(\"progress\",S9045&T9045&U9045)),0,1)","v":0},""]
[null,null,null,null,null,null,null,null,null,null,null,null,null,null,"X","X","X","X",{"$f":"VLOOKUP(P9121,Lookup!A:B,2,FALSE)","v":"--"},{"$f":"VLOOKUP(Q9121,Lookup!A:B,2,FALSE)","v":"--"},{"$f":"VLOOKUP(R9121,Lookup!A:B,2,FALSE)","v":"--"},null,{"$f":"IF(E9121&F9121&G9121&I9121&K9121&M9121=\"\",\"\",IF(OR(H9121=\"\",D9121=\"\",AND(AC9121=0,'Contents & 6mo Restriction'!$BE$1=FALSE)),1,0))","v":""},"",0,0,0,0,0,0,null,null,null,null,null,null,null,null,null,null,null,null,null,null,null,null,null,null,null,null,null,null,null,null,null,null,null,null,null,null,null,null,null,null,null,null,null,null,null,null,null,null,null,null,null,null,null,null,null,null,null,null,null,null,null,null,null,null,null,null,null,null,null,null,null,null,null,null,null,null,null,null,null,null,null,null,null,null,null,null,null,null,null,null,null,null,null,null,null,null,null,null,null,null,null,null,null,null,null,null,null,null,0,0,""]
[null,null,null,null,null,null,null,null,null,null,null,null,null,null,"X","X","X","X",{"$f":"VLOOKUP(P9152,Lookup!A:B,2,FALSE)","v":"--"},{"$f":"VLOOKUP(Q9152,Lookup!A:B,2,FALSE)","v":"--"},{"$f":"VLOOKUP(R9152,Lookup!A:B,2,FALSE)","v":"--"},null,{"$f":"IF(E9152&F9152&G9152&I9152&K9152&M9152=\"\",\"\",IF(OR(H9152=\"\",D9152=\"\",AND(AC9152=0,'Contents & 6mo Restriction'!$BE$1=FALSE)),1,0))","v":""},"",0,0,0,0,0,0,null,null,null,null,null,null,null,null,null,null,null,null,null,null,null,null,null,null,null,null,null,null,null,null,null,null,null,null,null,null,null,null,null,null,null,null,null,null,null,null,null,null,null,null,null,null,null,null,null,null,null,null,null,null,null,null,null,null,null,null,null,null,null,null,null,null,null,null,null,null,null,null,null,null,null,null,null,null,null,null,null,null,null,null,null,null,null,null,null,null,null,null,null,null,null,null,null,null,null,null,null,null,0,0,""]
[null,null,null,null,null,null,null,null,null,null,null,null,null,null,"X","X","X","X",{"$f":"VLOOKUP(P9188,Lookup!A:B,2,FALSE)","v":"--"},{"$f":"VLOOKUP(Q9188,Lookup!A:B,2,FALSE)","v":"--"},{"$f":"VLOOKUP(R9188,Lookup!A:B,2,FALSE)","v":"--"},null,{"$f":"IF(E9188&F9188&G9188&I9188&K9188&M9188=\"\",\"\",IF(OR(H9188=\"\",D9188=\"\",AND(AC9188=0,'Contents & 6mo Restriction'!$BE$1=FALSE)),1,0))","v":""},"",0,0,0,0,0,0,null,null,null,null,null,null,null,null,null,null,null,null,null,null,null,null,null,null,null,null,null,null,null,null,null,null,null,null,null,null,null,null,null,null,null,null,null,null,null,null,null,null,null,null,null,null,null,null,null,null,null,null,null,null,null,null,null,null,null,null,null,null,null,null,null,null,null,null,null,null,null,null,null,null,null,null,null,null,null,null,null,null,null,null,null,null,null,null,null,null,null,null,null,null,null,null,null,null,null,null,null,null,0,0,""]
[null,null,null,null,null,null,null,null,null,null,null,null,null,null,"X","X","X","X",{"$f":"VLOOKUP(P9264,Lookup!A:B,2,FALSE)","v":"--"},{"$f":"VLOOKUP(Q9264,Lookup!A:B,2,FALSE)","v":"--"},{"$f":"VLOOKUP(R9264,Lookup!A:B,2,FALSE)","v":"--"},null,{"$f":"IF(E9264&F9264&G9264&I9264&K9264&M9264=\"\",\"\",IF(OR(H9264=\"\",D9264=\"\",AND(AC9264=0,'Contents & 6mo Restriction'!$BE$1=FALSE)),1,0))","v":""},"",0,0,0,0,0,0,null,null,null,null,null,null,null,null,null,null,null,null,null,null,null,null,null,null,null,null,null,null,null,null,null,null,null,null,null,null,null,null,null,null,null,null,null,null,null,null,null,null,null,null,null,null,null,null,null,null,null,null,null,null,null,null,null,null,null,null,null,null,null,null,null,null,null,null,null,null,null,null,null,null,null,null,null,null,null,null,null,null,null,null,null,null,null,null,null,null,null,null,null,null,null,null,null,null,null,null,null,null,0,0,""]
[null,null,null,null,null,null,null,null,null,null,null,null,null,null,"X","X","X","X",{"$f":"VLOOKUP(P9298,Lookup!A:B,2,FALSE)","v":"--"},{"$f":"VLOOKUP(Q9298,Lookup!A:B,2,FALSE)","v":"--"},{"$f":"VLOOKUP(R9298,Lookup!A:B,2,FALSE)","v":"--"},null,{"$f":"IF(E9298&F9298&G9298&I9298&K9298&M9298=\"\",\"\",IF(OR(H9298=\"\",D9298=\"\",AND(AC9298=0,'Contents & 6mo Restriction'!$BE$1=FALSE)),1,0))","v":""},"",0,0,0,0,0,0,null,null,null,null,null,null,null,null,null,null,null,null,null,null,null,null,null,null,null,null,null,null,null,null,null,null,null,null,null,null,null,null,null,null,null,null,null,null,null,null,null,null,null,null,null,null,null,null,null,null,null,null,null,null,null,null,null,null,null,null,null,null,null,null,null,null,null,null,null,null,null,null,null,null,null,null,null,null,null,null,null,null,null,null,null,null,null,null,null,null,null,null,null,null,null,null,null,null,null,null,null,null,0,0,""]
[null,null,null,null,null,null,null,null,null,null,null,null,null,null,"X",{"$f":"CONCATENATE(E9327,I9327,J9327,O9327)","v":"X"},{"$f":"CONCATENATE(F9327,K9327,L9327,O9327)","v":"X"},{"$f":"CONCATENATE(G9327,M9327,N9327,O9327)","v":"X"},{"$f":"VLOOKUP(P9327,Lookup!A:B,2,FALSE)","v":"--"},{"$f":"VLOOKUP(Q9327,Lookup!A:B,2,FALSE)","v":"--"},{"$f":"VLOOKUP(R9327,Lookup!A:B,2,FALSE)","v":"--"},null,{"$f":"IF(E9327&F9327&G9327&I9327&K9327&M9327=\"\",\"\",IF(OR(H9327=\"\",D9327=\"\",AND(AC9327=0,'Contents & 6mo Restriction'!$BE$1=FALSE)),1,0))","v":""},"",0,0,0,0,0,0,null,null,null,null,null,null,null,null,null,null,null,null,null,null,null,null,null,null,null,null,null,null,null,null,null,null,null,null,null,null,null,null,null,null,null,null,null,null,null,null,null,null,null,null,null,null,null,null,null,null,null,null,null,null,null,null,null,null,null,null,null,null,null,null,null,null,null,null,null,null,null,null,null,null,null,null,null,null,null,null,null,null,null,null,null,null,null,null,null,null,null,null,null,null,null,null,null,null,null,null,null,null,0,0,""]
[null,null,null,null,null,null,null,null,null,null,null,null,null,null,"X","X","X","X",{"$f":"VLOOKUP(P9405,Lookup!A:B,2,FALSE)","v":"--"},{"$f":"VLOOKUP(Q9405,Lookup!A:B,2,FALSE)","v":"--"},{"$f":"VLOOKUP(R9405,Lookup!A:B,2,FALSE)","v":"--"},null,{"$f":"IF(E9405&F9405&G9405&I9405&K9405&M9405=\"\",\"\",IF(OR(H9405=\"\",D9405=\"\",AND(AC9405=0,'Contents & 6mo Restriction'!$BE$1=FALSE)),1,0))","v":""},"",0,0,0,0,0,0,null,null,null,null,null,null,null,null,null,null,null,null,null,null,null,null,null,null,null,null,null,null,null,null,null,null,null,null,null,null,null,null,null,null,null,null,null,null,null,null,null,null,null,null,null,null,null,null,null,null,null,null,null,null,null,null,null,null,null,null,null,null,null,null,null,null,null,null,null,null,null,null,null,null,null,null,null,null,null,null,null,null,null,null,null,null,null,null,null,null,null,null,null,null,null,null,null,null,null,null,null,null,0,0,""]
[null,null,null,null,null,null,null,null,null,null,null,null,null,null,"X","X","X","X",{"$f":"VLOOKUP(P9441,Lookup!A:B,2,FALSE)","v":"--"},{"$f":"VLOOKUP(Q9441,Lookup!A:B,2,FALSE)","v":"--"},{"$f":"VLOOKUP(R9441,Lookup!A:B,2,FALSE)","v":"--"},null,{"$f":"IF(E9441&F9441&G9441&I9441&K9441&M9441=\"\",\"\",IF(OR(H9441=\"\",D9441=\"\",AND(AC9441=0,'Contents & 6mo Restriction'!$BE$1=FALSE)),1,0))","v":""},"",0,0,0,0,0,0,null,null,null,null,null,null,null,null,null,null,null,null,null,null,null,null,null,null,null,null,null,null,null,null,null,null,null,null,null,null,null,null,null,null,null,null,null,null,null,null,null,null,null,null,null,null,null,null,null,null,null,null,null,null,null,null,null,null,null,null,null,null,null,null,null,null,null,null,null,null,null,null,null,null,null,null,null,null,null,null,null,null,null,null,null,null,null,null,null,null,null,null,null,null,null,null,null,null,null,null,null,null,0,0,""]
[null,null,null,null,null,null,null,null,null,null,null,null,null,null,"X","X","X","X",{"$f":"VLOOKUP(P9470,Lookup!A:B,2,FALSE)","v":"--"},{"$f":"VLOOKUP(Q9470,Lookup!A:B,2,FALSE)","v":"--"},{"$f":"VLOOKUP(R9470,Lookup!A:B,2,FALSE)","v":"--"},null,{"$f":"IF(E9470&F9470&G9470&I9470&K9470&M9470=\"\",\"\",IF(OR(H9470=\"\",D9470=\"\",AND(AC9470=0,'Contents & 6mo Restriction'!$BE$1=FALSE)),1,0))","v":""},"",0,0,0,0,0,0,null,null,null,null,null,null,null,null,null,null,null,null,null,null,null,null,null,null,null,null,null,null,null,null,null,null,null,null,null,null,null,null,null,null,null,null,null,null,null,null,null,null,null,null,null,null,null,null,null,null,null,null,null,null,null,null,null,null,null,null,null,null,null,null,null,null,null,null,null,null,null,null,null,null,null,null,null,null,null,null,null,null,null,null,null,null,null,null,null,null,null,null,null,null,null,null,null,null,null,null,null,null,0,0,""]
[null,null,null,null,null,null,null,null,null,null,null,null,null,null,"X","X","X","X",{"$f":"VLOOKUP(P9551,Lookup!A:B,2,FALSE)","v":"--"},{"$f":"VLOOKUP(Q9551,Lookup!A:B,2,FALSE)","v":"--"},{"$f":"VLOOKUP(R9551,Lookup!A:B,2,FALSE)","v":"--"},null,{"$f":"IF(E9551&F9551&G9551&I9551&K9551&M9551=\"\",\"\",IF(OR(H9551=\"\",D9551=\"\",AND(AC9551=0,'Contents & 6mo Restriction'!$BE$1=FALSE)),1,0))","v":""},"",0,0,0,0,0,0,null,null,null,null,null,null,null,null,null,null,null,null,null,null,null,null,null,null,null,null,null,null,null,null,null,null,null,null,null,null,null,null,null,null,null,null,null,null,null,null,null,null,null,null,null,null,null,null,null,null,null,null,null,null,null,null,null,null,null,null,null,null,null,null,null,null,null,null,null,null,null,null,null,null,null,null,null,null,null,null,null,null,null,null,null,null,null,null,null,null,null,null,null,null,null,null,null,null,null,null,null,null,0,0,""]
[null,null,null,null,null,null,null,null,null,null,null,null,null,null,"X","X","X","X",{"$f":"VLOOKUP(P9580,Lookup!A:B,2,FALSE)","v":"--"},{"$f":"VLOOKUP(Q9580,Lookup!A:B,2,FALSE)","v":"--"},{"$f":"VLOOKUP(R9580,Lookup!A:B,2,FALSE)","v":"--"},null,{"$f":"IF(E9580&F9580&G9580&I9580&K9580&M9580=\"\",\"\",IF(OR(H9580=\"\",D9580=\"\",AND(AC9580=0,'Contents & 6mo Restriction'!$BE$1=FALSE)),1,0))","v":""},"",0,0,0,0,0,0,null,null,null,null,null,null,null,null,null,null,null,null,null,null,null,null,null,null,null,null,null,null,null,null,null,null,null,null,null,null,null,null,null,null,null,null,null,null,null,null,null,null,null,null,null,null,null,null,null,null,null,null,null,null,null,null,null,null,null,null,null,null,null,null,null,null,null,null,null,null,null,null,null,null,null,null,null,null,null,null,null,null,null,null,null,null,null,null,null,null,null,null,null,null,null,null,null,null,null,null,null,null,0,0,""]
[null,null,null,null,null,null,null,null,null,null,null,null,null,null,"X","X","X","X",{"$f":"VLOOKUP(P9612,Lookup!A:B,2,FALSE)","v":"--"},{"$f":"VLOOKUP(Q9612,Lookup!A:B,2,FALSE)","v":"--"},{"$f":"VLOOKUP(R9612,Lookup!A:B,2,FALSE)","v":"--"},null,{"$f":"IF(E9612&F9612&G9612&I9612&K9612&M9612=\"\",\"\",IF(OR(H9612=\"\",D9612=\"\",AND(AC9612=0,'Contents & 6mo Restriction'!$BE$1=FALSE)),1,0))","v":""},"",0,0,0,0,0,0,null,null,null,null,null,null,null,null,null,null,null,null,null,null,null,null,null,null,null,null,null,null,null,null,null,null,null,null,null,null,null,null,null,null,null,null,null,null,null,null,null,null,null,null,null,null,null,null,null,null,null,null,null,null,null,null,null,null,null,null,null,null,null,null,null,null,null,null,null,null,null,null,null,null,null,null,null,null,null,null,null,null,null,null,null,null,null,null,null,null,null,null,null,null,null,null,null,null,null,null,null,null,0,0,""]
[null,null,null,null,null,null,null,null,null,null,null,null,null,null,"X","X","X","X",{"$f":"VLOOKUP(P9694,Lookup!A:B,2,FALSE)","v":"--"},{"$f":"VLOOKUP(Q9694,Lookup!A:B,2,FALSE)","v":"--"},{"$f":"VLOOKUP(R9694,Lookup!A:B,2,FALSE)","v":"--"},null,{"$f":"IF(E9694&F9694&G9694&I9694&K9694&M9694=\"\",\"\",IF(OR(H9694=\"\",D9694=\"\",AND(AC9694=0,'Contents & 6mo Restriction'!$BE$1=FALSE)),1,0))","v":""},"",0,0,0,0,0,0,null,null,null,null,null,null,null,null,null,null,null,null,null,null,null,null,null,null,null,null,null,null,null,null,null,null,null,null,null,null,null,null,null,null,null,null,null,null,null,null,null,null,null,null,null,null,null,null,null,null,null,null,null,null,null,null,null,null,null,null,null,null,null,null,null,null,null,null,null,null,null,null,null,null,null,null,null,null,null,null,null,null,null,null,null,null,null,null,null,null,null,null,null,null,null,null,null,null,null,null,null,null,0,0,""]
[null,null,null,null,null,null,null,null,null,null,null,null,null,null,"X",{"$f":"CONCATENATE(E9723,I9723,J9723,O9723)","v":"X"},{"$f":"CONCATENATE(F9723,K9723,L9723,O9723)","v":"X"},{"$f":"CONCATENATE(G9723,M9723,N9723,O9723)","v":"X"},{"$f":"VLOOKUP(P9723,Lookup!A:B,2,FALSE)","v":"--"},{"$f":"VLOOKUP(Q9723,Lookup!A:B,2,FALSE)","v":"--"},{"$f":"VLOOKUP(R9723,Lookup!A:B,2,FALSE)","v":"--"},null,{"$f":"IF(E9723&F9723&G9723&I9723&K9723&M9723=\"\",\"\",IF(OR(H9723=\"\",D9723=\"\",AND(AC9723=0,'Contents & 6mo Restriction'!$BE$1=FALSE)),1,0))","v":""},"",0,0,0,0,0,0,null,null,null,null,null,null,null,null,null,null,null,null,null,null,null,null,null,null,null,null,null,null,null,null,null,null,null,null,null,null,null,null,null,null,null,null,null,null,null,null,null,null,null,null,null,null,null,null,null,null,null,null,null,null,null,null,null,null,null,null,null,null,null,null,null,null,null,null,null,null,null,null,null,null,null,null,null,null,null,null,null,null,null,null,null,null,null,null,null,null,null,null,null,null,null,null,null,null,null,null,null,null,0,0,""]
[null,null,null,null,null,null,null,null,null,null,null,null,null,null,"X","X","X","X",{"$f":"VLOOKUP(P9757,Lookup!A:B,2,FALSE)","v":"--"},{"$f":"VLOOKUP(Q9757,Lookup!A:B,2,FALSE)","v":"--"},{"$f":"VLOOKUP(R9757,Lookup!A:B,2,FALSE)","v":"--"},null,{"$f":"IF(E9757&F9757&G9757&I9757&K9757&M9757=\"\",\"\",IF(OR(H9757=\"\",D9757=\"\",AND(AC9757=0,'Contents & 6mo Restriction'!$BE$1=FALSE)),1,0))","v":""},"",0,0,0,0,0,0,null,null,null,null,null,null,null,null,null,null,null,null,null,null,null,null,null,null,null,null,null,null,null,null,null,null,null,null,null,null,null,null,null,null,null,null,null,null,null,null,null,null,null,null,null,null,null,null,null,null,null,null,null,null,null,null,null,null,null,null,null,null,null,null,null,null,null,null,null,null,null,null,null,null,null,null,null,null,null,null,null,null,null,null,null,null,null,null,null,null,null,null,null,null,null,null,null,null,null,null,null,null,0,0,""]
[null,null,null,null,null,null,null,null,null,null,null,null,null,null,"X","X","X","X",{"$f":"VLOOKUP(P9807,Lookup!A:B,2,FALSE)","v":"--"},{"$f":"VLOOKUP(Q9807,Lookup!A:B,2,FALSE)","v":"--"},{"$f":"VLOOKUP(R9807,Lookup!A:B,2,FALSE)","v":"--"},null,{"$f":"IF(E9807&F9807&G9807&I9807&K9807&M9807=\"\",\"\",IF(OR(H9807=\"\",D9807=\"\",AND(AC9807=0,'Contents & 6mo Restriction'!$BE$1=FALSE)),1,0))","v":""},"",0,0,0,0,0,0,null,null,null,null,null,null,null,null,null,null,null,null,null,null,null,null,null,null,null,null,null,null,null,null,null,null,null,null,null,null,null,null,null,null,null,null,null,null,null,null,null,null,null,null,null,null,null,null,null,null,null,null,null,null,null,null,null,null,null,null,null,null,null,null,null,null,null,null,null,null,null,null,null,null,null,null,null,null,null,null,null,null,null,null,null,null,null,null,null,null,null,null,null,null,null,null,null,null,null,null,null,null,0,0,""]
[null,null,null,null,null,null,null,null,null,null,null,null,null,null,"X","X","X","X",{"$f":"VLOOKUP(P9866,Lookup!A:B,2,FALSE)","v":"--"},{"$f":"VLOOKUP(Q9866,Lookup!A:B,2,FALSE)","v":"--"},{"$f":"VLOOKUP(R9866,Lookup!A:B,2,FALSE)","v":"--"},null,{"$f":"IF(E9866&F9866&G9866&I9866&K9866&M9866=\"\",\"\",IF(OR(H9866=\"\",D9866=\"\",AND(AC9866=0,'Contents & 6mo Restriction'!$BE$1=FALSE)),1,0))","v":""},"",0,0,0,0,0,0,null,null,null,null,null,null,null,null,null,null,null,null,null,null,null,null,null,null,null,null,null,null,null,null,null,null,null,null,null,null,null,null,null,null,null,null,null,null,null,null,null,null,null,null,null,null,null,null,null,null,null,null,null,null,null,null,null,null,null,null,null,null,null,null,null,null,null,null,null,null,null,null,null,null,null,null,null,null,null,null,null,null,null,null,null,null,null,null,null,null,null,null,null,null,null,null,null,null,null,null,null,null,0,0,""]
[null,null,null,null,null,null,null,null,null,null,null,null,null,null,"X","X","X","X",{"$f":"VLOOKUP(P9900,Lookup!A:B,2,FALSE)","v":"--"},{"$f":"VLOOKUP(Q9900,Lookup!A:B,2,FALSE)","v":"--"},{"$f":"VLOOKUP(R9900,Lookup!A:B,2,FALSE)","v":"--"},null,{"$f":"IF(E9900&F9900&G9900&I9900&K9900&M9900=\"\",\"\",IF(OR(H9900=\"\",D9900=\"\",AND(AC9900=0,'Contents & 6mo Restriction'!$BE$1=FALSE)),1,0))","v":""},"",0,0,0,0,0,0,null,null,null,null,null,null,null,null,null,null,null,null,null,null,null,null,null,null,null,null,null,null,null,null,null,null,null,null,null,null,null,null,null,null,null,null,null,null,null,null,null,null,null,null,null,null,null,null,null,null,null,null,null,null,null,null,null,null,null,null,null,null,null,null,null,null,null,null,null,null,null,null,null,null,null,null,null,null,null,null,null,null,null,null,null,null,null,null,null,null,null,null,null,null,null,null,null,null,null,null,null,null,0,0,""]
[null,null,null,null,null,null,null,null,null,null,null,null,null,null,"X","X","X","X",{"$f":"VLOOKUP(P9976,Lookup!A:B,2,FALSE)","v":"--"},{"$f":"VLOOKUP(Q9976,Lookup!A:B,2,FALSE)","v":"--"},{"$f":"VLOOKUP(R9976,Lookup!A:B,2,FALSE)","v":"--"},null,{"$f":"IF(E9976&F9976&G9976&I9976&K9976&M9976=\"\",\"\",IF(OR(H9976=\"\",D9976=\"\",AND(AC9976=0,'Contents & 6mo Restriction'!$BE$1=FALSE)),1,0))","v":""},"",0,0,0,0,0,0,null,null,null,null,null,null,null,null,null,null,null,null,null,null,null,null,null,null,null,null,null,null,null,null,null,null,null,null,null,null,null,null,null,null,null,null,null,null,null,null,null,null,null,null,null,null,null,null,null,null,null,null,null,null,null,null,null,null,null,null,null,null,null,null,null,null,null,null,null,null,null,null,null,null,null,null,null,null,null,null,null,null,null,null,null,null,null,null,null,null,null,null,null,null,null,null,null,null,null,null,null,null,0,0,""]
[null,null,null,null,null,null,null,null,null,null,null,null,null,null,"X","X","X","X",{"$f":"VLOOKUP(P10010,Lookup!A:B,2,FALSE)","v":"--"},{"$f":"VLOOKUP(Q10010,Lookup!A:B,2,FALSE)","v":"--"},{"$f":"VLOOKUP(R10010,Lookup!A:B,2,FALSE)","v":"--"},null,{"$f":"IF(E10010&F10010&G10010&I10010&K10010&M10010=\"\",\"\",IF(OR(H10010=\"\",D10010=\"\",AND(AC10010=0,'Contents & 6mo Restriction'!$BE$1=FALSE)),1,0))","v":""},"",0,0,0,0,0,0,null,null,null,null,null,null,null,null,null,null,null,null,null,null,null,null,null,null,null,null,null,null,null,null,null,null,null,null,null,null,null,null,null,null,null,null,null,null,null,null,null,null,null,null,null,null,null,null,null,null,null,null,null,null,null,null,null,null,null,null,null,null,null,null,null,null,null,null,null,null,null,null,null,null,null,null,null,null,null,null,null,null,null,null,null,null,null,null,null,null,null,null,null,null,null,null,null,null,null,null,null,null,{"$f":"IF(ISERROR(FIND(\"Impossible\",S10010&T10010&U10010)),0,1)","v":0},0,""]
[null,null,null,null,null,null,null,null,null,null,null,null,null,null,"X","X","X","X",{"$f":"VLOOKUP(P10060,Lookup!A:B,2,FALSE)","v":"--"},{"$f":"VLOOKUP(Q10060,Lookup!A:B,2,FALSE)","v":"--"},{"$f":"VLOOKUP(R10060,Lookup!A:B,2,FALSE)","v":"--"},null,{"$f":"IF(E10060&F10060&G10060&I10060&K10060&M10060=\"\",\"\",IF(OR(H10060=\"\",D10060=\"\",AND(AC10060=0,'Contents & 6mo Restriction'!$BE$1=FALSE)),1,0))","v":""},"",0,0,0,0,0,0,null,null,null,null,null,null,null,null,null,null,null,null,null,null,null,null,null,null,null,null,null,null,null,null,null,null,null,null,null,null,null,null,null,null,null,null,null,null,null,null,null,null,null,null,null,null,null,null,null,null,null,null,null,null,null,null,null,null,null,null,null,null,null,null,null,null,null,null,null,null,null,null,null,null,null,null,null,null,null,null,null,null,null,null,null,null,null,null,null,null,null,null,null,null,null,null,null,null,null,null,null,null,0,0,""]
[null,null,null,null,null,null,null,null,null,null,null,null,null,null,"X","X","X","X",{"$f":"VLOOKUP(P10119,Lookup!A:B,2,FALSE)","v":"--"},{"$f":"VLOOKUP(Q10119,Lookup!A:B,2,FALSE)","v":"--"},{"$f":"VLOOKUP(R10119,Lookup!A:B,2,FALSE)","v":"--"},null,{"$f":"IF(E10119&F10119&G10119&I10119&K10119&M10119=\"\",\"\",IF(OR(H10119=\"\",D10119=\"\",AND(AC10119=0,'Contents & 6mo Restriction'!$BE$1=FALSE)),1,0))","v":""},"",0,0,0,0,0,0,null,null,null,null,null,null,null,null,null,null,null,null,null,null,null,null,null,null,null,null,null,null,null,null,null,null,null,null,null,null,null,null,null,null,null,null,null,null,null,null,null,null,null,null,null,null,null,null,null,null,null,null,null,null,null,null,null,null,null,null,null,null,null,null,null,null,null,null,null,null,null,null,null,null,null,null,null,null,null,null,null,null,null,null,null,null,null,null,null,null,null,null,null,null,null,null,null,null,null,null,null,null,0,0,""]
[null,null,null,null,null,null,null,null,null,null,null,null,null,null,"X","X","X","X",{"$f":"VLOOKUP(P10153,Lookup!A:B,2,FALSE)","v":"--"},{"$f":"VLOOKUP(Q10153,Lookup!A:B,2,FALSE)","v":"--"},{"$f":"VLOOKUP(R10153,Lookup!A:B,2,FALSE)","v":"--"},null,{"$f":"IF(E10153&F10153&G10153&I10153&K10153&M10153=\"\",\"\",IF(OR(H10153=\"\",D10153=\"\",AND(AC10153=0,'Contents & 6mo Restriction'!$BE$1=FALSE)),1,0))","v":""},"",0,0,0,0,0,0,null,null,null,null,null,null,null,null,null,null,null,null,null,null,null,null,null,null,null,null,null,null,null,null,null,null,null,null,null,null,null,null,null,null,null,null,null,null,null,null,null,null,null,null,null,null,null,null,null,null,null,null,null,null,null,null,null,null,null,null,null,null,null,null,null,null,null,null,null,null,null,null,null,null,null,null,null,null,null,null,null,null,null,null,null,null,null,null,null,null,null,null,null,null,null,null,null,null,null,null,null,null,0,0,""]
[null,null,null,null,null,null,null,null,null,null,null,null,null,null,"X","X","X","X",{"$f":"VLOOKUP(P10187,Lookup!A:B,2,FALSE)","v":"--"},{"$f":"VLOOKUP(Q10187,Lookup!A:B,2,FALSE)","v":"--"},{"$f":"VLOOKUP(R10187,Lookup!A:B,2,FALSE)","v":"--"},null,{"$f":"IF(E10187&F10187&G10187&I10187&K10187&M10187=\"\",\"\",IF(OR(H10187=\"\",D10187=\"\",AND(AC10187=0,'Contents & 6mo Restriction'!$BE$1=FALSE)),1,0))","v":""},"",0,0,0,0,0,0,null,null,null,null,null,null,null,null,null,null,null,null,null,null,null,null,null,null,null,null,null,null,null,null,null,null,null,null,null,null,null,null,null,null,null,null,null,null,null,null,null,null,null,null,null,null,null,null,null,null,null,null,null,null,null,null,null,null,null,null,null,null,null,null,null,null,null,null,null,null,null,null,null,null,null,null,null,null,null,null,null,null,null,null,null,null,null,null,null,null,null,null,null,null,null,null,null,null,null,null,null,null,0,0,""]
[null,null,null,null,null,null,null,null,null,null,null,null,null,null,"X","X","X","X",{"$f":"VLOOKUP(P10221,Lookup!A:B,2,FALSE)","v":"--"},{"$f":"VLOOKUP(Q10221,Lookup!A:B,2,FALSE)","v":"--"},{"$f":"VLOOKUP(R10221,Lookup!A:B,2,FALSE)","v":"--"},null,{"$f":"IF(E10221&F10221&G10221&I10221&K10221&M10221=\"\",\"\",IF(OR(H10221=\"\",D10221=\"\",AND(AC10221=0,'Contents & 6mo Restriction'!$BE$1=FALSE)),1,0))","v":""},"",0,0,0,0,0,0,null,null,null,null,null,null,null,null,null,null,null,null,null,null,null,null,null,null,null,null,null,null,null,null,null,null,null,null,null,null,null,null,null,null,null,null,null,null,null,null,null,null,null,null,null,null,null,null,null,null,null,null,null,null,null,null,null,null,null,null,null,null,null,null,null,null,null,null,null,null,null,null,null,null,null,null,null,null,null,null,null,null,null,null,null,null,null,null,null,null,null,null,null,null,null,null,null,null,null,null,null,null,0,0,""]
[null,null,null,null,null,null,null,null,null,null,null,null,null,null,"X","X","X","X",{"$f":"VLOOKUP(P10296,Lookup!A:B,2,FALSE)","v":"--"},{"$f":"VLOOKUP(Q10296,Lookup!A:B,2,FALSE)","v":"--"},{"$f":"VLOOKUP(R10296,Lookup!A:B,2,FALSE)","v":"--"},null,{"$f":"IF(E10296&F10296&G10296&I10296&K10296&M10296=\"\",\"\",IF(OR(H10296=\"\",D10296=\"\",AND(AC10296=0,'Contents & 6mo Restriction'!$BE$1=FALSE)),1,0))","v":""},"",0,0,0,0,0,0,null,null,null,null,null,null,null,null,null,null,null,null,null,null,null,null,null,null,null,null,null,null,null,null,null,null,null,null,null,null,null,null,null,null,null,null,null,null,null,null,null,null,null,null,null,null,null,null,null,null,null,null,null,null,null,null,null,null,null,null,null,null,null,null,null,null,null,null,null,null,null,null,null,null,null,null,null,null,null,null,null,null,null,null,null,null,null,null,null,null,null,null,null,null,null,null,null,null,null,null,null,null,0,0,""]
[null,null,null,null,null,null,null,null,null,null,null,null,null,null,"X","X","X","X",{"$f":"VLOOKUP(P10325,Lookup!A:B,2,FALSE)","v":"--"},{"$f":"VLOOKUP(Q10325,Lookup!A:B,2,FALSE)","v":"--"},{"$f":"VLOOKUP(R10325,Lookup!A:B,2,FALSE)","v":"--"},null,{"$f":"IF(E10325&F10325&G10325&I10325&K10325&M10325=\"\",\"\",IF(OR(H10325=\"\",D10325=\"\",AND(AC10325=0,'Contents & 6mo Restriction'!$BE$1=FALSE)),1,0))","v":""},"",0,0,0,0,0,0,null,null,null,null,null,null,null,null,null,null,null,null,null,null,null,null,null,null,null,null,null,null,null,null,null,null,null,null,null,null,null,null,null,null,null,null,null,null,null,null,null,null,null,null,null,null,null,null,null,null,null,null,null,null,null,null,null,null,null,null,null,null,null,null,null,null,null,null,null,null,null,null,null,null,null,null,null,null,null,null,null,null,null,null,null,null,null,null,null,null,null,null,null,null,null,null,null,null,null,null,null,null,0,{"$f":"IF(ISERROR(FIND(\"progress\",S10325&T10325&U10325)),0,1)","v":0},""]
[null,null,null,null,null,null,null,null,null,null,null,null,null,null,"X","X","X","X",{"$f":"VLOOKUP(P10359,Lookup!A:B,2,FALSE)","v":"--"},{"$f":"VLOOKUP(Q10359,Lookup!A:B,2,FALSE)","v":"--"},{"$f":"VLOOKUP(R10359,Lookup!A:B,2,FALSE)","v":"--"},null,{"$f":"IF(E10359&F10359&G10359&I10359&K10359&M10359=\"\",\"\",IF(OR(H10359=\"\",D10359=\"\",AND(AC10359=0,'Contents & 6mo Restriction'!$BE$1=FALSE)),1,0))","v":""},"",0,0,0,0,0,0,null,null,null,null,null,null,null,null,null,null,null,null,null,null,null,null,null,null,null,null,null,null,null,null,null,null,null,null,null,null,null,null,null,null,null,null,null,null,null,null,null,null,null,null,null,null,null,null,null,null,null,null,null,null,null,null,null,null,null,null,null,null,null,null,null,null,null,null,null,null,null,null,null,null,null,null,null,null,null,null,null,null,null,null,null,null,null,null,null,null,null,null,null,null,null,null,null,null,null,null,null,null,0,0,""]
[null,null,null,null,null,null,null,null,null,null,null,null,null,null,"X","X","X","X",{"$f":"VLOOKUP(P10440,Lookup!A:B,2,FALSE)","v":"--"},{"$f":"VLOOKUP(Q10440,Lookup!A:B,2,FALSE)","v":"--"},{"$f":"VLOOKUP(R10440,Lookup!A:B,2,FALSE)","v":"--"},null,{"$f":"IF(E10440&F10440&G10440&I10440&K10440&M10440=\"\",\"\",IF(OR(H10440=\"\",D10440=\"\",AND(AC10440=0,'Contents & 6mo Restriction'!$BE$1=FALSE)),1,0))","v":""},"",0,0,0,0,0,0,null,null,null,null,null,null,null,null,null,null,null,null,null,null,null,null,null,null,null,null,null,null,null,null,null,null,null,null,null,null,null,null,null,null,null,null,null,null,null,null,null,null,null,null,null,null,null,null,null,null,null,null,null,null,null,null,null,null,null,null,null,null,null,null,null,null,null,null,null,null,null,null,null,null,null,null,null,null,null,null,null,null,null,null,null,null,null,null,null,null,null,null,null,null,null,null,null,null,null,null,null,null,0,0,""]
[null,null,null,null,null,null,null,null,null,null,null,null,null,null,"X","X","X","X",{"$f":"VLOOKUP(P10474,Lookup!A:B,2,FALSE)","v":"--"},{"$f":"VLOOKUP(Q10474,Lookup!A:B,2,FALSE)","v":"--"},{"$f":"VLOOKUP(R10474,Lookup!A:B,2,FALSE)","v":"--"},null,{"$f":"IF(E10474&F10474&G10474&I10474&K10474&M10474=\"\",\"\",IF(OR(H10474=\"\",D10474=\"\",AND(AC10474=0,'Contents & 6mo Restriction'!$BE$1=FALSE)),1,0))","v":""},"",0,0,0,0,0,0,null,null,null,null,null,null,null,null,null,null,null,null,null,null,null,null,null,null,null,null,null,null,null,null,null,null,null,null,null,null,null,null,null,null,null,null,null,null,null,null,null,null,null,null,null,null,null,null,null,null,null,null,null,null,null,null,null,null,null,null,null,null,null,null,null,null,null,null,null,null,null,null,null,null,null,null,null,null,null,null,null,null,null,null,null,null,null,null,null,null,null,null,null,null,null,null,null,null,null,null,null,null,0,0,""]
[null,null,null,null,null,null,null,null,null,null,null,null,null,null,"X","X","X","X",{"$f":"VLOOKUP(P10502,Lookup!A:B,2,FALSE)","v":"--"},{"$f":"VLOOKUP(Q10502,Lookup!A:B,2,FALSE)","v":"--"},{"$f":"VLOOKUP(R10502,Lookup!A:B,2,FALSE)","v":"--"},null,{"$f":"IF(E10502&F10502&G10502&I10502&K10502&M10502=\"\",\"\",IF(OR(H10502=\"\",D10502=\"\",AND(AC10502=0,'Contents & 6mo Restriction'!$BE$1=FALSE)),1,0))","v":""},"",0,0,0,0,0,0,null,null,null,null,null,null,null,null,null,null,null,null,null,null,null,null,null,null,null,null,null,null,null,null,null,null,null,null,null,null,null,null,null,null,null,null,null,null,null,null,null,null,null,null,null,null,null,null,null,null,null,null,null,null,null,null,null,null,null,null,null,null,null,null,null,null,null,null,null,null,null,null,null,null,null,null,null,null,null,null,null,null,null,null,null,null,null,null,null,null,null,null,null,null,null,null,null,null,null,null,null,null,0,0,""]
[null,null,null,null,null,null,null,null,null,null,null,null,null,null,"X","X","X","X",{"$f":"VLOOKUP(P10578,Lookup!A:B,2,FALSE)","v":"--"},{"$f":"VLOOKUP(Q10578,Lookup!A:B,2,FALSE)","v":"--"},{"$f":"VLOOKUP(R10578,Lookup!A:B,2,FALSE)","v":"--"},null,{"$f":"IF(E10578&F10578&G10578&I10578&K10578&M10578=\"\",\"\",IF(OR(H10578=\"\",D10578=\"\",AND(AC10578=0,'Contents & 6mo Restriction'!$BE$1=FALSE)),1,0))","v":""},"",0,0,0,0,0,0,null,null,null,null,null,null,null,null,null,null,null,null,null,null,null,null,null,null,null,null,null,null,null,null,null,null,null,null,null,null,null,null,null,null,null,null,null,null,null,null,null,null,null,null,null,null,null,null,null,null,null,null,null,null,null,null,null,null,null,null,null,null,null,null,null,null,null,null,null,null,null,null,null,null,null,null,null,null,null,null,null,null,null,null,null,null,null,null,null,null,null,null,null,null,null,null,null,null,null,null,null,null,0,0,""]
[null,null,null,null,null,null,null,null,null,null,null,null,null,null,"X","X","X","X",{"$f":"VLOOKUP(P10612,Lookup!A:B,2,FALSE)","v":"--"},{"$f":"VLOOKUP(Q10612,Lookup!A:B,2,FALSE)","v":"--"},{"$f":"VLOOKUP(R10612,Lookup!A:B,2,FALSE)","v":"--"},null,{"$f":"IF(E10612&F10612&G10612&I10612&K10612&M10612=\"\",\"\",IF(OR(H10612=\"\",D10612=\"\",AND(AC10612=0,'Contents & 6mo Restriction'!$BE$1=FALSE)),1,0))","v":""},"",0,0,0,0,0,0,null,null,null,null,null,null,null,null,null,null,null,null,null,null,null,null,null,null,null,null,null,null,null,null,null,null,null,null,null,null,null,null,null,null,null,null,null,null,null,null,null,null,null,null,null,null,null,null,null,null,null,null,null,null,null,null,null,null,null,null,null,null,null,null,null,null,null,null,null,null,null,null,null,null,null,null,null,null,null,null,null,null,null,null,null,null,null,null,null,null,null,null,null,null,null,null,null,null,null,null,null,null,0,0,""]
[null,null,null,null,null,null,null,null,null,null,null,null,null,null,"X","X","X","X",{"$f":"VLOOKUP(P10669,Lookup!A:B,2,FALSE)","v":"--"},{"$f":"VLOOKUP(Q10669,Lookup!A:B,2,FALSE)","v":"--"},{"$f":"VLOOKUP(R10669,Lookup!A:B,2,FALSE)","v":"--"},null,{"$f":"IF(E10669&F10669&G10669&I10669&K10669&M10669=\"\",\"\",IF(OR(H10669=\"\",D10669=\"\",AND(AC10669=0,'Contents & 6mo Restriction'!$BE$1=FALSE)),1,0))","v":""},"",0,0,0,0,0,0,null,null,null,null,null,null,null,null,null,null,null,null,null,null,null,null,null,null,null,null,null,null,null,null,null,null,null,null,null,null,null,null,null,null,null,null,null,null,null,null,null,null,null,null,null,null,null,null,null,null,null,null,null,null,null,null,null,null,null,null,null,null,null,null,null,null,null,null,null,null,null,null,null,null,null,null,null,null,null,null,null,null,null,null,null,null,null,null,null,null,null,null,null,null,null,null,null,null,null,null,null,null,0,0,""]
[null,null,null,null,null,null,null,null,null,null,null,null,null,null,"X","X","X","X",{"$f":"VLOOKUP(P10721,Lookup!A:B,2,FALSE)","v":"--"},{"$f":"VLOOKUP(Q10721,Lookup!A:B,2,FALSE)","v":"--"},{"$f":"VLOOKUP(R10721,Lookup!A:B,2,FALSE)","v":"--"},null,{"$f":"IF(E10721&F10721&G10721&I10721&K10721&M10721=\"\",\"\",IF(OR(H10721=\"\",D10721=\"\",AND(AC10721=0,'Contents & 6mo Restriction'!$BE$1=FALSE)),1,0))","v":""},"",0,0,0,0,0,0,null,null,null,null,null,null,null,null,null,null,null,null,null,null,null,null,null,null,null,null,null,null,null,null,null,null,null,null,null,null,null,null,null,null,null,null,null,null,null,null,null,null,null,null,null,null,null,null,null,null,null,null,null,null,null,null,null,null,null,null,null,null,null,null,null,null,null,null,null,null,null,null,null,null,null,null,null,null,null,null,null,null,null,null,null,null,null,null,null,null,null,null,null,null,null,null,null,null,null,null,null,null,0,0,""]
[null,null,null,null,null,null,null,null,null,null,null,null,null,null,"X","X","X","X",{"$f":"VLOOKUP(P10755,Lookup!A:B,2,FALSE)","v":"--"},{"$f":"VLOOKUP(Q10755,Lookup!A:B,2,FALSE)","v":"--"},{"$f":"VLOOKUP(R10755,Lookup!A:B,2,FALSE)","v":"--"},null,{"$f":"IF(E10755&F10755&G10755&I10755&K10755&M10755=\"\",\"\",IF(OR(H10755=\"\",D10755=\"\",AND(AC10755=0,'Contents & 6mo Restriction'!$BE$1=FALSE)),1,0))","v":""},"",0,0,0,0,0,0,null,null,null,null,null,null,null,null,null,null,null,null,null,null,null,null,null,null,null,null,null,null,null,null,null,null,null,null,null,null,null,null,null,null,null,null,null,null,null,null,null,null,null,null,null,null,null,null,null,null,null,null,null,null,null,null,null,null,null,null,null,null,null,null,null,null,null,null,null,null,null,null,null,null,null,null,null,null,null,null,null,null,null,null,null,null,null,null,null,null,null,null,null,null,null,null,null,null,null,null,null,null,0,0,""]
[null,null,null,null,null,null,null,null,null,null,null,null,null,null,"X","X","X","X",{"$f":"VLOOKUP(P10789,Lookup!A:B,2,FALSE)","v":"--"},{"$f":"VLOOKUP(Q10789,Lookup!A:B,2,FALSE)","v":"--"},{"$f":"VLOOKUP(R10789,Lookup!A:B,2,FALSE)","v":"--"},null,{"$f":"IF(E10789&F10789&G10789&I10789&K10789&M10789=\"\",\"\",IF(OR(H10789=\"\",D10789=\"\",AND(AC10789=0,'Contents & 6mo Restriction'!$BE$1=FALSE)),1,0))","v":""},"",0,0,0,0,0,0,null,null,null,null,null,null,null,null,null,null,null,null,null,null,null,null,null,null,null,null,null,null,null,null,null,null,null,null,null,null,null,null,null,null,null,null,null,null,null,null,null,null,null,null,null,null,null,null,null,null,null,null,null,null,null,null,null,null,null,null,null,null,null,null,null,null,null,null,null,null,null,null,null,null,null,null,null,null,null,null,null,null,null,null,null,null,null,null,null,null,null,null,null,null,null,null,null,null,null,null,null,null,0,0,""]
[null,null,null,null,null,null,null,null,null,null,null,null,null,null,"X","X","X","X",{"$f":"VLOOKUP(P10865,Lookup!A:B,2,FALSE)","v":"--"},{"$f":"VLOOKUP(Q10865,Lookup!A:B,2,FALSE)","v":"--"},{"$f":"VLOOKUP(R10865,Lookup!A:B,2,FALSE)","v":"--"},null,{"$f":"IF(E10865&F10865&G10865&I10865&K10865&M10865=\"\",\"\",IF(OR(H10865=\"\",D10865=\"\",AND(AC10865=0,'Contents & 6mo Restriction'!$BE$1=FALSE)),1,0))","v":""},"",0,0,0,0,0,0,null,null,null,null,null,null,null,null,null,null,null,null,null,null,null,null,null,null,null,null,null,null,null,null,null,null,null,null,null,null,null,null,null,null,null,null,null,null,null,null,null,null,null,null,null,null,null,null,null,null,null,null,null,null,null,null,null,null,null,null,null,null,null,null,null,null,null,null,null,null,null,null,null,null,null,null,null,null,null,null,null,null,null,null,null,null,null,null,null,null,null,null,null,null,null,null,null,null,null,null,null,null,0,0,""]
[null,null,null,null,null,null,null,null,null,null,null,null,null,null,"X","X","X","X",{"$f":"VLOOKUP(P10876,Lookup!A:B,2,FALSE)","v":"--"},{"$f":"VLOOKUP(Q10876,Lookup!A:B,2,FALSE)","v":"--"},{"$f":"VLOOKUP(R10876,Lookup!A:B,2,FALSE)","v":"--"},null,{"$f":"IF(E10876&F10876&G10876&I10876&K10876&M10876=\"\",\"\",IF(OR(H10876=\"\",D10876=\"\",AND(AC10876=0,'Contents & 6mo Restriction'!$BE$1=FALSE)),1,0))","v":""},"",0,0,0,0,0,0,null,null,null,null,null,null,null,null,null,null,null,null,null,null,null,null,null,null,null,null,null,null,null,null,null,null,null,null,null,null,null,null,null,null,null,null,null,null,null,null,null,null,null,null,null,null,null,null,null,null,null,null,null,null,null,null,null,null,null,null,null,null,null,null,null,null,null,null,null,null,null,null,null,null,null,null,null,null,null,null,null,null,null,null,null,null,null,null,null,null,null,null,null,null,null,null,null,null,null,null,null,null,0,0,""]
[null,null,null,null,null,null,null,null,null,null,null,null,null,null,"X","X","X","X",{"$f":"VLOOKUP(P10927,Lookup!A:B,2,FALSE)","v":"--"},{"$f":"VLOOKUP(Q10927,Lookup!A:B,2,FALSE)","v":"--"},{"$f":"VLOOKUP(R10927,Lookup!A:B,2,FALSE)","v":"--"},null,{"$f":"IF(E10927&F10927&G10927&I10927&K10927&M10927=\"\",\"\",IF(OR(H10927=\"\",D10927=\"\",AND(AC10927=0,'Contents & 6mo Restriction'!$BE$1=FALSE)),1,0))","v":""},"",0,0,0,0,0,0,null,null,null,null,null,null,null,null,null,null,null,null,null,null,null,null,null,null,null,null,null,null,null,null,null,null,null,null,null,null,null,null,null,null,null,null,null,null,null,null,null,null,null,null,null,null,null,null,null,null,null,null,null,null,null,null,null,null,null,null,null,null,null,null,null,null,null,null,null,null,null,null,null,null,null,null,null,null,null,null,null,null,null,null,null,null,null,null,null,null,null,null,null,null,null,null,null,null,null,null,null,null,0,0,""]
[null,null,null,null,null,null,null,null,null,null,null,null,null,null,"X","X","X","X",{"$f":"VLOOKUP(P11008,Lookup!A:B,2,FALSE)","v":"--"},{"$f":"VLOOKUP(Q11008,Lookup!A:B,2,FALSE)","v":"--"},{"$f":"VLOOKUP(R11008,Lookup!A:B,2,FALSE)","v":"--"},null,{"$f":"IF(E11008&F11008&G11008&I11008&K11008&M11008=\"\",\"\",IF(OR(H11008=\"\",D11008=\"\",AND(AC11008=0,'Contents & 6mo Restriction'!$BE$1=FALSE)),1,0))","v":""},"",0,0,0,0,0,0,null,null,null,null,null,null,null,null,null,null,null,null,null,null,null,null,null,null,null,null,null,null,null,null,null,null,null,null,null,null,null,null,null,null,null,null,null,null,null,null,null,null,null,null,null,null,null,null,null,null,null,null,null,null,null,null,null,null,null,null,null,null,null,null,null,null,null,null,null,null,null,null,null,null,null,null,null,null,null,null,null,null,null,null,null,null,null,null,null,null,null,null,null,null,null,null,null,null,null,null,null,null,0,0,""]
[null,null,null,null,null,null,null,null,null,null,null,null,null,null,"X","X","X","X",{"$f":"VLOOKUP(P11042,Lookup!A:B,2,FALSE)","v":"--"},{"$f":"VLOOKUP(Q11042,Lookup!A:B,2,FALSE)","v":"--"},{"$f":"VLOOKUP(R11042,Lookup!A:B,2,FALSE)","v":"--"},null,{"$f":"IF(E11042&F11042&G11042&I11042&K11042&M11042=\"\",\"\",IF(OR(H11042=\"\",D11042=\"\",AND(AC11042=0,'Contents & 6mo Restriction'!$BE$1=FALSE)),1,0))","v":""},"",0,0,0,0,0,0,null,null,null,null,null,null,null,null,null,null,null,null,null,null,null,null,null,null,null,null,null,null,null,null,null,null,null,null,null,null,null,null,null,null,null,null,null,null,null,null,null,null,null,null,null,null,null,null,null,null,null,null,null,null,null,null,null,null,null,null,null,null,null,null,null,null,null,null,null,null,null,null,null,null,null,null,null,null,null,null,null,null,null,null,null,null,null,null,null,null,null,null,null,null,null,null,null,null,null,null,null,null,0,0,""]
[null,null,null,null,null,null,null,null,null,null,null,null,null,null,"X","X","X","X",{"$f":"VLOOKUP(P11083,Lookup!A:B,2,FALSE)","v":"--"},{"$f":"VLOOKUP(Q11083,Lookup!A:B,2,FALSE)","v":"--"},{"$f":"VLOOKUP(R11083,Lookup!A:B,2,FALSE)","v":"--"},null,{"$f":"IF(E11083&F11083&G11083&I11083&K11083&M11083=\"\",\"\",IF(OR(H11083=\"\",D11083=\"\",AND(AC11083=0,'Contents & 6mo Restriction'!$BE$1=FALSE)),1,0))","v":""},"",0,0,0,0,0,0,null,null,null,null,null,null,null,null,null,null,null,null,null,null,null,null,null,null,null,null,null,null,null,null,null,null,null,null,null,null,null,null,null,null,null,null,null,null,null,null,null,null,null,null,null,null,null,null,null,null,null,null,null,null,null,null,null,null,null,null,null,null,null,null,null,null,null,null,null,null,null,null,null,null,null,null,null,null,null,null,null,null,null,null,null,null,null,null,null,null,null,null,null,null,null,null,null,null,null,null,null,null,0,0,""]
[null,null,null,null,null,null,null,null,null,null,null,null,null,null,"X","X","X","X",{"$f":"VLOOKUP(P11104,Lookup!A:B,2,FALSE)","v":"--"},{"$f":"VLOOKUP(Q11104,Lookup!A:B,2,FALSE)","v":"--"},{"$f":"VLOOKUP(R11104,Lookup!A:B,2,FALSE)","v":"--"},null,{"$f":"IF(E11104&F11104&G11104&I11104&K11104&M11104=\"\",\"\",IF(OR(H11104=\"\",D11104=\"\",AND(AC11104=0,'Contents & 6mo Restriction'!$BE$1=FALSE)),1,0))","v":""},"",0,0,0,0,0,0,null,null,null,null,null,null,null,null,null,null,null,null,null,null,null,null,null,null,null,null,null,null,null,null,null,null,null,null,null,null,null,null,null,null,null,null,null,null,null,null,null,null,null,null,null,null,null,null,null,null,null,null,null,null,null,null,null,null,null,null,null,null,null,null,null,null,null,null,null,null,null,null,null,null,null,null,null,null,null,null,null,null,null,null,null,null,null,null,null,null,null,null,null,null,null,null,null,null,null,null,null,null,0,0,""]
[null,null,null,null,null,null,null,null,null,null,null,null,null,null,"X","X","X","X",{"$f":"VLOOKUP(P11185,Lookup!A:B,2,FALSE)","v":"--"},{"$f":"VLOOKUP(Q11185,Lookup!A:B,2,FALSE)","v":"--"},{"$f":"VLOOKUP(R11185,Lookup!A:B,2,FALSE)","v":"--"},null,{"$f":"IF(E11185&F11185&G11185&I11185&K11185&M11185=\"\",\"\",IF(OR(H11185=\"\",D11185=\"\",AND(AC11185=0,'Contents & 6mo Restriction'!$BE$1=FALSE)),1,0))","v":""},"",0,0,0,0,0,0,null,null,null,null,null,null,null,null,null,null,null,null,null,null,null,null,null,null,null,null,null,null,null,null,null,null,null,null,null,null,null,null,null,null,null,null,null,null,null,null,null,null,null,null,null,null,null,null,null,null,null,null,null,null,null,null,null,null,null,null,null,null,null,null,null,null,null,null,null,null,null,null,null,null,null,null,null,null,null,null,null,null,null,null,null,null,null,null,null,null,null,null,null,null,null,null,null,null,null,null,null,null,0,0,""]
[null,null,null,null,null,null,null,null,null,null,null,null,null,null,"X","X","X","X",{"$f":"VLOOKUP(P11214,Lookup!A:B,2,FALSE)","v":"--"},{"$f":"VLOOKUP(Q11214,Lookup!A:B,2,FALSE)","v":"--"},{"$f":"VLOOKUP(R11214,Lookup!A:B,2,FALSE)","v":"--"},null,{"$f":"IF(E11214&F11214&G11214&I11214&K11214&M11214=\"\",\"\",IF(OR(H11214=\"\",D11214=\"\",AND(AC11214=0,'Contents & 6mo Restriction'!$BE$1=FALSE)),1,0))","v":""},"",0,0,0,0,0,0,null,null,null,null,null,null,null,null,null,null,null,null,null,null,null,null,null,null,null,null,null,null,null,null,null,null,null,null,null,null,null,null,null,null,null,null,null,null,null,null,null,null,null,null,null,null,null,null,null,null,null,null,null,null,null,null,null,null,null,null,null,null,null,null,null,null,null,null,null,null,null,null,null,null,null,null,null,null,null,null,null,null,null,null,null,null,null,null,null,null,null,null,null,null,null,null,null,null,null,null,null,null,0,0,""]
[null,null,null,null,null,null,null,null,null,null,null,null,null,null,"X","X","X","X",{"$f":"VLOOKUP(P11248,Lookup!A:B,2,FALSE)","v":"--"},{"$f":"VLOOKUP(Q11248,Lookup!A:B,2,FALSE)","v":"--"},{"$f":"VLOOKUP(R11248,Lookup!A:B,2,FALSE)","v":"--"},null,{"$f":"IF(E11248&F11248&G11248&I11248&K11248&M11248=\"\",\"\",IF(OR(H11248=\"\",D11248=\"\",AND(AC11248=0,'Contents & 6mo Restriction'!$BE$1=FALSE)),1,0))","v":""},"",0,0,0,0,0,0,null,null,null,null,null,null,null,null,null,null,null,null,null,null,null,null,null,null,null,null,null,null,null,null,null,null,null,null,null,null,null,null,null,null,null,null,null,null,null,null,null,null,null,null,null,null,null,null,null,null,null,null,null,null,null,null,null,null,null,null,null,null,null,null,null,null,null,null,null,null,null,null,null,null,null,null,null,null,null,null,null,null,null,null,null,null,null,null,null,null,null,null,null,null,null,null,null,null,null,null,null,null,0,0,""]
[null,null,null,null,null,null,null,null,null,null,null,null,null,null,"X","X","X","X",{"$f":"VLOOKUP(P11336,Lookup!A:B,2,FALSE)","v":"--"},{"$f":"VLOOKUP(Q11336,Lookup!A:B,2,FALSE)","v":"--"},{"$f":"VLOOKUP(R11336,Lookup!A:B,2,FALSE)","v":"--"},null,{"$f":"IF(E11336&F11336&G11336&I11336&K11336&M11336=\"\",\"\",IF(OR(H11336=\"\",D11336=\"\",AND(AC11336=0,'Contents & 6mo Restriction'!$BE$1=FALSE)),1,0))","v":""},"",0,0,0,0,0,0,null,null,null,null,null,null,null,null,null,null,null,null,null,null,null,null,null,null,null,null,null,null,null,null,null,null,null,null,null,null,null,null,null,null,null,null,null,null,null,null,null,null,null,null,null,null,null,null,null,null,null,null,null,null,null,null,null,null,null,null,null,null,null,null,null,null,null,null,null,null,null,null,null,null,null,null,null,null,null,null,null,null,null,null,null,null,null,null,null,null,null,null,null,null,null,null,null,null,null,null,null,null,0,0,""]
[null,null,null,null,null,null,null,null,null,null,null,null,null,null,"X","X","X","X",{"$f":"VLOOKUP(P11357,Lookup!A:B,2,FALSE)","v":"--"},{"$f":"VLOOKUP(Q11357,Lookup!A:B,2,FALSE)","v":"--"},{"$f":"VLOOKUP(R11357,Lookup!A:B,2,FALSE)","v":"--"},null,{"$f":"IF(E11357&F11357&G11357&I11357&K11357&M11357=\"\",\"\",IF(OR(H11357=\"\",D11357=\"\",AND(AC11357=0,'Contents & 6mo Restriction'!$BE$1=FALSE)),1,0))","v":""},"",0,0,0,0,0,0,null,null,null,null,null,null,null,null,null,null,null,null,null,null,null,null,null,null,null,null,null,null,null,null,null,null,null,null,null,null,null,null,null,null,null,null,null,null,null,null,null,null,null,null,null,null,null,null,null,null,null,null,null,null,null,null,null,null,null,null,null,null,null,null,null,null,null,null,null,null,null,null,null,null,null,null,null,null,null,null,null,null,null,null,null,null,null,null,null,null,null,null,null,null,null,null,null,null,null,null,null,null,0,0,""]
[null,null,null,null,null,null,null,null,null,null,null,null,null,null,"X","X","X","X",{"$f":"VLOOKUP(P11391,Lookup!A:B,2,FALSE)","v":"--"},{"$f":"VLOOKUP(Q11391,Lookup!A:B,2,FALSE)","v":"--"},{"$f":"VLOOKUP(R11391,Lookup!A:B,2,FALSE)","v":"--"},null,{"$f":"IF(E11391&F11391&G11391&I11391&K11391&M11391=\"\",\"\",IF(OR(H11391=\"\",D11391=\"\",AND(AC11391=0,'Contents & 6mo Restriction'!$BE$1=FALSE)),1,0))","v":""},"",0,0,0,0,0,0,null,null,null,null,null,null,null,null,null,null,null,null,null,null,null,null,null,null,null,null,null,null,null,null,null,null,null,null,null,null,null,null,null,null,null,null,null,null,null,null,null,null,null,null,null,null,null,null,null,null,null,null,null,null,null,null,null,null,null,null,null,null,null,null,null,null,null,null,null,null,null,null,null,null,null,null,null,null,null,null,null,null,null,null,null,null,null,null,null,null,null,null,null,null,null,null,null,null,null,null,null,null,0,0,""]
[null,null,null,null,null,null,null,null,null,null,null,null,null,null,"X","X","X","X",{"$f":"VLOOKUP(P11467,Lookup!A:B,2,FALSE)","v":"--"},{"$f":"VLOOKUP(Q11467,Lookup!A:B,2,FALSE)","v":"--"},{"$f":"VLOOKUP(R11467,Lookup!A:B,2,FALSE)","v":"--"},null,{"$f":"IF(E11467&F11467&G11467&I11467&K11467&M11467=\"\",\"\",IF(OR(H11467=\"\",D11467=\"\",AND(AC11467=0,'Contents & 6mo Restriction'!$BE$1=FALSE)),1,0))","v":""},"",0,0,0,0,0,0,null,null,null,null,null,null,null,null,null,null,null,null,null,null,null,null,null,null,null,null,null,null,null,null,null,null,null,null,null,null,null,null,null,null,null,null,null,null,null,null,null,null,null,null,null,null,null,null,null,null,null,null,null,null,null,null,null,null,null,null,null,null,null,null,null,null,null,null,null,null,null,null,null,null,null,null,null,null,null,null,null,null,null,null,null,null,null,null,null,null,null,null,null,null,null,null,null,null,null,null,null,null,0,0,""]
[null,null,null,null,null,null,null,null,null,null,null,null,null,null,"X","X","X","X",{"$f":"VLOOKUP(P11485,Lookup!A:B,2,FALSE)","v":"--"},{"$f":"VLOOKUP(Q11485,Lookup!A:B,2,FALSE)","v":"--"},{"$f":"VLOOKUP(R11485,Lookup!A:B,2,FALSE)","v":"--"},null,{"$f":"IF(E11485&F11485&G11485&I11485&K11485&M11485=\"\",\"\",IF(OR(H11485=\"\",D11485=\"\",AND(AC11485=0,'Contents & 6mo Restriction'!$BE$1=FALSE)),1,0))","v":""},"",0,0,0,0,0,0,null,null,null,null,null,null,null,null,null,null,null,null,null,null,null,null,null,null,null,null,null,null,null,null,null,null,null,null,null,null,null,null,null,null,null,null,null,null,null,null,null,null,null,null,null,null,null,null,null,null,null,null,null,null,null,null,null,null,null,null,null,null,null,null,null,null,null,null,null,null,null,null,null,null,null,null,null,null,null,null,null,null,null,null,null,null,null,null,null,null,null,null,null,null,null,null,null,null,null,null,null,null,0,0,""]
[null,null,null,null,null,null,null,null,null,null,null,null,null,null,"X","X","X","X",{"$f":"VLOOKUP(P11529,Lookup!A:B,2,FALSE)","v":"--"},{"$f":"VLOOKUP(Q11529,Lookup!A:B,2,FALSE)","v":"--"},{"$f":"VLOOKUP(R11529,Lookup!A:B,2,FALSE)","v":"--"},null,{"$f":"IF(E11529&F11529&G11529&I11529&K11529&M11529=\"\",\"\",IF(OR(H11529=\"\",D11529=\"\",AND(AC11529=0,'Contents & 6mo Restriction'!$BE$1=FALSE)),1,0))","v":""},"",0,0,0,0,0,0,null,null,null,null,null,null,null,null,null,null,null,null,null,null,null,null,null,null,null,null,null,null,null,null,null,null,null,null,null,null,null,null,null,null,null,null,null,null,null,null,null,null,null,null,null,null,null,null,null,null,null,null,null,null,null,null,null,null,null,null,null,null,null,null,null,null,null,null,null,null,null,null,null,null,null,null,null,null,null,null,null,null,null,null,null,null,null,null,null,null,null,null,null,null,null,null,null,null,null,null,null,null,0,0,""]
[null,null,null,null,null,null,null,null,null,null,null,null,null,null,"X","X","X","X",{"$f":"VLOOKUP(P11610,Lookup!A:B,2,FALSE)","v":"--"},{"$f":"VLOOKUP(Q11610,Lookup!A:B,2,FALSE)","v":"--"},{"$f":"VLOOKUP(R11610,Lookup!A:B,2,FALSE)","v":"--"},null,{"$f":"IF(E11610&F11610&G11610&I11610&K11610&M11610=\"\",\"\",IF(OR(H11610=\"\",D11610=\"\",AND(AC11610=0,'Contents & 6mo Restriction'!$BE$1=FALSE)),1,0))","v":""},"",0,0,0,0,0,0,null,null,null,null,null,null,null,null,null,null,null,null,null,null,null,null,null,null,null,null,null,null,null,null,null,null,null,null,null,null,null,null,null,null,null,null,null,null,null,null,null,null,null,null,null,null,null,null,null,null,null,null,null,null,null,null,null,null,null,null,null,null,null,null,null,null,null,null,null,null,null,null,null,null,null,null,null,null,null,null,null,null,null,null,null,null,null,null,null,null,null,null,null,null,null,null,null,null,null,null,null,null,{"$f":"IF(ISERROR(FIND(\"Impossible\",S11610&T11610&U11610)),0,1)","v":0},0,""]
[null,null,null,null,null,null,null,null,null,null,null,null,null,null,"X","X","X","X",{"$f":"VLOOKUP(P11644,Lookup!A:B,2,FALSE)","v":"--"},{"$f":"VLOOKUP(Q11644,Lookup!A:B,2,FALSE)","v":"--"},{"$f":"VLOOKUP(R11644,Lookup!A:B,2,FALSE)","v":"--"},null,{"$f":"IF(E11644&F11644&G11644&I11644&K11644&M11644=\"\",\"\",IF(OR(H11644=\"\",D11644=\"\",AND(AC11644=0,'Contents & 6mo Restriction'!$BE$1=FALSE)),1,0))","v":""},"",0,0,0,0,0,0,null,null,null,null,null,null,null,null,null,null,null,null,null,null,null,null,null,null,null,null,null,null,null,null,null,null,null,null,null,null,null,null,null,null,null,null,null,null,null,null,null,null,null,null,null,null,null,null,null,null,null,null,null,null,null,null,null,null,null,null,null,null,null,null,null,null,null,null,null,null,null,null,null,null,null,null,null,null,null,null,null,null,null,null,null,null,null,null,null,null,null,null,null,null,null,null,null,null,null,null,null,null,0,0,""]
[null,null,null,null,null,null,null,null,null,null,null,null,null,null,"X","X","X","X",{"$f":"VLOOKUP(P11673,Lookup!A:B,2,FALSE)","v":"--"},{"$f":"VLOOKUP(Q11673,Lookup!A:B,2,FALSE)","v":"--"},{"$f":"VLOOKUP(R11673,Lookup!A:B,2,FALSE)","v":"--"},null,{"$f":"IF(E11673&F11673&G11673&I11673&K11673&M11673=\"\",\"\",IF(OR(H11673=\"\",D11673=\"\",AND(AC11673=0,'Contents & 6mo Restriction'!$BE$1=FALSE)),1,0))","v":""},"",0,0,0,0,0,0,null,null,null,null,null,null,null,null,null,null,null,null,null,null,null,null,null,null,null,null,null,null,null,null,null,null,null,null,null,null,null,null,null,null,null,null,null,null,null,null,null,null,null,null,null,null,null,null,null,null,null,null,null,null,null,null,null,null,null,null,null,null,null,null,null,null,null,null,null,null,null,null,null,null,null,null,null,null,null,null,null,null,null,null,null,null,null,null,null,null,null,null,null,null,null,null,null,null,null,null,null,null,0,0,""]
[null,null,null,null,null,null,null,null,null,null,null,null,null,null,"X","X","X","X",{"$f":"VLOOKUP(P11738,Lookup!A:B,2,FALSE)","v":"--"},{"$f":"VLOOKUP(Q11738,Lookup!A:B,2,FALSE)","v":"--"},{"$f":"VLOOKUP(R11738,Lookup!A:B,2,FALSE)","v":"--"},null,{"$f":"IF(E11738&F11738&G11738&I11738&K11738&M11738=\"\",\"\",IF(OR(H11738=\"\",D11738=\"\",AND(AC11738=0,'Contents & 6mo Restriction'!$BE$1=FALSE)),1,0))","v":""},"",0,0,0,0,0,0,null,null,null,null,null,null,null,null,null,null,null,null,null,null,null,null,null,null,null,null,null,null,null,null,null,null,null,null,null,null,null,null,null,null,null,null,null,null,null,null,null,null,null,null,null,null,null,null,null,null,null,null,null,null,null,null,null,null,null,null,null,null,null,null,null,null,null,null,null,null,null,null,null,null,null,null,null,null,null,null,null,null,null,null,null,null,null,null,null,null,null,null,null,null,null,null,null,null,null,null,null,null,{"$f":"IF(ISERROR(FIND(\"Impossible\",S11738&T11738&U11738)),0,1)","v":0},0,""]
[null,null,null,null,null,null,null,null,null,null,null,null,null,null,"X","X","X","X",{"$f":"VLOOKUP(P11787,Lookup!A:B,2,FALSE)","v":"--"},{"$f":"VLOOKUP(Q11787,Lookup!A:B,2,FALSE)","v":"--"},{"$f":"VLOOKUP(R11787,Lookup!A:B,2,FALSE)","v":"--"},null,{"$f":"IF(E11787&F11787&G11787&I11787&K11787&M11787=\"\",\"\",IF(OR(H11787=\"\",D11787=\"\",AND(AC11787=0,'Contents & 6mo Restriction'!$BE$1=FALSE)),1,0))","v":""},"",0,0,0,0,0,0,null,null,null,null,null,null,null,null,null,null,null,null,null,null,null,null,null,null,null,null,null,null,null,null,null,null,null,null,null,null,null,null,null,null,null,null,null,null,null,null,null,null,null,null,null,null,null,null,null,null,null,null,null,null,null,null,null,null,null,null,null,null,null,null,null,null,null,null,null,null,null,null,null,null,null,null,null,null,null,null,null,null,null,null,null,null,null,null,null,null,null,null,null,null,null,null,null,null,null,null,null,null,0,0,""]
[null,null,null,null,null,null,null,null,null,null,null,null,null,null,"X","X","X","X",{"$f":"VLOOKUP(P11816,Lookup!A:B,2,FALSE)","v":"--"},{"$f":"VLOOKUP(Q11816,Lookup!A:B,2,FALSE)","v":"--"},{"$f":"VLOOKUP(R11816,Lookup!A:B,2,FALSE)","v":"--"},null,{"$f":"IF(E11816&F11816&G11816&I11816&K11816&M11816=\"\",\"\",IF(OR(H11816=\"\",D11816=\"\",AND(AC11816=0,'Contents & 6mo Restriction'!$BE$1=FALSE)),1,0))","v":""},"",0,0,0,0,0,0,null,null,null,null,null,null,null,null,null,null,null,null,null,null,null,null,null,null,null,null,null,null,null,null,null,null,null,null,null,null,null,null,null,null,null,null,null,null,null,null,null,null,null,null,null,null,null,null,null,null,null,null,null,null,null,null,null,null,null,null,null,null,null,null,null,null,null,null,null,null,null,null,null,null,null,null,null,null,null,null,null,null,null,null,null,null,null,null,null,null,null,null,null,null,null,null,null,null,null,null,null,null,0,0,""]
[null,null,null,null,null,null,null,null,null,null,null,null,null,null,"X","X","X","X",{"$f":"VLOOKUP(P11897,Lookup!A:B,2,FALSE)","v":"--"},{"$f":"VLOOKUP(Q11897,Lookup!A:B,2,FALSE)","v":"--"},{"$f":"VLOOKUP(R11897,Lookup!A:B,2,FALSE)","v":"--"},null,{"$f":"IF(E11897&F11897&G11897&I11897&K11897&M11897=\"\",\"\",IF(OR(H11897=\"\",D11897=\"\",AND(AC11897=0,'Contents & 6mo Restriction'!$BE$1=FALSE)),1,0))","v":""},"",0,0,0,0,0,0,null,null,null,null,null,null,null,null,null,null,null,null,null,null,null,null,null,null,null,null,null,null,null,null,null,null,null,null,null,null,null,null,null,null,null,null,null,null,null,null,null,null,null,null,null,null,null,null,null,null,null,null,null,null,null,null,null,null,null,null,null,null,null,null,null,null,null,null,null,null,null,null,null,null,null,null,null,null,null,null,null,null,null,null,null,null,null,null,null,null,null,null,null,null,null,null,null,null,null,null,null,null,0,0,""]
[null,null,null,null,null,null,null,null,null,null,null,null,null,null,"X","X","X","X",{"$f":"VLOOKUP(P11926,Lookup!A:B,2,FALSE)","v":"--"},{"$f":"VLOOKUP(Q11926,Lookup!A:B,2,FALSE)","v":"--"},{"$f":"VLOOKUP(R11926,Lookup!A:B,2,FALSE)","v":"--"},null,{"$f":"IF(E11926&F11926&G11926&I11926&K11926&M11926=\"\",\"\",IF(OR(H11926=\"\",D11926=\"\",AND(AC11926=0,'Contents & 6mo Restriction'!$BE$1=FALSE)),1,0))","v":""},{"$f":"IF(CONCATENATE(B11926,C11926,E11926,F11926,G11926)=\"\",\"\",1)","v":""},{"$f":"IF(AND(W11926=0,OR(S11926=\"a\",S11926=\"b\",S11926=\"c\",S11926=\"d\",S11926=\"e\",T11926=\"a\",T11926=\"b\",T11926=\"c\",T11926=\"d\",T11926=\"e\",U11926=\"a\",U11926=\"b\",U11926=\"c\",U11926=\"d\",U11926=\"e\")),1,0)","v":0},{"$f":"IF(AND(OR(S11926=\"a\",S11926=\"b\",S11926=\"c\",S11926=\"d\",S11926=\"e\"),OR(T11926=\"a\",T11926=\"b\",T11926=\"c\",T11926=\"d\",T11926=\"e\"),OR(U11926=\"a\",U11926=\"b\",U11926=\"c\",U11926=\"d\",U11926=\"e\"),W11926=0),1,0)","v":0},{"$f":"IF(SUM(AB11926:AD11926)>0,1,0)","v":0},{"$f":"IF(H11926>=DATE(YEAR(D11926),MONTH(D11926)+6,DAY(D11926)),1,0)","v":0},{"$f":"IF(H11926-D11926>=182,1,0)","v":0},{"$f":"IF(OR(AND(MONTH(D11926)=8,DAY(D11926)=30,H11926-D11926>=182),AND(MONTH(D11926)=8,DAY(D11926)=31,H11926-D11926>=181),AND(MONTH(D11926)=10,DAY(D11926)=31,H11926-D11926>=181),AND(MONTH(D11926)=12,DAY(D11926)=31,H11926-D11926>=181)),1,0)","v":0},null,null,null,null,null,null,null,null,null,null,null,null,null,null,null,null,null,null,null,null,null,null,null,null,null,null,null,null,null,null,null,null,null,null,null,null,null,null,null,null,null,null,null,null,null,null,null,null,null,null,null,null,null,null,null,null,null,null,null,null,null,null,null,null,null,null,null,null,null,null,null,null,null,null,null,null,null,null,null,null,null,null,null,null,null,null,null,null,null,null,null,null,null,null,null,null,null,null,null,null,null,null,0,0,{"$f":"IFERROR(W11926,\"Please enter valid dates\")","v":""}]
[null,null,null,null,null,null,null,null,null,null,null,null,null,null,"X","X","X","X",{"$f":"VLOOKUP(P11946,Lookup!A:B,2,FALSE)","v":"--"},{"$f":"VLOOKUP(Q11946,Lookup!A:B,2,FALSE)","v":"--"},{"$f":"VLOOKUP(R11946,Lookup!A:B,2,FALSE)","v":"--"},null,{"$f":"IF(E11946&F11946&G11946&I11946&K11946&M11946=\"\",\"\",IF(OR(H11946=\"\",D11946=\"\",AND(AC11946=0,'Contents & 6mo Restriction'!$BE$1=FALSE)),1,0))","v":""},"",0,0,0,0,0,0,null,null,null,null,null,null,null,null,null,null,null,null,null,null,null,null,null,null,null,null,null,null,null,null,null,null,null,null,null,null,null,null,null,null,null,null,null,null,null,null,null,null,null,null,null,null,null,null,null,null,null,null,null,null,null,null,null,null,null,null,null,null,null,null,null,null,null,null,null,null,null,null,null,null,null,null,null,null,null,null,null,null,null,null,null,null,null,null,null,null,null,null,null,null,null,null,null,null,null,null,null,null,0,0,""]
[null,null,null,null,null,null,null,null,null,null,null,null,null,null,"X","X","X","X",{"$f":"VLOOKUP(P11947,Lookup!A:B,2,FALSE)","v":"--"},{"$f":"VLOOKUP(Q11947,Lookup!A:B,2,FALSE)","v":"--"},{"$f":"VLOOKUP(R11947,Lookup!A:B,2,FALSE)","v":"--"},null,{"$f":"IF(E11947&F11947&G11947&I11947&K11947&M11947=\"\",\"\",IF(OR(H11947=\"\",D11947=\"\",AND(AC11947=0,'Contents & 6mo Restriction'!$BE$1=FALSE)),1,0))","v":""},"",0,0,0,0,0,0,null,null,null,null,null,null,null,null,null,null,null,null,null,null,null,null,null,null,null,null,null,null,null,null,null,null,null,null,null,null,null,null,null,null,null,null,null,null,null,null,null,null,null,null,null,null,null,null,null,null,null,null,null,null,null,null,null,null,null,null,null,null,null,null,null,null,null,null,null,null,null,null,null,null,null,null,null,null,null,null,null,null,null,null,null,null,null,null,null,null,null,null,null,null,null,null,null,null,null,null,null,null,0,0,""]
[null,null,null,null,null,null,null,null,null,null,null,null,null,null,"X","X","X","X",{"$f":"VLOOKUP(P11948,Lookup!A:B,2,FALSE)","v":"--"},{"$f":"VLOOKUP(Q11948,Lookup!A:B,2,FALSE)","v":"--"},{"$f":"VLOOKUP(R11948,Lookup!A:B,2,FALSE)","v":"--"},null,{"$f":"IF(E11948&F11948&G11948&I11948&K11948&M11948=\"\",\"\",IF(OR(H11948=\"\",D11948=\"\",AND(AC11948=0,'Contents & 6mo Restriction'!$BE$1=FALSE)),1,0))","v":""},"",0,0,0,0,0,0,null,null,null,null,null,null,null,null,null,null,null,null,null,null,null,null,null,null,null,null,null,null,null,null,null,null,null,null,null,null,null,null,null,null,null,null,null,null,null,null,null,null,null,null,null,null,null,null,null,null,null,null,null,null,null,null,null,null,null,null,null,null,null,null,null,null,null,null,null,null,null,null,null,null,null,null,null,null,null,null,null,null,null,null,null,null,null,null,null,null,null,null,null,null,null,null,null,null,null,null,null,null,0,0,""]
[null,null,null,null,null,null,null,null,null,null,null,null,null,null,"X","X","X","X",{"$f":"VLOOKUP(P11949,Lookup!A:B,2,FALSE)","v":"--"},{"$f":"VLOOKUP(Q11949,Lookup!A:B,2,FALSE)","v":"--"},{"$f":"VLOOKUP(R11949,Lookup!A:B,2,FALSE)","v":"--"},null,{"$f":"IF(E11949&F11949&G11949&I11949&K11949&M11949=\"\",\"\",IF(OR(H11949=\"\",D11949=\"\",AND(AC11949=0,'Contents & 6mo Restriction'!$BE$1=FALSE)),1,0))","v":""},"",0,0,0,0,0,0,null,null,null,null,null,null,null,null,null,null,null,null,null,null,null,null,null,null,null,null,null,null,null,null,null,null,null,null,null,null,null,null,null,null,null,null,null,null,null,null,null,null,null,null,null,null,null,null,null,null,null,null,null,null,null,null,null,null,null,null,null,null,null,null,null,null,null,null,null,null,null,null,null,null,null,null,null,null,null,null,null,null,null,null,null,null,null,null,null,null,null,null,null,null,null,null,null,null,null,null,null,null,0,0,""]
[null,null,null,null,null,null,null,null,null,null,null,null,null,null,"X","X","X","X",{"$f":"VLOOKUP(P11950,Lookup!A:B,2,FALSE)","v":"--"},{"$f":"VLOOKUP(Q11950,Lookup!A:B,2,FALSE)","v":"--"},{"$f":"VLOOKUP(R11950,Lookup!A:B,2,FALSE)","v":"--"},null,{"$f":"IF(E11950&F11950&G11950&I11950&K11950&M11950=\"\",\"\",IF(OR(H11950=\"\",D11950=\"\",AND(AC11950=0,'Contents & 6mo Restriction'!$BE$1=FALSE)),1,0))","v":""},"",0,0,0,0,0,0,null,null,null,null,null,null,null,null,null,null,null,null,null,null,null,null,null,null,null,null,null,null,null,null,null,null,null,null,null,null,null,null,null,null,null,null,null,null,null,null,null,null,null,null,null,null,null,null,null,null,null,null,null,null,null,null,null,null,null,null,null,null,null,null,null,null,null,null,null,null,null,null,null,null,null,null,null,null,null,null,null,null,null,null,null,null,null,null,null,null,null,null,null,null,null,null,null,null,null,null,null,null,0,0,""]
[null,null,null,null,null,null,null,null,null,null,null,null,null,null,"X","X","X","X",{"$f":"VLOOKUP(P11951,Lookup!A:B,2,FALSE)","v":"--"},{"$f":"VLOOKUP(Q11951,Lookup!A:B,2,FALSE)","v":"--"},{"$f":"VLOOKUP(R11951,Lookup!A:B,2,FALSE)","v":"--"},null,{"$f":"IF(E11951&F11951&G11951&I11951&K11951&M11951=\"\",\"\",IF(OR(H11951=\"\",D11951=\"\",AND(AC11951=0,'Contents & 6mo Restriction'!$BE$1=FALSE)),1,0))","v":""},"",0,0,0,0,0,0,null,null,null,null,null,null,null,null,null,null,null,null,null,null,null,null,null,null,null,null,null,null,null,null,null,null,null,null,null,null,null,null,null,null,null,null,null,null,null,null,null,null,null,null,null,null,null,null,null,null,null,null,null,null,null,null,null,null,null,null,null,null,null,null,null,null,null,null,null,null,null,null,null,null,null,null,null,null,null,null,null,null,null,null,null,null,null,null,null,null,null,null,null,null,null,null,null,null,null,null,null,null,0,0,""]
[null,null,null,null,null,null,null,null,null,null,null,null,null,null,"X","X","X","X",{"$f":"VLOOKUP(P11952,Lookup!A:B,2,FALSE)","v":"--"},{"$f":"VLOOKUP(Q11952,Lookup!A:B,2,FALSE)","v":"--"},{"$f":"VLOOKUP(R11952,Lookup!A:B,2,FALSE)","v":"--"},null,{"$f":"IF(E11952&F11952&G11952&I11952&K11952&M11952=\"\",\"\",IF(OR(H11952=\"\",D11952=\"\",AND(AC11952=0,'Contents & 6mo Restriction'!$BE$1=FALSE)),1,0))","v":""},"",0,0,0,0,0,0,null,null,null,null,null,null,null,null,null,null,null,null,null,null,null,null,null,null,null,null,null,null,null,null,null,null,null,null,null,null,null,null,null,null,null,null,null,null,null,null,null,null,null,null,null,null,null,null,null,null,null,null,null,null,null,null,null,null,null,null,null,null,null,null,null,null,null,null,null,null,null,null,null,null,null,null,null,null,null,null,null,null,null,null,null,null,null,null,null,null,null,null,null,null,null,null,null,null,null,null,null,null,0,0,""]
[null,null,null,null,null,null,null,null,null,null,null,null,null,null,"X","X","X","X",{"$f":"VLOOKUP(P11953,Lookup!A:B,2,FALSE)","v":"--"},{"$f":"VLOOKUP(Q11953,Lookup!A:B,2,FALSE)","v":"--"},{"$f":"VLOOKUP(R11953,Lookup!A:B,2,FALSE)","v":"--"},null,{"$f":"IF(E11953&F11953&G11953&I11953&K11953&M11953=\"\",\"\",IF(OR(H11953=\"\",D11953=\"\",AND(AC11953=0,'Contents & 6mo Restriction'!$BE$1=FALSE)),1,0))","v":""},"",0,0,0,0,0,0,null,null,null,null,null,null,null,null,null,null,null,null,null,null,null,null,null,null,null,null,null,null,null,null,null,null,null,null,null,null,null,null,null,null,null,null,null,null,null,null,null,null,null,null,null,null,null,null,null,null,null,null,null,null,null,null,null,null,null,null,null,null,null,null,null,null,null,null,null,null,null,null,null,null,null,null,null,null,null,null,null,null,null,null,null,null,null,null,null,null,null,null,null,null,null,null,null,null,null,null,null,null,0,0,""]
[null,null,null,null,null,null,null,null,null,null,null,null,null,null,"X","X","X","X",{"$f":"VLOOKUP(P11954,Lookup!A:B,2,FALSE)","v":"--"},{"$f":"VLOOKUP(Q11954,Lookup!A:B,2,FALSE)","v":"--"},{"$f":"VLOOKUP(R11954,Lookup!A:B,2,FALSE)","v":"--"},null,{"$f":"IF(E11954&F11954&G11954&I11954&K11954&M11954=\"\",\"\",IF(OR(H11954=\"\",D11954=\"\",AND(AC11954=0,'Contents & 6mo Restriction'!$BE$1=FALSE)),1,0))","v":""},"",0,0,0,0,0,0,null,null,null,null,null,null,null,null,null,null,null,null,null,null,null,null,null,null,null,null,null,null,null,null,null,null,null,null,null,null,null,null,null,null,null,null,null,null,null,null,null,null,null,null,null,null,null,null,null,null,null,null,null,null,null,null,null,null,null,null,null,null,null,null,null,null,null,null,null,null,null,null,null,null,null,null,null,null,null,null,null,null,null,null,null,null,null,null,null,null,null,null,null,null,null,null,null,null,null,null,null,null,0,0,""]
[null,null,null,null,null,null,null,null,null,null,null,null,null,null,"X","X","X","X",{"$f":"VLOOKUP(P11955,Lookup!A:B,2,FALSE)","v":"--"},{"$f":"VLOOKUP(Q11955,Lookup!A:B,2,FALSE)","v":"--"},{"$f":"VLOOKUP(R11955,Lookup!A:B,2,FALSE)","v":"--"},null,{"$f":"IF(E11955&F11955&G11955&I11955&K11955&M11955=\"\",\"\",IF(OR(H11955=\"\",D11955=\"\",AND(AC11955=0,'Contents & 6mo Restriction'!$BE$1=FALSE)),1,0))","v":""},"",0,0,0,0,0,0,null,null,null,null,null,null,null,null,null,null,null,null,null,null,null,null,null,null,null,null,null,null,null,null,null,null,null,null,null,null,null,null,null,null,null,null,null,null,null,null,null,null,null,null,null,null,null,null,null,null,null,null,null,null,null,null,null,null,null,null,null,null,null,null,null,null,null,null,null,null,null,null,null,null,null,null,null,null,null,null,null,null,null,null,null,null,null,null,null,null,null,null,null,null,null,null,null,null,null,null,null,null,0,0,""]
[null,null,null,null,null,null,null,null,null,null,null,null,null,null,"X","X","X","X",{"$f":"VLOOKUP(P11956,Lookup!A:B,2,FALSE)","v":"--"},{"$f":"VLOOKUP(Q11956,Lookup!A:B,2,FALSE)","v":"--"},{"$f":"VLOOKUP(R11956,Lookup!A:B,2,FALSE)","v":"--"},null,{"$f":"IF(E11956&F11956&G11956&I11956&K11956&M11956=\"\",\"\",IF(OR(H11956=\"\",D11956=\"\",AND(AC11956=0,'Contents & 6mo Restriction'!$BE$1=FALSE)),1,0))","v":""},"",0,0,0,0,0,0,null,null,null,null,null,null,null,null,null,null,null,null,null,null,null,null,null,null,null,null,null,null,null,null,null,null,null,null,null,null,null,null,null,null,null,null,null,null,null,null,null,null,null,null,null,null,null,null,null,null,null,null,null,null,null,null,null,null,null,null,null,null,null,null,null,null,null,null,null,null,null,null,null,null,null,null,null,null,null,null,null,null,null,null,null,null,null,null,null,null,null,null,null,null,null,null,null,null,null,null,null,null,0,0,""]
[null,null,null,null,null,null,null,null,null,null,null,null,null,null,"X","X","X","X",{"$f":"VLOOKUP(P11957,Lookup!A:B,2,FALSE)","v":"--"},{"$f":"VLOOKUP(Q11957,Lookup!A:B,2,FALSE)","v":"--"},{"$f":"VLOOKUP(R11957,Lookup!A:B,2,FALSE)","v":"--"},null,{"$f":"IF(E11957&F11957&G11957&I11957&K11957&M11957=\"\",\"\",IF(OR(H11957=\"\",D11957=\"\",AND(AC11957=0,'Contents & 6mo Restriction'!$BE$1=FALSE)),1,0))","v":""},"",0,0,0,0,0,0,null,null,null,null,null,null,null,null,null,null,null,null,null,null,null,null,null,null,null,null,null,null,null,null,null,null,null,null,null,null,null,null,null,null,null,null,null,null,null,null,null,null,null,null,null,null,null,null,null,null,null,null,null,null,null,null,null,null,null,null,null,null,null,null,null,null,null,null,null,null,null,null,null,null,null,null,null,null,null,null,null,null,null,null,null,null,null,null,null,null,null,null,null,null,null,null,null,null,null,null,null,null,0,0,""]
[null,null,null,null,null,null,null,null,null,null,null,null,null,null,"X","X","X","X",{"$f":"VLOOKUP(P11958,Lookup!A:B,2,FALSE)","v":"--"},{"$f":"VLOOKUP(Q11958,Lookup!A:B,2,FALSE)","v":"--"},{"$f":"VLOOKUP(R11958,Lookup!A:B,2,FALSE)","v":"--"},null,{"$f":"IF(E11958&F11958&G11958&I11958&K11958&M11958=\"\",\"\",IF(OR(H11958=\"\",D11958=\"\",AND(AC11958=0,'Contents & 6mo Restriction'!$BE$1=FALSE)),1,0))","v":""},"",0,0,0,0,0,0,null,null,null,null,null,null,null,null,null,null,null,null,null,null,null,null,null,null,null,null,null,null,null,null,null,null,null,null,null,null,null,null,null,null,null,null,null,null,null,null,null,null,null,null,null,null,null,null,null,null,null,null,null,null,null,null,null,null,null,null,null,null,null,null,null,null,null,null,null,null,null,null,null,null,null,null,null,null,null,null,null,null,null,null,null,null,null,null,null,null,null,null,null,null,null,null,null,null,null,null,null,null,0,0,""]
[null,null,null,null,null,null,null,null,null,null,null,null,null,null,"X","X","X","X",{"$f":"VLOOKUP(P11959,Lookup!A:B,2,FALSE)","v":"--"},{"$f":"VLOOKUP(Q11959,Lookup!A:B,2,FALSE)","v":"--"},{"$f":"VLOOKUP(R11959,Lookup!A:B,2,FALSE)","v":"--"},null,{"$f":"IF(E11959&F11959&G11959&I11959&K11959&M11959=\"\",\"\",IF(OR(H11959=\"\",D11959=\"\",AND(AC11959=0,'Contents & 6mo Restriction'!$BE$1=FALSE)),1,0))","v":""},"",0,0,0,0,0,0,null,null,null,null,null,null,null,null,null,null,null,null,null,null,null,null,null,null,null,null,null,null,null,null,null,null,null,null,null,null,null,null,null,null,null,null,null,null,null,null,null,null,null,null,null,null,null,null,null,null,null,null,null,null,null,null,null,null,null,null,null,null,null,null,null,null,null,null,null,null,null,null,null,null,null,null,null,null,null,null,null,null,null,null,null,null,null,null,null,null,null,null,null,null,null,null,null,null,null,null,null,null,0,0,""]
[null,null,null,null,null,null,null,null,null,null,null,null,null,null,"X","X","X","X",{"$f":"VLOOKUP(P11960,Lookup!A:B,2,FALSE)","v":"--"},{"$f":"VLOOKUP(Q11960,Lookup!A:B,2,FALSE)","v":"--"},{"$f":"VLOOKUP(R11960,Lookup!A:B,2,FALSE)","v":"--"},null,{"$f":"IF(E11960&F11960&G11960&I11960&K11960&M11960=\"\",\"\",IF(OR(H11960=\"\",D11960=\"\",AND(AC11960=0,'Contents & 6mo Restriction'!$BE$1=FALSE)),1,0))","v":""},"",0,0,0,0,0,0,null,null,null,null,null,null,null,null,null,null,null,null,null,null,null,null,null,null,null,null,null,null,null,null,null,null,null,null,null,null,null,null,null,null,null,null,null,null,null,null,null,null,null,null,null,null,null,null,null,null,null,null,null,null,null,null,null,null,null,null,null,null,null,null,null,null,null,null,null,null,null,null,null,null,null,null,null,null,null,null,null,null,null,null,null,null,null,null,null,null,null,null,null,null,null,null,null,null,null,null,null,null,0,0,""]
[null,null,null,null,null,null,null,null,null,null,null,null,null,null,"X","X","X","X",{"$f":"VLOOKUP(P11961,Lookup!A:B,2,FALSE)","v":"--"},{"$f":"VLOOKUP(Q11961,Lookup!A:B,2,FALSE)","v":"--"},{"$f":"VLOOKUP(R11961,Lookup!A:B,2,FALSE)","v":"--"},null,{"$f":"IF(E11961&F11961&G11961&I11961&K11961&M11961=\"\",\"\",IF(OR(H11961=\"\",D11961=\"\",AND(AC11961=0,'Contents & 6mo Restriction'!$BE$1=FALSE)),1,0))","v":""},"",0,0,0,0,0,0,null,null,null,null,null,null,null,null,null,null,null,null,null,null,null,null,null,null,null,null,null,null,null,null,null,null,null,null,null,null,null,null,null,null,null,null,null,null,null,null,null,null,null,null,null,null,null,null,null,null,null,null,null,null,null,null,null,null,null,null,null,null,null,null,null,null,null,null,null,null,null,null,null,null,null,null,null,null,null,null,null,null,null,null,null,null,null,null,null,null,null,null,null,null,null,null,null,null,null,null,null,null,0,0,""]
[null,null,null,null,null,null,null,null,null,null,null,null,null,null,"X","X","X","X",{"$f":"VLOOKUP(P11962,Lookup!A:B,2,FALSE)","v":"--"},{"$f":"VLOOKUP(Q11962,Lookup!A:B,2,FALSE)","v":"--"},{"$f":"VLOOKUP(R11962,Lookup!A:B,2,FALSE)","v":"--"},null,{"$f":"IF(E11962&F11962&G11962&I11962&K11962&M11962=\"\",\"\",IF(OR(H11962=\"\",D11962=\"\",AND(AC11962=0,'Contents & 6mo Restriction'!$BE$1=FALSE)),1,0))","v":""},"",0,0,0,0,0,0,null,null,null,null,null,null,null,null,null,null,null,null,null,null,null,null,null,null,null,null,null,null,null,null,null,null,null,null,null,null,null,null,null,null,null,null,null,null,null,null,null,null,null,null,null,null,null,null,null,null,null,null,null,null,null,null,null,null,null,null,null,null,null,null,null,null,null,null,null,null,null,null,null,null,null,null,null,null,null,null,null,null,null,null,null,null,null,null,null,null,null,null,null,null,null,null,null,null,null,null,null,null,0,0,""]
[null,null,null,null,null,null,null,null,null,null,null,null,null,null,"X",{"$f":"CONCATENATE(E11963,I11963,J11963,O11963)","v":"X"},{"$f":"CONCATENATE(F11963,K11963,L11963,O11963)","v":"X"},{"$f":"CONCATENATE(G11963,M11963,N11963,O11963)","v":"X"},{"$f":"VLOOKUP(P11963,Lookup!A:B,2,FALSE)","v":"--"},{"$f":"VLOOKUP(Q11963,Lookup!A:B,2,FALSE)","v":"--"},{"$f":"VLOOKUP(R11963,Lookup!A:B,2,FALSE)","v":"--"},null,{"$f":"IF(E11963&F11963&G11963&I11963&K11963&M11963=\"\",\"\",IF(OR(H11963=\"\",D11963=\"\",AND(AC11963=0,'Contents & 6mo Restriction'!$BE$1=FALSE)),1,0))","v":""},"",0,0,0,0,0,0,null,null,null,null,null,null,null,null,null,null,null,null,null,null,null,null,null,null,null,null,null,null,null,null,null,null,null,null,null,null,null,null,null,null,null,null,null,null,null,null,null,null,null,null,null,null,null,null,null,null,null,null,null,null,null,null,null,null,null,null,null,null,null,null,null,null,null,null,null,null,null,null,null,null,null,null,null,null,null,null,null,null,null,null,null,null,null,null,null,null,null,null,null,null,null,null,null,null,null,null,null,null,0,0,""]
[null,null,null,null,null,null,null,null,null,null,null,null,null,null,"X","X","X","X",{"$f":"VLOOKUP(P11964,Lookup!A:B,2,FALSE)","v":"--"},{"$f":"VLOOKUP(Q11964,Lookup!A:B,2,FALSE)","v":"--"},{"$f":"VLOOKUP(R11964,Lookup!A:B,2,FALSE)","v":"--"},null,{"$f":"IF(E11964&F11964&G11964&I11964&K11964&M11964=\"\",\"\",IF(OR(H11964=\"\",D11964=\"\",AND(AC11964=0,'Contents & 6mo Restriction'!$BE$1=FALSE)),1,0))","v":""},"",0,0,0,0,0,0,null,null,null,null,null,null,null,null,null,null,null,null,null,null,null,null,null,null,null,null,null,null,null,null,null,null,null,null,null,null,null,null,null,null,null,null,null,null,null,null,null,null,null,null,null,null,null,null,null,null,null,null,null,null,null,null,null,null,null,null,null,null,null,null,null,null,null,null,null,null,null,null,null,null,null,null,null,null,null,null,null,null,null,null,null,null,null,null,null,null,null,null,null,null,null,null,null,null,null,null,null,null,0,0,""]
[null,null,null,null,null,null,null,null,null,null,null,null,null,null,"X","X","X","X",{"$f":"VLOOKUP(P11965,Lookup!A:B,2,FALSE)","v":"--"},{"$f":"VLOOKUP(Q11965,Lookup!A:B,2,FALSE)","v":"--"},{"$f":"VLOOKUP(R11965,Lookup!A:B,2,FALSE)","v":"--"},null,{"$f":"IF(E11965&F11965&G11965&I11965&K11965&M11965=\"\",\"\",IF(OR(H11965=\"\",D11965=\"\",AND(AC11965=0,'Contents & 6mo Restriction'!$BE$1=FALSE)),1,0))","v":""},"",0,0,0,0,0,0,null,null,null,null,null,null,null,null,null,null,null,null,null,null,null,null,null,null,null,null,null,null,null,null,null,null,null,null,null,null,null,null,null,null,null,null,null,null,null,null,null,null,null,null,null,null,null,null,null,null,null,null,null,null,null,null,null,null,null,null,null,null,null,null,null,null,null,null,null,null,null,null,null,null,null,null,null,null,null,null,null,null,null,null,null,null,null,null,null,null,null,null,null,null,null,null,null,null,null,null,null,null,0,0,""]
[null,null,null,null,null,null,null,null,null,null,null,null,null,null,"X","X","X","X",{"$f":"VLOOKUP(P11966,Lookup!A:B,2,FALSE)","v":"--"},{"$f":"VLOOKUP(Q11966,Lookup!A:B,2,FALSE)","v":"--"},{"$f":"VLOOKUP(R11966,Lookup!A:B,2,FALSE)","v":"--"},null,{"$f":"IF(E11966&F11966&G11966&I11966&K11966&M11966=\"\",\"\",IF(OR(H11966=\"\",D11966=\"\",AND(AC11966=0,'Contents & 6mo Restriction'!$BE$1=FALSE)),1,0))","v":""},"",0,0,0,0,0,0,null,null,null,null,null,null,null,null,null,null,null,null,null,null,null,null,null,null,null,null,null,null,null,null,null,null,null,null,null,null,null,null,null,null,null,null,null,null,null,null,null,null,null,null,null,null,null,null,null,null,null,null,null,null,null,null,null,null,null,null,null,null,null,null,null,null,null,null,null,null,null,null,null,null,null,null,null,null,null,null,null,null,null,null,null,null,null,null,null,null,null,null,null,null,null,null,null,null,null,null,null,null,0,0,""]
[null,null,null,null,null,null,null,null,null,null,null,null,null,null,"X","X","X","X",{"$f":"VLOOKUP(P11967,Lookup!A:B,2,FALSE)","v":"--"},{"$f":"VLOOKUP(Q11967,Lookup!A:B,2,FALSE)","v":"--"},{"$f":"VLOOKUP(R11967,Lookup!A:B,2,FALSE)","v":"--"},null,{"$f":"IF(E11967&F11967&G11967&I11967&K11967&M11967=\"\",\"\",IF(OR(H11967=\"\",D11967=\"\",AND(AC11967=0,'Contents & 6mo Restriction'!$BE$1=FALSE)),1,0))","v":""},"",0,0,0,0,0,0,null,null,null,null,null,null,null,null,null,null,null,null,null,null,null,null,null,null,null,null,null,null,null,null,null,null,null,null,null,null,null,null,null,null,null,null,null,null,null,null,null,null,null,null,null,null,null,null,null,null,null,null,null,null,null,null,null,null,null,null,null,null,null,null,null,null,null,null,null,null,null,null,null,null,null,null,null,null,null,null,null,null,null,null,null,null,null,null,null,null,null,null,null,null,null,null,null,null,null,null,null,null,0,0,""]
[null,null,null,null,null,null,null,null,null,null,null,null,null,null,"X","X","X","X",{"$f":"VLOOKUP(P11968,Lookup!A:B,2,FALSE)","v":"--"},{"$f":"VLOOKUP(Q11968,Lookup!A:B,2,FALSE)","v":"--"},{"$f":"VLOOKUP(R11968,Lookup!A:B,2,FALSE)","v":"--"},null,{"$f":"IF(E11968&F11968&G11968&I11968&K11968&M11968=\"\",\"\",IF(OR(H11968=\"\",D11968=\"\",AND(AC11968=0,'Contents & 6mo Restriction'!$BE$1=FALSE)),1,0))","v":""},"",0,0,0,0,0,0,null,null,null,null,null,null,null,null,null,null,null,null,null,null,null,null,null,null,null,null,null,null,null,null,null,null,null,null,null,null,null,null,null,null,null,null,null,null,null,null,null,null,null,null,null,null,null,null,null,null,null,null,null,null,null,null,null,null,null,null,null,null,null,null,null,null,null,null,null,null,null,null,null,null,null,null,null,null,null,null,null,null,null,null,null,null,null,null,null,null,null,null,null,null,null,null,null,null,null,null,null,null,0,0,""]
[null,null,null,null,null,null,null,null,null,null,null,null,null,null,"X","X","X","X",{"$f":"VLOOKUP(P11969,Lookup!A:B,2,FALSE)","v":"--"},{"$f":"VLOOKUP(Q11969,Lookup!A:B,2,FALSE)","v":"--"},{"$f":"VLOOKUP(R11969,Lookup!A:B,2,FALSE)","v":"--"},null,{"$f":"IF(E11969&F11969&G11969&I11969&K11969&M11969=\"\",\"\",IF(OR(H11969=\"\",D11969=\"\",AND(AC11969=0,'Contents & 6mo Restriction'!$BE$1=FALSE)),1,0))","v":""},"",0,0,0,0,0,0,null,null,null,null,null,null,null,null,null,null,null,null,null,null,null,null,null,null,null,null,null,null,null,null,null,null,null,null,null,null,null,null,null,null,null,null,null,null,null,null,null,null,null,null,null,null,null,null,null,null,null,null,null,null,null,null,null,null,null,null,null,null,null,null,null,null,null,null,null,null,null,null,null,null,null,null,null,null,null,null,null,null,null,null,null,null,null,null,null,null,null,null,null,null,null,null,null,null,null,null,null,null,0,0,""]
[null,null,null,null,null,null,null,null,null,null,null,null,null,null,"X","X","X","X",{"$f":"VLOOKUP(P11970,Lookup!A:B,2,FALSE)","v":"--"},{"$f":"VLOOKUP(Q11970,Lookup!A:B,2,FALSE)","v":"--"},{"$f":"VLOOKUP(R11970,Lookup!A:B,2,FALSE)","v":"--"},null,{"$f":"IF(E11970&F11970&G11970&I11970&K11970&M11970=\"\",\"\",IF(OR(H11970=\"\",D11970=\"\",AND(AC11970=0,'Contents & 6mo Restriction'!$BE$1=FALSE)),1,0))","v":""},"",0,0,0,0,0,0,null,null,null,null,null,null,null,null,null,null,null,null,null,null,null,null,null,null,null,null,null,null,null,null,null,null,null,null,null,null,null,null,null,null,null,null,null,null,null,null,null,null,null,null,null,null,null,null,null,null,null,null,null,null,null,null,null,null,null,null,null,null,null,null,null,null,null,null,null,null,null,null,null,null,null,null,null,null,null,null,null,null,null,null,null,null,null,null,null,null,null,null,null,null,null,null,null,null,null,null,null,null,0,0,""]
[null,null,null,null,null,null,null,null,null,null,null,null,null,null,"X","X","X","X",{"$f":"VLOOKUP(P11971,Lookup!A:B,2,FALSE)","v":"--"},{"$f":"VLOOKUP(Q11971,Lookup!A:B,2,FALSE)","v":"--"},{"$f":"VLOOKUP(R11971,Lookup!A:B,2,FALSE)","v":"--"},null,{"$f":"IF(E11971&F11971&G11971&I11971&K11971&M11971=\"\",\"\",IF(OR(H11971=\"\",D11971=\"\",AND(AC11971=0,'Contents & 6mo Restriction'!$BE$1=FALSE)),1,0))","v":""},"",0,0,0,0,0,0,null,null,null,null,null,null,null,null,null,null,null,null,null,null,null,null,null,null,null,null,null,null,null,null,null,null,null,null,null,null,null,null,null,null,null,null,null,null,null,null,null,null,null,null,null,null,null,null,null,null,null,null,null,null,null,null,null,null,null,null,null,null,null,null,null,null,null,null,null,null,null,null,null,null,null,null,null,null,null,null,null,null,null,null,null,null,null,null,null,null,null,null,null,null,null,null,null,null,null,null,null,null,0,0,""]
[null,null,null,null,null,null,null,null,null,null,null,null,null,null,"X","X","X","X",{"$f":"VLOOKUP(P11972,Lookup!A:B,2,FALSE)","v":"--"},{"$f":"VLOOKUP(Q11972,Lookup!A:B,2,FALSE)","v":"--"},{"$f":"VLOOKUP(R11972,Lookup!A:B,2,FALSE)","v":"--"},null,{"$f":"IF(E11972&F11972&G11972&I11972&K11972&M11972=\"\",\"\",IF(OR(H11972=\"\",D11972=\"\",AND(AC11972=0,'Contents & 6mo Restriction'!$BE$1=FALSE)),1,0))","v":""},"",0,0,0,0,0,0,null,null,null,null,null,null,null,null,null,null,null,null,null,null,null,null,null,null,null,null,null,null,null,null,null,null,null,null,null,null,null,null,null,null,null,null,null,null,null,null,null,null,null,null,null,null,null,null,null,null,null,null,null,null,null,null,null,null,null,null,null,null,null,null,null,null,null,null,null,null,null,null,null,null,null,null,null,null,null,null,null,null,null,null,null,null,null,null,null,null,null,null,null,null,null,null,null,null,null,null,null,null,0,0,""]
[null,null,null,null,null,null,null,null,null,null,null,null,null,null,"X","X","X","X",{"$f":"VLOOKUP(P11973,Lookup!A:B,2,FALSE)","v":"--"},{"$f":"VLOOKUP(Q11973,Lookup!A:B,2,FALSE)","v":"--"},{"$f":"VLOOKUP(R11973,Lookup!A:B,2,FALSE)","v":"--"},null,{"$f":"IF(E11973&F11973&G11973&I11973&K11973&M11973=\"\",\"\",IF(OR(H11973=\"\",D11973=\"\",AND(AC11973=0,'Contents & 6mo Restriction'!$BE$1=FALSE)),1,0))","v":""},"",0,0,0,0,0,0,null,null,null,null,null,null,null,null,null,null,null,null,null,null,null,null,null,null,null,null,null,null,null,null,null,null,null,null,null,null,null,null,null,null,null,null,null,null,null,null,null,null,null,null,null,null,null,null,null,null,null,null,null,null,null,null,null,null,null,null,null,null,null,null,null,null,null,null,null,null,null,null,null,null,null,null,null,null,null,null,null,null,null,null,null,null,null,null,null,null,null,null,null,null,null,null,null,null,null,null,null,null,0,0,""]
[null,null,null,null,null,null,null,null,null,null,null,null,null,null,"X","X","X","X",{"$f":"VLOOKUP(P11974,Lookup!A:B,2,FALSE)","v":"--"},{"$f":"VLOOKUP(Q11974,Lookup!A:B,2,FALSE)","v":"--"},{"$f":"VLOOKUP(R11974,Lookup!A:B,2,FALSE)","v":"--"},null,{"$f":"IF(E11974&F11974&G11974&I11974&K11974&M11974=\"\",\"\",IF(OR(H11974=\"\",D11974=\"\",AND(AC11974=0,'Contents & 6mo Restriction'!$BE$1=FALSE)),1,0))","v":""},"",0,0,0,0,0,0,null,null,null,null,null,null,null,null,null,null,null,null,null,null,null,null,null,null,null,null,null,null,null,null,null,null,null,null,null,null,null,null,null,null,null,null,null,null,null,null,null,null,null,null,null,null,null,null,null,null,null,null,null,null,null,null,null,null,null,null,null,null,null,null,null,null,null,null,null,null,null,null,null,null,null,null,null,null,null,null,null,null,null,null,null,null,null,null,null,null,null,null,null,null,null,null,null,null,null,null,null,null,0,0,""]
[null,null,null,null,null,null,null,null,null,null,null,null,null,null,"X","X","X","X",{"$f":"VLOOKUP(P11975,Lookup!A:B,2,FALSE)","v":"--"},{"$f":"VLOOKUP(Q11975,Lookup!A:B,2,FALSE)","v":"--"},{"$f":"VLOOKUP(R11975,Lookup!A:B,2,FALSE)","v":"--"},null,{"$f":"IF(E11975&F11975&G11975&I11975&K11975&M11975=\"\",\"\",IF(OR(H11975=\"\",D11975=\"\",AND(AC11975=0,'Contents & 6mo Restriction'!$BE$1=FALSE)),1,0))","v":""},"",0,0,0,0,0,0,null,null,null,null,null,null,null,null,null,null,null,null,null,null,null,null,null,null,null,null,null,null,null,null,null,null,null,null,null,null,null,null,null,null,null,null,null,null,null,null,null,null,null,null,null,null,null,null,null,null,null,null,null,null,null,null,null,null,null,null,null,null,null,null,null,null,null,null,null,null,null,null,null,null,null,null,null,null,null,null,null,null,null,null,null,null,null,null,null,null,null,null,null,null,null,null,null,null,null,null,null,null,0,0,""]
[null,null,null,null,null,null,null,null,null,null,null,null,null,null,"X","X","X","X",{"$f":"VLOOKUP(P11976,Lookup!A:B,2,FALSE)","v":"--"},{"$f":"VLOOKUP(Q11976,Lookup!A:B,2,FALSE)","v":"--"},{"$f":"VLOOKUP(R11976,Lookup!A:B,2,FALSE)","v":"--"},null,{"$f":"IF(E11976&F11976&G11976&I11976&K11976&M11976=\"\",\"\",IF(OR(H11976=\"\",D11976=\"\",AND(AC11976=0,'Contents & 6mo Restriction'!$BE$1=FALSE)),1,0))","v":""},"",0,0,0,0,0,0,null,null,null,null,null,null,null,null,null,null,null,null,null,null,null,null,null,null,null,null,null,null,null,null,null,null,null,null,null,null,null,null,null,null,null,null,null,null,null,null,null,null,null,null,null,null,null,null,null,null,null,null,null,null,null,null,null,null,null,null,null,null,null,null,null,null,null,null,null,null,null,null,null,null,null,null,null,null,null,null,null,null,null,null,null,null,null,null,null,null,null,null,null,null,null,null,null,null,null,null,null,null,0,0,""]
[null,null,null,null,null,null,null,null,null,null,null,null,null,null,"X","X","X","X",{"$f":"VLOOKUP(P11977,Lookup!A:B,2,FALSE)","v":"--"},{"$f":"VLOOKUP(Q11977,Lookup!A:B,2,FALSE)","v":"--"},{"$f":"VLOOKUP(R11977,Lookup!A:B,2,FALSE)","v":"--"},null,{"$f":"IF(E11977&F11977&G11977&I11977&K11977&M11977=\"\",\"\",IF(OR(H11977=\"\",D11977=\"\",AND(AC11977=0,'Contents & 6mo Restriction'!$BE$1=FALSE)),1,0))","v":""},"",0,0,0,0,0,0,null,null,null,null,null,null,null,null,null,null,null,null,null,null,null,null,null,null,null,null,null,null,null,null,null,null,null,null,null,null,null,null,null,null,null,null,null,null,null,null,null,null,null,null,null,null,null,null,null,null,null,null,null,null,null,null,null,null,null,null,null,null,null,null,null,null,null,null,null,null,null,null,null,null,null,null,null,null,null,null,null,null,null,null,null,null,null,null,null,null,null,null,null,null,null,null,null,null,null,null,null,null,0,0,""]
[null,null,null,null,null,null,null,null,null,null,null,null,null,null,"X","X","X","X",{"$f":"VLOOKUP(P11978,Lookup!A:B,2,FALSE)","v":"--"},{"$f":"VLOOKUP(Q11978,Lookup!A:B,2,FALSE)","v":"--"},{"$f":"VLOOKUP(R11978,Lookup!A:B,2,FALSE)","v":"--"},null,{"$f":"IF(E11978&F11978&G11978&I11978&K11978&M11978=\"\",\"\",IF(OR(H11978=\"\",D11978=\"\",AND(AC11978=0,'Contents & 6mo Restriction'!$BE$1=FALSE)),1,0))","v":""},"",0,0,0,0,0,0,null,null,null,null,null,null,null,null,null,null,null,null,null,null,null,null,null,null,null,null,null,null,null,null,null,null,null,null,null,null,null,null,null,null,null,null,null,null,null,null,null,null,null,null,null,null,null,null,null,null,null,null,null,null,null,null,null,null,null,null,null,null,null,null,null,null,null,null,null,null,null,null,null,null,null,null,null,null,null,null,null,null,null,null,null,null,null,null,null,null,null,null,null,null,null,null,null,null,null,null,null,null,0,0,""]
[null,null,null,null,null,null,null,null,null,null,null,null,null,null,"X","X","X","X",{"$f":"VLOOKUP(P11979,Lookup!A:B,2,FALSE)","v":"--"},{"$f":"VLOOKUP(Q11979,Lookup!A:B,2,FALSE)","v":"--"},{"$f":"VLOOKUP(R11979,Lookup!A:B,2,FALSE)","v":"--"},null,{"$f":"IF(E11979&F11979&G11979&I11979&K11979&M11979=\"\",\"\",IF(OR(H11979=\"\",D11979=\"\",AND(AC11979=0,'Contents & 6mo Restriction'!$BE$1=FALSE)),1,0))","v":""},"",0,0,0,0,0,0,null,null,null,null,null,null,null,null,null,null,null,null,null,null,null,null,null,null,null,null,null,null,null,null,null,null,null,null,null,null,null,null,null,null,null,null,null,null,null,null,null,null,null,null,null,null,null,null,null,null,null,null,null,null,null,null,null,null,null,null,null,null,null,null,null,null,null,null,null,null,null,null,null,null,null,null,null,null,null,null,null,null,null,null,null,null,null,null,null,null,null,null,null,null,null,null,null,null,null,null,null,null,0,0,""]
[null,null,null,null,null,null,null,null,null,null,null,null,null,null,"X","X","X","X",{"$f":"VLOOKUP(P11980,Lookup!A:B,2,FALSE)","v":"--"},{"$f":"VLOOKUP(Q11980,Lookup!A:B,2,FALSE)","v":"--"},{"$f":"VLOOKUP(R11980,Lookup!A:B,2,FALSE)","v":"--"},null,{"$f":"IF(E11980&F11980&G11980&I11980&K11980&M11980=\"\",\"\",IF(OR(H11980=\"\",D11980=\"\",AND(AC11980=0,'Contents & 6mo Restriction'!$BE$1=FALSE)),1,0))","v":""},"",0,0,0,0,0,0,null,null,null,null,null,null,null,null,null,null,null,null,null,null,null,null,null,null,null,null,null,null,null,null,null,null,null,null,null,null,null,null,null,null,null,null,null,null,null,null,null,null,null,null,null,null,null,null,null,null,null,null,null,null,null,null,null,null,null,null,null,null,null,null,null,null,null,null,null,null,null,null,null,null,null,null,null,null,null,null,null,null,null,null,null,null,null,null,null,null,null,null,null,null,null,null,null,null,null,null,null,null,0,0,""]
[null,null,null,null,null,null,null,null,null,null,null,null,null,null,"X","X","X","X",{"$f":"VLOOKUP(P11981,Lookup!A:B,2,FALSE)","v":"--"},{"$f":"VLOOKUP(Q11981,Lookup!A:B,2,FALSE)","v":"--"},{"$f":"VLOOKUP(R11981,Lookup!A:B,2,FALSE)","v":"--"},null,{"$f":"IF(E11981&F11981&G11981&I11981&K11981&M11981=\"\",\"\",IF(OR(H11981=\"\",D11981=\"\",AND(AC11981=0,'Contents & 6mo Restriction'!$BE$1=FALSE)),1,0))","v":""},"",0,0,0,0,0,0,null,null,null,null,null,null,null,null,null,null,null,null,null,null,null,null,null,null,null,null,null,null,null,null,null,null,null,null,null,null,null,null,null,null,null,null,null,null,null,null,null,null,null,null,null,null,null,null,null,null,null,null,null,null,null,null,null,null,null,null,null,null,null,null,null,null,null,null,null,null,null,null,null,null,null,null,null,null,null,null,null,null,null,null,null,null,null,null,null,null,null,null,null,null,null,null,null,null,null,null,null,null,0,0,""]
[null,null,null,null,null,null,null,null,null,null,null,null,null,null,"X","X","X","X",{"$f":"VLOOKUP(P11982,Lookup!A:B,2,FALSE)","v":"--"},{"$f":"VLOOKUP(Q11982,Lookup!A:B,2,FALSE)","v":"--"},{"$f":"VLOOKUP(R11982,Lookup!A:B,2,FALSE)","v":"--"},null,{"$f":"IF(E11982&F11982&G11982&I11982&K11982&M11982=\"\",\"\",IF(OR(H11982=\"\",D11982=\"\",AND(AC11982=0,'Contents & 6mo Restriction'!$BE$1=FALSE)),1,0))","v":""},"",0,0,0,0,0,0,null,null,null,null,null,null,null,null,null,null,null,null,null,null,null,null,null,null,null,null,null,null,null,null,null,null,null,null,null,null,null,null,null,null,null,null,null,null,null,null,null,null,null,null,null,null,null,null,null,null,null,null,null,null,null,null,null,null,null,null,null,null,null,null,null,null,null,null,null,null,null,null,null,null,null,null,null,null,null,null,null,null,null,null,null,null,null,null,null,null,null,null,null,null,null,null,null,null,null,null,null,null,0,0,""]
[null,null,null,null,null,null,null,null,null,null,null,null,null,null,"X","X","X","X",{"$f":"VLOOKUP(P11983,Lookup!A:B,2,FALSE)","v":"--"},{"$f":"VLOOKUP(Q11983,Lookup!A:B,2,FALSE)","v":"--"},{"$f":"VLOOKUP(R11983,Lookup!A:B,2,FALSE)","v":"--"},null,{"$f":"IF(E11983&F11983&G11983&I11983&K11983&M11983=\"\",\"\",IF(OR(H11983=\"\",D11983=\"\",AND(AC11983=0,'Contents & 6mo Restriction'!$BE$1=FALSE)),1,0))","v":""},"",0,0,0,0,0,0,null,null,null,null,null,null,null,null,null,null,null,null,null,null,null,null,null,null,null,null,null,null,null,null,null,null,null,null,null,null,null,null,null,null,null,null,null,null,null,null,null,null,null,null,null,null,null,null,null,null,null,null,null,null,null,null,null,null,null,null,null,null,null,null,null,null,null,null,null,null,null,null,null,null,null,null,null,null,null,null,null,null,null,null,null,null,null,null,null,null,null,null,null,null,null,null,null,null,null,null,null,null,0,0,""]
[null,null,null,null,null,null,null,null,null,null,null,null,null,null,"X","X","X","X",{"$f":"VLOOKUP(P11984,Lookup!A:B,2,FALSE)","v":"--"},{"$f":"VLOOKUP(Q11984,Lookup!A:B,2,FALSE)","v":"--"},{"$f":"VLOOKUP(R11984,Lookup!A:B,2,FALSE)","v":"--"},null,{"$f":"IF(E11984&F11984&G11984&I11984&K11984&M11984=\"\",\"\",IF(OR(H11984=\"\",D11984=\"\",AND(AC11984=0,'Contents & 6mo Restriction'!$BE$1=FALSE)),1,0))","v":""},"",0,0,0,0,0,0,null,null,null,null,null,null,null,null,null,null,null,null,null,null,null,null,null,null,null,null,null,null,null,null,null,null,null,null,null,null,null,null,null,null,null,null,null,null,null,null,null,null,null,null,null,null,null,null,null,null,null,null,null,null,null,null,null,null,null,null,null,null,null,null,null,null,null,null,null,null,null,null,null,null,null,null,null,null,null,null,null,null,null,null,null,null,null,null,null,null,null,null,null,null,null,null,null,null,null,null,null,null,0,0,""]
[null,null,null,null,null,null,null,null,null,null,null,null,null,null,"X","X","X","X",{"$f":"VLOOKUP(P11985,Lookup!A:B,2,FALSE)","v":"--"},{"$f":"VLOOKUP(Q11985,Lookup!A:B,2,FALSE)","v":"--"},{"$f":"VLOOKUP(R11985,Lookup!A:B,2,FALSE)","v":"--"},null,{"$f":"IF(E11985&F11985&G11985&I11985&K11985&M11985=\"\",\"\",IF(OR(H11985=\"\",D11985=\"\",AND(AC11985=0,'Contents & 6mo Restriction'!$BE$1=FALSE)),1,0))","v":""},"",0,0,0,0,0,0,null,null,null,null,null,null,null,null,null,null,null,null,null,null,null,null,null,null,null,null,null,null,null,null,null,null,null,null,null,null,null,null,null,null,null,null,null,null,null,null,null,null,null,null,null,null,null,null,null,null,null,null,null,null,null,null,null,null,null,null,null,null,null,null,null,null,null,null,null,null,null,null,null,null,null,null,null,null,null,null,null,null,null,null,null,null,null,null,null,null,null,null,null,null,null,null,null,null,null,null,null,null,0,0,""]
[null,null,null,null,null,null,null,null,null,null,null,null,null,null,"X","X","X","X",{"$f":"VLOOKUP(P11986,Lookup!A:B,2,FALSE)","v":"--"},{"$f":"VLOOKUP(Q11986,Lookup!A:B,2,FALSE)","v":"--"},{"$f":"VLOOKUP(R11986,Lookup!A:B,2,FALSE)","v":"--"},null,{"$f":"IF(E11986&F11986&G11986&I11986&K11986&M11986=\"\",\"\",IF(OR(H11986=\"\",D11986=\"\",AND(AC11986=0,'Contents & 6mo Restriction'!$BE$1=FALSE)),1,0))","v":""},"",0,0,0,0,0,0,null,null,null,null,null,null,null,null,null,null,null,null,null,null,null,null,null,null,null,null,null,null,null,null,null,null,null,null,null,null,null,null,null,null,null,null,null,null,null,null,null,null,null,null,null,null,null,null,null,null,null,null,null,null,null,null,null,null,null,null,null,null,null,null,null,null,null,null,null,null,null,null,null,null,null,null,null,null,null,null,null,null,null,null,null,null,null,null,null,null,null,null,null,null,null,null,null,null,null,null,null,null,0,0,""]
[null,null,null,null,null,null,null,null,null,null,null,null,null,null,"X","X","X","X",{"$f":"VLOOKUP(P11987,Lookup!A:B,2,FALSE)","v":"--"},{"$f":"VLOOKUP(Q11987,Lookup!A:B,2,FALSE)","v":"--"},{"$f":"VLOOKUP(R11987,Lookup!A:B,2,FALSE)","v":"--"},null,{"$f":"IF(E11987&F11987&G11987&I11987&K11987&M11987=\"\",\"\",IF(OR(H11987=\"\",D11987=\"\",AND(AC11987=0,'Contents & 6mo Restriction'!$BE$1=FALSE)),1,0))","v":""},"",0,0,0,0,0,0,null,null,null,null,null,null,null,null,null,null,null,null,null,null,null,null,null,null,null,null,null,null,null,null,null,null,null,null,null,null,null,null,null,null,null,null,null,null,null,null,null,null,null,null,null,null,null,null,null,null,null,null,null,null,null,null,null,null,null,null,null,null,null,null,null,null,null,null,null,null,null,null,null,null,null,null,null,null,null,null,null,null,null,null,null,null,null,null,null,null,null,null,null,null,null,null,null,null,null,null,null,null,0,0,""]
[null,null,null,null,null,null,null,null,null,null,null,null,null,null,"X","X","X","X",{"$f":"VLOOKUP(P11988,Lookup!A:B,2,FALSE)","v":"--"},{"$f":"VLOOKUP(Q11988,Lookup!A:B,2,FALSE)","v":"--"},{"$f":"VLOOKUP(R11988,Lookup!A:B,2,FALSE)","v":"--"},null,{"$f":"IF(E11988&F11988&G11988&I11988&K11988&M11988=\"\",\"\",IF(OR(H11988=\"\",D11988=\"\",AND(AC11988=0,'Contents & 6mo Restriction'!$BE$1=FALSE)),1,0))","v":""},"",0,0,0,0,0,0,null,null,null,null,null,null,null,null,null,null,null,null,null,null,null,null,null,null,null,null,null,null,null,null,null,null,null,null,null,null,null,null,null,null,null,null,null,null,null,null,null,null,null,null,null,null,null,null,null,null,null,null,null,null,null,null,null,null,null,null,null,null,null,null,null,null,null,null,null,null,null,null,null,null,null,null,null,null,null,null,null,null,null,null,null,null,null,null,null,null,null,null,null,null,null,null,null,null,null,null,null,null,0,0,""]
[null,null,null,null,null,null,null,null,null,null,null,null,null,null,"X","X","X","X",{"$f":"VLOOKUP(P11989,Lookup!A:B,2,FALSE)","v":"--"},{"$f":"VLOOKUP(Q11989,Lookup!A:B,2,FALSE)","v":"--"},{"$f":"VLOOKUP(R11989,Lookup!A:B,2,FALSE)","v":"--"},null,{"$f":"IF(E11989&F11989&G11989&I11989&K11989&M11989=\"\",\"\",IF(OR(H11989=\"\",D11989=\"\",AND(AC11989=0,'Contents & 6mo Restriction'!$BE$1=FALSE)),1,0))","v":""},"",0,0,0,0,0,0,null,null,null,null,null,null,null,null,null,null,null,null,null,null,null,null,null,null,null,null,null,null,null,null,null,null,null,null,null,null,null,null,null,null,null,null,null,null,null,null,null,null,null,null,null,null,null,null,null,null,null,null,null,null,null,null,null,null,null,null,null,null,null,null,null,null,null,null,null,null,null,null,null,null,null,null,null,null,null,null,null,null,null,null,null,null,null,null,null,null,null,null,null,null,null,null,null,null,null,null,null,null,0,{"$f":"IF(ISERROR(FIND(\"progress\",S11989&T11989&U11989)),0,1)","v":0},""]
[null,null,null,null,null,null,null,null,null,null,null,null,null,null,"X","X","X","X",{"$f":"VLOOKUP(P11990,Lookup!A:B,2,FALSE)","v":"--"},{"$f":"VLOOKUP(Q11990,Lookup!A:B,2,FALSE)","v":"--"},{"$f":"VLOOKUP(R11990,Lookup!A:B,2,FALSE)","v":"--"},null,{"$f":"IF(E11990&F11990&G11990&I11990&K11990&M11990=\"\",\"\",IF(OR(H11990=\"\",D11990=\"\",AND(AC11990=0,'Contents & 6mo Restriction'!$BE$1=FALSE)),1,0))","v":""},{"$f":"IF(CONCATENATE(B11990,C11990,E11990,F11990,G11990)=\"\",\"\",1)","v":""},{"$f":"IF(AND(W11990=0,OR(S11990=\"a\",S11990=\"b\",S11990=\"c\",S11990=\"d\",S11990=\"e\",T11990=\"a\",T11990=\"b\",T11990=\"c\",T11990=\"d\",T11990=\"e\",U11990=\"a\",U11990=\"b\",U11990=\"c\",U11990=\"d\",U11990=\"e\")),1,0)","v":0},{"$f":"IF(AND(OR(S11990=\"a\",S11990=\"b\",S11990=\"c\",S11990=\"d\",S11990=\"e\"),OR(T11990=\"a\",T11990=\"b\",T11990=\"c\",T11990=\"d\",T11990=\"e\"),OR(U11990=\"a\",U11990=\"b\",U11990=\"c\",U11990=\"d\",U11990=\"e\"),W11990=0),1,0)","v":0},{"$f":"IF(SUM(AB11990:AD11990)>0,1,0)","v":0},{"$f":"IF(H11990>=DATE(YEAR(D11990),MONTH(D11990)+6,DAY(D11990)),1,0)","v":0},{"$f":"IF(H11990-D11990>=182,1,0)","v":0},{"$f":"IF(OR(AND(MONTH(D11990)=8,DAY(D11990)=30,H11990-D11990>=182),AND(MONTH(D11990)=8,DAY(D11990)=31,H11990-D11990>=181),AND(MONTH(D11990)=10,DAY(D11990)=31,H11990-D11990>=181),AND(MONTH(D11990)=12,DAY(D11990)=31,H11990-D11990>=181)),1,0)","v":0},null,null,null,null,null,null,null,null,null,null,null,null,null,null,null,null,null,null,null,null,null,null,null,null,null,null,null,null,null,null,null,null,null,null,null,null,null,null,null,null,null,null,null,null,null,null,null,null,null,null,null,null,null,null,null,null,null,null,null,null,null,null,null,null,null,null,null,null,null,null,null,null,null,null,null,null,null,null,null,null,null,null,null,null,null,null,null,null,null,null,null,null,null,null,null,null,null,null,null,null,null,null,0,0,{"$f":"IFERROR(W11990,\"Please enter valid dates\")","v":""}]
[null,null,null,null,null,null,null,null,null,null,null,null,null,null,"X","X","X","X",{"$f":"VLOOKUP(P11991,Lookup!A:B,2,FALSE)","v":"--"},{"$f":"VLOOKUP(Q11991,Lookup!A:B,2,FALSE)","v":"--"},{"$f":"VLOOKUP(R11991,Lookup!A:B,2,FALSE)","v":"--"},null,{"$f":"IF(E11991&F11991&G11991&I11991&K11991&M11991=\"\",\"\",IF(OR(H11991=\"\",D11991=\"\",AND(AC11991=0,'Contents & 6mo Restriction'!$BE$1=FALSE)),1,0))","v":""},"",0,0,0,0,0,0,null,null,null,null,null,null,null,null,null,null,null,null,null,null,null,null,null,null,null,null,null,null,null,null,null,null,null,null,null,null,null,null,null,null,null,null,null,null,null,null,null,null,null,null,null,null,null,null,null,null,null,null,null,null,null,null,null,null,null,null,null,null,null,null,null,null,null,null,null,null,null,null,null,null,null,null,null,null,null,null,null,null,null,null,null,null,null,null,null,null,null,null,null,null,null,null,null,null,null,null,null,null,0,0,""]
[null,null,null,null,null,null,null,null,null,null,null,null,null,null,"X","X","X","X",{"$f":"VLOOKUP(P11992,Lookup!A:B,2,FALSE)","v":"--"},{"$f":"VLOOKUP(Q11992,Lookup!A:B,2,FALSE)","v":"--"},{"$f":"VLOOKUP(R11992,Lookup!A:B,2,FALSE)","v":"--"},null,{"$f":"IF(E11992&F11992&G11992&I11992&K11992&M11992=\"\",\"\",IF(OR(H11992=\"\",D11992=\"\",AND(AC11992=0,'Contents & 6mo Restriction'!$BE$1=FALSE)),1,0))","v":""},"",0,0,0,0,0,0,null,null,null,null,null,null,null,null,null,null,null,null,null,null,null,null,null,null,null,null,null,null,null,null,null,null,null,null,null,null,null,null,null,null,null,null,null,null,null,null,null,null,null,null,null,null,null,null,null,null,null,null,null,null,null,null,null,null,null,null,null,null,null,null,null,null,null,null,null,null,null,null,null,null,null,null,null,null,null,null,null,null,null,null,null,null,null,null,null,null,null,null,null,null,null,null,null,null,null,null,null,null,0,0,""]
[null,null,null,null,null,null,null,null,null,null,null,null,null,null,"X","X","X","X",{"$f":"VLOOKUP(P11993,Lookup!A:B,2,FALSE)","v":"--"},{"$f":"VLOOKUP(Q11993,Lookup!A:B,2,FALSE)","v":"--"},{"$f":"VLOOKUP(R11993,Lookup!A:B,2,FALSE)","v":"--"},null,{"$f":"IF(E11993&F11993&G11993&I11993&K11993&M11993=\"\",\"\",IF(OR(H11993=\"\",D11993=\"\",AND(AC11993=0,'Contents & 6mo Restriction'!$BE$1=FALSE)),1,0))","v":""},"",0,0,0,0,0,0,null,null,null,null,null,null,null,null,null,null,null,null,null,null,null,null,null,null,null,null,null,null,null,null,null,null,null,null,null,null,null,null,null,null,null,null,null,null,null,null,null,null,null,null,null,null,null,null,null,null,null,null,null,null,null,null,null,null,null,null,null,null,null,null,null,null,null,null,null,null,null,null,null,null,null,null,null,null,null,null,null,null,null,null,null,null,null,null,null,null,null,null,null,null,null,null,null,null,null,null,null,null,0,0,""]
[null,null,null,null,null,null,null,null,null,null,null,null,null,null,"X","X","X","X",{"$f":"VLOOKUP(P11994,Lookup!A:B,2,FALSE)","v":"--"},{"$f":"VLOOKUP(Q11994,Lookup!A:B,2,FALSE)","v":"--"},{"$f":"VLOOKUP(R11994,Lookup!A:B,2,FALSE)","v":"--"},null,{"$f":"IF(E11994&F11994&G11994&I11994&K11994&M11994=\"\",\"\",IF(OR(H11994=\"\",D11994=\"\",AND(AC11994=0,'Contents & 6mo Restriction'!$BE$1=FALSE)),1,0))","v":""},"",0,0,0,0,0,0,null,null,null,null,null,null,null,null,null,null,null,null,null,null,null,null,null,null,null,null,null,null,null,null,null,null,null,null,null,null,null,null,null,null,null,null,null,null,null,null,null,null,null,null,null,null,null,null,null,null,null,null,null,null,null,null,null,null,null,null,null,null,null,null,null,null,null,null,null,null,null,null,null,null,null,null,null,null,null,null,null,null,null,null,null,null,null,null,null,null,null,null,null,null,null,null,null,null,null,null,null,null,{"$f":"IF(ISERROR(FIND(\"Impossible\",S11994&T11994&U11994)),0,1)","v":0},0,""]
[null,null,null,null,null,null,null,null,null,null,null,null,null,null,"X","X","X","X",{"$f":"VLOOKUP(P11995,Lookup!A:B,2,FALSE)","v":"--"},{"$f":"VLOOKUP(Q11995,Lookup!A:B,2,FALSE)","v":"--"},{"$f":"VLOOKUP(R11995,Lookup!A:B,2,FALSE)","v":"--"},null,{"$f":"IF(E11995&F11995&G11995&I11995&K11995&M11995=\"\",\"\",IF(OR(H11995=\"\",D11995=\"\",AND(AC11995=0,'Contents & 6mo Restriction'!$BE$1=FALSE)),1,0))","v":""},"",0,0,0,0,0,0,null,null,null,null,null,null,null,null,null,null,null,null,null,null,null,null,null,null,null,null,null,null,null,null,null,null,null,null,null,null,null,null,null,null,null,null,null,null,null,null,null,null,null,null,null,null,null,null,null,null,null,null,null,null,null,null,null,null,null,null,null,null,null,null,null,null,null,null,null,null,null,null,null,null,null,null,null,null,null,null,null,null,null,null,null,null,null,null,null,null,null,null,null,null,null,null,null,null,null,null,null,null,0,0,""]
[null,null,null,null,null,null,null,null,null,null,null,null,null,null,"X","X","X","X",{"$f":"VLOOKUP(P11996,Lookup!A:B,2,FALSE)","v":"--"},{"$f":"VLOOKUP(Q11996,Lookup!A:B,2,FALSE)","v":"--"},{"$f":"VLOOKUP(R11996,Lookup!A:B,2,FALSE)","v":"--"},null,{"$f":"IF(E11996&F11996&G11996&I11996&K11996&M11996=\"\",\"\",IF(OR(H11996=\"\",D11996=\"\",AND(AC11996=0,'Contents & 6mo Restriction'!$BE$1=FALSE)),1,0))","v":""},"",0,0,0,0,0,0,null,null,null,null,null,null,null,null,null,null,null,null,null,null,null,null,null,null,null,null,null,null,null,null,null,null,null,null,null,null,null,null,null,null,null,null,null,null,null,null,null,null,null,null,null,null,null,null,null,null,null,null,null,null,null,null,null,null,null,null,null,null,null,null,null,null,null,null,null,null,null,null,null,null,null,null,null,null,null,null,null,null,null,null,null,null,null,null,null,null,null,null,null,null,null,null,null,null,null,null,null,null,0,0,""]
[null,null,null,null,null,null,null,null,null,null,null,null,null,null,"X","X","X","X",{"$f":"VLOOKUP(P11997,Lookup!A:B,2,FALSE)","v":"--"},{"$f":"VLOOKUP(Q11997,Lookup!A:B,2,FALSE)","v":"--"},{"$f":"VLOOKUP(R11997,Lookup!A:B,2,FALSE)","v":"--"},null,{"$f":"IF(E11997&F11997&G11997&I11997&K11997&M11997=\"\",\"\",IF(OR(H11997=\"\",D11997=\"\",AND(AC11997=0,'Contents & 6mo Restriction'!$BE$1=FALSE)),1,0))","v":""},"",0,0,0,0,0,0,null,null,null,null,null,null,null,null,null,null,null,null,null,null,null,null,null,null,null,null,null,null,null,null,null,null,null,null,null,null,null,null,null,null,null,null,null,null,null,null,null,null,null,null,null,null,null,null,null,null,null,null,null,null,null,null,null,null,null,null,null,null,null,null,null,null,null,null,null,null,null,null,null,null,null,null,null,null,null,null,null,null,null,null,null,null,null,null,null,null,null,null,null,null,null,null,null,null,null,null,null,null,0,0,""]
[null,null,null,null,null,null,null,null,null,null,null,null,null,null,"X","X","X","X",{"$f":"VLOOKUP(P11998,Lookup!A:B,2,FALSE)","v":"--"},{"$f":"VLOOKUP(Q11998,Lookup!A:B,2,FALSE)","v":"--"},{"$f":"VLOOKUP(R11998,Lookup!A:B,2,FALSE)","v":"--"},null,{"$f":"IF(E11998&F11998&G11998&I11998&K11998&M11998=\"\",\"\",IF(OR(H11998=\"\",D11998=\"\",AND(AC11998=0,'Contents & 6mo Restriction'!$BE$1=FALSE)),1,0))","v":""},"",0,0,0,0,0,0,null,null,null,null,null,null,null,null,null,null,null,null,null,null,null,null,null,null,null,null,null,null,null,null,null,null,null,null,null,null,null,null,null,null,null,null,null,null,null,null,null,null,null,null,null,null,null,null,null,null,null,null,null,null,null,null,null,null,null,null,null,null,null,null,null,null,null,null,null,null,null,null,null,null,null,null,null,null,null,null,null,null,null,null,null,null,null,null,null,null,null,null,null,null,null,null,null,null,null,null,null,null,0,0,""]
[null,null,null,null,null,null,null,null,null,null,null,null,null,null,"X","X","X","X",{"$f":"VLOOKUP(P11999,Lookup!A:B,2,FALSE)","v":"--"},{"$f":"VLOOKUP(Q11999,Lookup!A:B,2,FALSE)","v":"--"},{"$f":"VLOOKUP(R11999,Lookup!A:B,2,FALSE)","v":"--"},null,{"$f":"IF(E11999&F11999&G11999&I11999&K11999&M11999=\"\",\"\",IF(OR(H11999=\"\",D11999=\"\",AND(AC11999=0,'Contents & 6mo Restriction'!$BE$1=FALSE)),1,0))","v":""},"",0,0,0,0,0,0,null,null,null,null,null,null,null,null,null,null,null,null,null,null,null,null,null,null,null,null,null,null,null,null,null,null,null,null,null,null,null,null,null,null,null,null,null,null,null,null,null,null,null,null,null,null,null,null,null,null,null,null,null,null,null,null,null,null,null,null,null,null,null,null,null,null,null,null,null,null,null,null,null,null,null,null,null,null,null,null,null,null,null,null,null,null,null,null,null,null,null,null,null,null,null,null,null,null,null,null,null,null,0,0,""]
[null,null,null,null,null,null,null,null,null,null,null,null,null,null,"X","X","X","X",{"$f":"VLOOKUP(P12000,Lookup!A:B,2,FALSE)","v":"--"},{"$f":"VLOOKUP(Q12000,Lookup!A:B,2,FALSE)","v":"--"},{"$f":"VLOOKUP(R12000,Lookup!A:B,2,FALSE)","v":"--"},null,{"$f":"IF(E12000&F12000&G12000&I12000&K12000&M12000=\"\",\"\",IF(OR(H12000=\"\",D12000=\"\",AND(AC12000=0,'Contents & 6mo Restriction'!$BE$1=FALSE)),1,0))","v":""},"",0,0,0,0,0,0,null,null,null,null,null,null,null,null,null,null,null,null,null,null,null,null,null,null,null,null,null,null,null,null,null,null,null,null,null,null,null,null,null,null,null,null,null,null,null,null,null,null,null,null,null,null,null,null,null,null,null,null,null,null,null,null,null,null,null,null,null,null,null,null,null,null,null,null,null,null,null,null,null,null,null,null,null,null,null,null,null,null,null,null,null,null,null,null,null,null,null,null,null,null,null,null,null,null,null,null,null,null,0,0,""]
[null,null,null,null,null,null,null,null,null,null,null,null,null,null,"X","X","X","X",{"$f":"VLOOKUP(P12001,Lookup!A:B,2,FALSE)","v":"--"},{"$f":"VLOOKUP(Q12001,Lookup!A:B,2,FALSE)","v":"--"},{"$f":"VLOOKUP(R12001,Lookup!A:B,2,FALSE)","v":"--"},null,{"$f":"IF(E12001&F12001&G12001&I12001&K12001&M12001=\"\",\"\",IF(OR(H12001=\"\",D12001=\"\",AND(AC12001=0,'Contents & 6mo Restriction'!$BE$1=FALSE)),1,0))","v":""},"",0,0,0,0,0,0,null,null,null,null,null,null,null,null,null,null,null,null,null,null,null,null,null,null,null,null,null,null,null,null,null,null,null,null,null,null,null,null,null,null,null,null,null,null,null,null,null,null,null,null,null,null,null,null,null,null,null,null,null,null,null,null,null,null,null,null,null,null,null,null,null,null,null,null,null,null,null,null,null,null,null,null,null,null,null,null,null,null,null,null,null,null,null,null,null,null,null,null,null,null,null,null,null,null,null,null,null,null,0,0,""]
[null,null,null,null,null,null,null,null,null,null,null,null,null,null,"X","X","X","X",{"$f":"VLOOKUP(P12002,Lookup!A:B,2,FALSE)","v":"--"},{"$f":"VLOOKUP(Q12002,Lookup!A:B,2,FALSE)","v":"--"},{"$f":"VLOOKUP(R12002,Lookup!A:B,2,FALSE)","v":"--"},null,{"$f":"IF(E12002&F12002&G12002&I12002&K12002&M12002=\"\",\"\",IF(OR(H12002=\"\",D12002=\"\",AND(AC12002=0,'Contents & 6mo Restriction'!$BE$1=FALSE)),1,0))","v":""},"",0,0,0,0,0,0,null,null,null,null,null,null,null,null,null,null,null,null,null,null,null,null,null,null,null,null,null,null,null,null,null,null,null,null,null,null,null,null,null,null,null,null,null,null,null,null,null,null,null,null,null,null,null,null,null,null,null,null,null,null,null,null,null,null,null,null,null,null,null,null,null,null,null,null,null,null,null,null,null,null,null,null,null,null,null,null,null,null,null,null,null,null,null,null,null,null,null,null,null,null,null,null,null,null,null,null,null,null,0,0,""]
[null,null,null,null,null,null,null,null,null,null,null,null,null,null,"X","X","X","X",{"$f":"VLOOKUP(P12003,Lookup!A:B,2,FALSE)","v":"--"},{"$f":"VLOOKUP(Q12003,Lookup!A:B,2,FALSE)","v":"--"},{"$f":"VLOOKUP(R12003,Lookup!A:B,2,FALSE)","v":"--"},null,{"$f":"IF(E12003&F12003&G12003&I12003&K12003&M12003=\"\",\"\",IF(OR(H12003=\"\",D12003=\"\",AND(AC12003=0,'Contents & 6mo Restriction'!$BE$1=FALSE)),1,0))","v":""},"",0,0,0,0,0,0,null,null,null,null,null,null,null,null,null,null,null,null,null,null,null,null,null,null,null,null,null,null,null,null,null,null,null,null,null,null,null,null,null,null,null,null,null,null,null,null,null,null,null,null,null,null,null,null,null,null,null,null,null,null,null,null,null,null,null,null,null,null,null,null,null,null,null,null,null,null,null,null,null,null,null,null,null,null,null,null,null,null,null,null,null,null,null,null,null,null,null,null,null,null,null,null,null,null,null,null,null,null,0,0,""]
[null,null,null,null,null,null,null,null,null,null,null,null,null,null,"X","X","X","X",{"$f":"VLOOKUP(P12004,Lookup!A:B,2,FALSE)","v":"--"},{"$f":"VLOOKUP(Q12004,Lookup!A:B,2,FALSE)","v":"--"},{"$f":"VLOOKUP(R12004,Lookup!A:B,2,FALSE)","v":"--"},null,{"$f":"IF(E12004&F12004&G12004&I12004&K12004&M12004=\"\",\"\",IF(OR(H12004=\"\",D12004=\"\",AND(AC12004=0,'Contents & 6mo Restriction'!$BE$1=FALSE)),1,0))","v":""},"",0,0,0,0,0,0,null,null,null,null,null,null,null,null,null,null,null,null,null,null,null,null,null,null,null,null,null,null,null,null,null,null,null,null,null,null,null,null,null,null,null,null,null,null,null,null,null,null,null,null,null,null,null,null,null,null,null,null,null,null,null,null,null,null,null,null,null,null,null,null,null,null,null,null,null,null,null,null,null,null,null,null,null,null,null,null,null,null,null,null,null,null,null,null,null,null,null,null,null,null,null,null,null,null,null,null,null,null,0,0,""]
[null,null,null,null,null,null,null,null,null,null,null,null,null,null,"X","X","X","X",{"$f":"VLOOKUP(P12005,Lookup!A:B,2,FALSE)","v":"--"},{"$f":"VLOOKUP(Q12005,Lookup!A:B,2,FALSE)","v":"--"},{"$f":"VLOOKUP(R12005,Lookup!A:B,2,FALSE)","v":"--"},null,{"$f":"IF(E12005&F12005&G12005&I12005&K12005&M12005=\"\",\"\",IF(OR(H12005=\"\",D12005=\"\",AND(AC12005=0,'Contents & 6mo Restriction'!$BE$1=FALSE)),1,0))","v":""},"",0,0,0,0,0,0,null,null,null,null,null,null,null,null,null,null,null,null,null,null,null,null,null,null,null,null,null,null,null,null,null,null,null,null,null,null,null,null,null,null,null,null,null,null,null,null,null,null,null,null,null,null,null,null,null,null,null,null,null,null,null,null,null,null,null,null,null,null,null,null,null,null,null,null,null,null,null,null,null,null,null,null,null,null,null,null,null,null,null,null,null,null,null,null,null,null,null,null,null,null,null,null,null,null,null,null,null,null,0,0,""]
[null,null,null,null,null,null,null,null,null,null,null,null,null,null,"X","X","X","X",{"$f":"VLOOKUP(P12006,Lookup!A:B,2,FALSE)","v":"--"},{"$f":"VLOOKUP(Q12006,Lookup!A:B,2,FALSE)","v":"--"},{"$f":"VLOOKUP(R12006,Lookup!A:B,2,FALSE)","v":"--"},null,{"$f":"IF(E12006&F12006&G12006&I12006&K12006&M12006=\"\",\"\",IF(OR(H12006=\"\",D12006=\"\",AND(AC12006=0,'Contents & 6mo Restriction'!$BE$1=FALSE)),1,0))","v":""},"",0,0,0,0,0,0,null,null,null,null,null,null,null,null,null,null,null,null,null,null,null,null,null,null,null,null,null,null,null,null,null,null,null,null,null,null,null,null,null,null,null,null,null,null,null,null,null,null,null,null,null,null,null,null,null,null,null,null,null,null,null,null,null,null,null,null,null,null,null,null,null,null,null,null,null,null,null,null,null,null,null,null,null,null,null,null,null,null,null,null,null,null,null,null,null,null,null,null,null,null,null,null,null,null,null,null,null,null,0,0,""]
[null,null,null,null,null,null,null,null,null,null,null,null,null,null,"X","X","X","X",{"$f":"VLOOKUP(P12007,Lookup!A:B,2,FALSE)","v":"--"},{"$f":"VLOOKUP(Q12007,Lookup!A:B,2,FALSE)","v":"--"},{"$f":"VLOOKUP(R12007,Lookup!A:B,2,FALSE)","v":"--"},null,{"$f":"IF(E12007&F12007&G12007&I12007&K12007&M12007=\"\",\"\",IF(OR(H12007=\"\",D12007=\"\",AND(AC12007=0,'Contents & 6mo Restriction'!$BE$1=FALSE)),1,0))","v":""},"",0,0,0,0,0,0,null,null,null,null,null,null,null,null,null,null,null,null,null,null,null,null,null,null,null,null,null,null,null,null,null,null,null,null,null,null,null,null,null,null,null,null,null,null,null,null,null,null,null,null,null,null,null,null,null,null,null,null,null,null,null,null,null,null,null,null,null,null,null,null,null,null,null,null,null,null,null,null,null,null,null,null,null,null,null,null,null,null,null,null,null,null,null,null,null,null,null,null,null,null,null,null,null,null,null,null,null,null,0,0,""]

{"sheet":"Data Issues","index":2,"n_rows":20,"n_cols":7,"rows_kept":20,"cut":false,"hidden":false,"merged":[[16,2,16,6],[17,2,17,6],[18,2,18,6],[19,2,19,6],[9,1,9,3],[9,4,9,6],[7,1,7,3],[7,4,7,6],[8,1,8,3],[8,4,8,6],[5,1,5,3],[5,4,5,6],[6,1,6,3],[6,4,6,6],[3,1,3,3],[3,4,3,6],[4,1,4,3],[4,4,4,6]]}
[null,null,"Summary of Common Data Issues "]
[]
[]
[null,"Number",null,null,"Percent of total with data entered"]
["Children with data entered",{"$f":"SUM(Data!X:X)","v":0}]
["Missing entry dates",{"$f":"COUNTIFS(Data!X:X,1,Data!D:D,\"\")","v":0},null,null,{"$f":"IF(B6=0,\"0.0%\",B6/B5)","v":"0.0%"}]
["Missing exit dates",{"$f":"COUNTIFS(Data!X:X,1,Data!H:H,\"\")","v":0},null,null,{"$f":"IF(B7=0,\"0.0%\",B7/B5)","v":"0.0%"}]
["Time in service is less than 6 months",{"$f":"COUNTIFS(Data!W:W,1)","v":0},null,null,{"$f":"IF(B8=0,\"0.0%\",B8/B5)","v":"0.0%"}]
["Usable data on at least one outcome",{"$f":"SUM(Data!Y:Y)","v":0},null,null,{"$f":"IF(B9=0,\"0.0%\",B9/B5)","v":"0.0%"}]
["Usable data on all 3 outcomes",{"$f":"SUM(Data!Z:Z)","v":0},null,null,{"$f":"IF(B10=0,\"0.0%\",B10/B5)","v":"0.0%"}]
[null,"Outcome 1","Outcome 2","Outcome 3","Outcome 1","Outcome 2","Outcome 3"]
["Missing progress question responses",{"$f":"COUNTIFS(Data!S:S,\"Progress?\",Data!W:W,0)","v":0},{"$f":"COUNTIFS(Data!T:T,\"Progress?\",Data!W:W,0)","v":0},{"$f":"COUNTIFS(Data!U:U,\"Progress?\",Data!W:W,0)","v":0},{"$f":"IF(B12=0,\"0.0%\",B12/B5)","v":"0.0%"},{"$f":"IF(C12=0,\"0.0%\",C12/B5)","v":"0.0%"},{"$f":"IF(D12=0,\"0.0%\",D12/B5)","v":"0.0%"}]
["Impossible combinations ",{"$f":"COUNTIFS(Data!S:S,\"Impossible\",Data!W:W,0)","v":0},{"$f":"COUNTIFS(Data!T:T,\"Impossible\",Data!W:W,0)","v":0},{"$f":"COUNTIFS(Data!U:U,\"Impossible\",Data!W:W,0)","v":0},{"$f":"IF(B13=0,\"0.0%\",B13/B5)","v":"0.0%"},{"$f":"IF(C13=0,\"0.0%\",C13/B5)","v":"0.0%"},{"$f":"IF(D13=0,\"0.0%\",D13/B5)","v":"0.0%"}]
[]
[]
[]
[null,"Note: ","This summary is not a replacement for careful data screening"]
[null,null,"and cleaning. It is provided simply to provide quick reference "]
[null,null,"about the extent of some of the most common issues often "]
[null,null,"found in COSF data. "]

{"sheet":"OSEP Category Totals","index":3,"n_rows":36,"n_cols":6,"rows_kept":36,"cut":false,"hidden":false,"merged":[[31,2,32,2],[31,3,32,3],[31,4,32,4],[5,2,5,3],[3,1,3,3],[4,1,4,3]]}
[]
[null," OSEP Progress Category Totals"]
[]
[null,"Data shown exclude: \n - children with service less than 6 months*, \n - those missing entry or exit dates, \n - children with no information about child's progress at exit, and \n - situations where entry and exit data generated impossible progress category combinations."]
["*",{"$f":"IF('Contents & 6mo Restriction'!BE1,\"You have selected to view data that includes children who have been in the program for less than 6 months.\",\"You have selected to view data that does not include children who have been in the program for less than 6 months.\")","v":"You have selected to view data that does not include children who have been in the program for less than 6 months."}]
[]
[null,"Outcome 1","Number","Percentage",null,"Progress Category"]
[null,"a: Children who did not improve functioning",{"$f":"COUNTIFS(Data!S:S,F8,Data!W:W,0)","v":0},{"$f":"IF(C13=0,\"0.0%\",C8/$C$13)","v":"0.0%"},null,"a"]
[null,"b: Children who improved functioning but not sufficient to move nearer to functioning comparable to same age peers",{"$f":"COUNTIFS(Data!S:S,F9,Data!W:W,0)","v":0},{"$f":"IF(C9=0,\"0.0%\",C9/$C$13)","v":"0.0%"},null,"b"]
[null,"c: Children who improved functioning to a level nearer to same-aged peers but did not reach it ",{"$f":"COUNTIFS(Data!S:S,F10,Data!W:W,0)","v":0},{"$f":"IF(C10=0,\"0.0%\",C10/$C$13)","v":"0.0%"},null,"c"]
[null,"d: Children who improved functioning to reach a level comparable to same-aged peers",{"$f":"COUNTIFS(Data!S:S,F11,Data!W:W,0)","v":0},{"$f":"IF(C11=0,\"0.0%\",C11/$C$13)","v":"0.0%"},null,"d"]
[null,"e: Children who maintained functioning at a level comparable to same-aged peers",{"$f":"COUNTIFS(Data!S:S,F12,Data!W:W,0)","v":0},{"$f":"IF(C12=0,\"0.0%\",C12/$C$13)","v":"0.0%"},null,"e"]
[null,"Total",{"$f":"SUM(C8:C12)","v":0},{"$f":"IF(SUM(D8:D12)=0,\"0.0%\",ROUND(SUM(D8:D12),1))","v":"0.0%"}]
[]
[null,"Outcome 2","Number","Percentage",null,"Progress Category"]
[null,"a: Children who did not improve functioning",{"$f":"COUNTIFS(Data!T:T,F16,Data!W:W,0)","v":0},{"$f":"IF(C16=0,\"0.0%\",C16/$C$21)","v":"0.0%"},null,"a"]
[null,"b: Children who improved functioning but not sufficient to move nearer to functioning comparable to same age peers",{"$f":"COUNTIFS(Data!T:T,F17,Data!W:W,0)","v":0},{"$f":"IF(C17=0,\"0.0%\",C17/$C$21)","v":"0.0%"},null,"b"]
[null,"c: Children who improved functioning to a level nearer to same-aged peers but did not reach it ",{"$f":"COUNTIFS(Data!T:T,F18,Data!W:W,0)","v":0},{"$f":"IF(C18=0,\"0.0%\",C18/$C$21)","v":"0.0%"},null,"c"]
[null,"d: Children who improved functioning to reach a level comparable to same-aged peers",{"$f":"COUNTIFS(Data!T:T,F19,Data!W:W,0)","v":0},{"$f":"IF(C19=0,\"0.0%\",C19/$C$21)","v":"0.0%"},null,"d"]
[null,"e: Children who maintained functioning at a level comparable to same-aged peers",{"$f":"COUNTIFS(Data!T:T,F20,Data!W:W,0)","v":0},{"$f":"IF(C20=0,\"0.0%\",C20/$C$21)","v":"0.0%"},null,"e"]
[null,"Total",{"$f":"SUM(C16:C20)","v":0},{"$f":"IF(SUM(D16:D20)=0,\"0.0%\",ROUND(SUM(D16:D20),1))","v":"0.0%"}]
[]
[null,"Outcome 3","Number","Percentage",null,"Progress Category"]
[null,"a: Children who did not improve functioning",{"$f":"COUNTIFS(Data!U:U,F24,Data!W:W,0)","v":0},{"$f":"IF(C24=0,\"0.0%\",C24/$C$29)","v":"0.0%"},null,"a"]
[null,"b: Children who improved functioning but not sufficient to move nearer to functioning comparable to same age peers",{"$f":"COUNTIFS(Data!U:U,F25,Data!W:W,0)","v":0},{"$f":"IF(C25=0,\"0.0%\",C25/$C$29)","v":"0.0%"},null,"b"]
[null,"c: Children who improved functioning to a level nearer to same-aged peers but did not reach it",{"$f":"COUNTIFS(Data!U:U,F26,Data!W:W,0)","v":0},{"$f":"IF(C26=0,\"0.0%\",C26/$C$29)","v":"0.0%"},null,"c"]
[null,"d: Children who improved functioning to reach a level comparable to same-aged peers",{"$f":"COUNTIFS(Data!U:U,F27,Data!W:W,0)","v":0},{"$f":"IF(C27=0,\"0.0%\",C27/$C$29)","v":"0.0%"},null,"d"]
[null,"e: Children who maintained functioning at a level comparable to same-aged peers",{"$f":"COUNTIFS(Data!U:U,F28,Data!W:W,0)","v":0},{"$f":"IF(C28=0,\"0.0%\",C28/$C$29)","v":"0.0%"},null,"e"]
[null,"Total",{"$f":"SUM(C24:C28)","v":0},{"$f":"IF(SUM(D24:D28)=0,\"0.0%\",ROUND(SUM(D24:D28),1))","v":"0.0%"}]
[]
[null,"SUMMARY STATEMENTS","Outcome 1","Outcome 2","Outcome 3"]
[null,"1. Of those children who entered the program below age expectations in [outcome], the percent that ",{"$f":"IF(SUM(C8:C11)=0,\"0.0%\",SUM(C10:C11)/SUM(C8:C11))","v":"0.0%"},{"$f":"IF(SUM(C16:C19)=0,\"0.0%\",SUM(C18:C19)/SUM(C16:C19))","v":"0.0%"},{"$f":"IF(SUM(C24:C27)=0,\"0.0%\",SUM(C26:C27)/SUM(C24:C27))","v":"0.0%"}]
[null,"   substantially increased their rate of growth in  [outcome] by the time they exited.",null,null,null,"Substantially increased their rate of growth"]
[null,"2. Percent of children who were functioning within age expectations in [outcome], by the time they exited.",{"$f":"IF(SUM(C8:C12)=0,\"0.0%\",(C11+C12)/SUM(C8:C12))","v":"0.0%"},{"$f":"IF(SUM(C16:C20)=0,\"0.0%\",(C19+C20)/SUM(C16:C20))","v":"0.0%"},{"$f":"IF(SUM(C24:C28)=0,\"0.0%\",(C27+C28)/SUM(C24:C28))","v":"0.0%"},"Within age expectations at exit"]
[]
[null,"Note:  Data in the summary statements table are based on OSEP Progress Category data shown above"]

{"sheet":"OSEP Category Charts","index":4,"n_rows":6,"n_cols":6,"rows_kept":6,"cut":false,"hidden":false,"merged":[[5,1,6,1],[5,2,6,3],[5,4,6,4],[5,5,6,8],[1,1,1,8],[3,1,3,8]]}
[]
[null," OSEP Progress Category Totals"]
[]
[null,"Data shown exclude: \n - children with service less than 6 months*, \n - those missing entry or exit dates, \n - children with no information about child's progress at exit, and \n - situations where entry and exit data generated impossible progress category combinations."]
[]
[null,"*","You selected to view data that",null,{"$f":"IF('Contents & 6mo Restriction'!BE1,\"includes\",\"does not include\")","v":"does not include"}," children who have been in the program less than 6 months."]

{"sheet":"Outcome 1 Ratings","index":5,"n_rows":18,"n_cols":7,"rows_kept":18,"cut":false,"hidden":false,"merged":[[1,1,1,8],[5,5,6,8],[8,2,9,2],[3,1,3,8],[5,1,6,1],[5,2,6,3],[5,4,6,4],[8,3,8,4],[8,5,8,6]]}
[]
[null," Outcome 1 Distributions"]
[]
[null,"Data shown exclude: \n - children with service less than 6 months*, \n - those missing entry or exit dates, \n - children with no information about child's progress at exit, and \n - situations where entry and exit data generated impossible progress category combinations."]
[]
[null,"*","You selected to view data that",null,{"$f":"IF('Contents & 6mo Restriction'!BE1,\"includes\",\"does not include\")","v":"does not include"}," children who have been in the program less than 6 months."]
[]
[]
[null,null,"Outcome 1 Ratings","Entry",null,"Exit"]
[null,null,null,"Number","Percentage","Number","Percentage"]
[null,null,1,{"$f":"COUNTIFS(Data!E:E,C11,Data!W:W,0,Data!S:S,\"<>\"&\"Impossible\",Data!S:S,\"<>\"&\"Progress?\")","v":0},{"$f":"IF(D11=0,\"0\",D11/$D$18)","v":"0"},{"$f":"COUNTIFS(Data!I:I,C11,Data!W:W,0,Data!S:S,\"<>\"&\"Impossible\",Data!S:S,\"<>\"&\"Progress?\")","v":0},{"$f":"IF(F11=0,\"0\",F11/$F$18)","v":"0"}]
[null,null,2,{"$f":"COUNTIFS(Data!E:E,C12,Data!W:W,0,Data!S:S,\"<>\"&\"Impossible\",Data!S:S,\"<>\"&\"Progress?\")","v":0},{"$f":"IF(D12=0,\"0\",D12/$D$18)","v":"0"},{"$f":"COUNTIFS(Data!I:I,C12,Data!W:W,0,Data!S:S,\"<>\"&\"Impossible\",Data!S:S,\"<>\"&\"Progress?\")","v":0},{"$f":"IF(F12=0,\"0\",F12/$F$18)","v":"0"}]
[null,null,3,{"$f":"COUNTIFS(Data!E:E,C13,Data!W:W,0,Data!S:S,\"<>\"&\"Impossible\",Data!S:S,\"<>\"&\"Progress?\")","v":0},"0",{"$f":"COUNTIFS(Data!I:I,C13,Data!W:W,0,Data!S:S,\"<>\"&\"Impossible\",Data!S:S,\"<>\"&\"Progress?\")","v":0},"0"]
[null,null,4,{"$f":"COUNTIFS(Data!E:E,C14,Data!W:W,0,Data!S:S,\"<>\"&\"Impossible\",Data!S:S,\"<>\"&\"Progress?\")","v":0},"0",{"$f":"COUNTIFS(Data!I:I,C14,Data!W:W,0,Data!S:S,\"<>\"&\"Impossible\",Data!S:S,\"<>\"&\"Progress?\")","v":0},"0"]
[null,null,5,{"$f":"COUNTIFS(Data!E:E,C15,Data!W:W,0,Data!S:S,\"<>\"&\"Impossible\",Data!S:S,\"<>\"&\"Progress?\")","v":0},"0",{"$f":"COUNTIFS(Data!I:I,C15,Data!W:W,0,Data!S:S,\"<>\"&\"Impossible\",Data!S:S,\"<>\"&\"Progress?\")","v":0},"0"]
[null,null,6,{"$f":"COUNTIFS(Data!E:E,C16,Data!W:W,0,Data!S:S,\"<>\"&\"Impossible\",Data!S:S,\"<>\"&\"Progress?\")","v":0},"0",{"$f":"COUNTIFS(Data!I:I,C16,Data!W:W,0,Data!S:S,\"<>\"&\"Impossible\",Data!S:S,\"<>\"&\"Progress?\")","v":0},"0"]
[null,null,7,{"$f":"COUNTIFS(Data!E:E,C17,Data!W:W,0,Data!S:S,\"<>\"&\"Impossible\",Data!S:S,\"<>\"&\"Progress?\")","v":0},"0",{"$f":"COUNTIFS(Data!I:I,C17,Data!W:W,0,Data!S:S,\"<>\"&\"Impossible\",Data!S:S,\"<>\"&\"Progress?\")","v":0},"0"]
[null,null,"Total: ",{"$f":"SUM(D11:D17)","v":0},{"$f":"SUM(E11:E17)","v":0},{"$f":"SUM(F11:F17)","v":0},{"$f":"SUM(G11:G17)","v":0}]

{"sheet":"Outcome 2 Ratings","index":6,"n_rows":18,"n_cols":7,"rows_kept":18,"cut":false,"hidden":false,"merged":[[8,2,9,2],[8,3,8,4],[8,5,8,6],[1,1,1,8],[3,1,3,8],[5,1,6,1],[5,2,6,3],[5,4,6,4],[5,5,6,8]]}
[]
[null," Outcome 1 Distributions"]
[]
[null,"Data shown exclude: \n - children with service less than 6 months*, \n - those missing entry or exit dates, \n - children with no information about child's progress at exit, and \n - situations where entry and exit data generated impossible progress category combinations."]
[]
[null,"*","You selected to view data that",null,{"$f":"IF('Contents & 6mo Restriction'!BE1,\"includes\",\"does not include\")","v":"does not include"}," children who have been in the program less than 6 months."]
[]
[]
[null,null,"Outcome 2 Ratings","Entry",null,"Exit"]
[null,null,null,"Number","Percentage","Number","Percentage"]
[null,null,1,{"$f":"COUNTIFS(Data!F:F,C11,Data!W:W,0,Data!T:T,\"<>\"&\"Impossible\",Data!T:T,\"<>\"&\"Progress?\")","v":0},{"$f":"IF(D11=0,\"0\",D11/$D$18)","v":"0"},{"$f":"COUNTIFS(Data!K:K,C11,Data!W:W,0,Data!T:T,\"<>\"&\"Impossible\",Data!T:T,\"<>\"&\"Progress?\")","v":0},{"$f":"IF(F11=0,\"0\",F11/$F$18)","v":"0"}]
[null,null,2,{"$f":"COUNTIFS(Data!F:F,C12,Data!W:W,0,Data!T:T,\"<>\"&\"Impossible\",Data!T:T,\"<>\"&\"Progress?\")","v":0},{"$f":"IF(D12=0,\"0\",D12/$D$18)","v":"0"},{"$f":"COUNTIFS(Data!K:K,C12,Data!W:W,0,Data!T:T,\"<>\"&\"Impossible\",Data!T:T,\"<>\"&\"Progress?\")","v":0},{"$f":"IF(F12=0,\"0\",F12/$F$18)","v":"0"}]
[null,null,3,{"$f":"COUNTIFS(Data!F:F,C13,Data!W:W,0,Data!T:T,\"<>\"&\"Impossible\",Data!T:T,\"<>\"&\"Progress?\")","v":0},"0",{"$f":"COUNTIFS(Data!K:K,C13,Data!W:W,0,Data!T:T,\"<>\"&\"Impossible\",Data!T:T,\"<>\"&\"Progress?\")","v":0},"0"]
[null,null,4,{"$f":"COUNTIFS(Data!F:F,C14,Data!W:W,0,Data!T:T,\"<>\"&\"Impossible\",Data!T:T,\"<>\"&\"Progress?\")","v":0},"0",{"$f":"COUNTIFS(Data!K:K,C14,Data!W:W,0,Data!T:T,\"<>\"&\"Impossible\",Data!T:T,\"<>\"&\"Progress?\")","v":0},"0"]
[null,null,5,{"$f":"COUNTIFS(Data!F:F,C15,Data!W:W,0,Data!T:T,\"<>\"&\"Impossible\",Data!T:T,\"<>\"&\"Progress?\")","v":0},"0",{"$f":"COUNTIFS(Data!K:K,C15,Data!W:W,0,Data!T:T,\"<>\"&\"Impossible\",Data!T:T,\"<>\"&\"Progress?\")","v":0},"0"]
[null,null,6,{"$f":"COUNTIFS(Data!F:F,C16,Data!W:W,0,Data!T:T,\"<>\"&\"Impossible\",Data!T:T,\"<>\"&\"Progress?\")","v":0},"0",{"$f":"COUNTIFS(Data!K:K,C16,Data!W:W,0,Data!T:T,\"<>\"&\"Impossible\",Data!T:T,\"<>\"&\"Progress?\")","v":0},"0"]
[null,null,7,{"$f":"COUNTIFS(Data!F:F,C17,Data!W:W,0,Data!T:T,\"<>\"&\"Impossible\",Data!T:T,\"<>\"&\"Progress?\")","v":0},"0",{"$f":"COUNTIFS(Data!K:K,C17,Data!W:W,0,Data!T:T,\"<>\"&\"Impossible\",Data!T:T,\"<>\"&\"Progress?\")","v":0},"0"]
[null,null,"Total: ",{"$f":"SUM(D11:D17)","v":0},{"$f":"SUM(E11:E17)","v":0},{"$f":"SUM(F11:F17)","v":0},{"$f":"SUM(G11:G17)","v":0}]

{"sheet":"Outcome 3 Ratings","index":7,"n_rows":18,"n_cols":7,"rows_kept":18,"cut":false,"hidden":false,"merged":[[8,2,9,2],[8,3,8,4],[8,5,8,6],[1,1,1,8],[3,1,3,8],[5,1,6,1],[5,2,6,3],[5,4,6,4],[5,5,6,8]]}
[]
[null," Outcome 1 Distributions"]
[]
[null,"Data shown exclude: \n - children with service less than 6 months*, \n - those missing entry or exit dates, \n - children with no information about child's progress at exit, and \n - situations where entry and exit data generated impossible progress category combinations."]
[]
[null,"*","You selected to view data that",null,{"$f":"IF('Contents & 6mo Restriction'!BE1,\"includes\",\"does not include\")","v":"does not include"}," children who have been in the program less than 6 months."]
[]
[]
[null,null,"Outcome 3 Ratings","Entry",null,"Exit"]
[null,null,null,"Number","Percentage","Number","Percentage"]
[null,null,1,{"$f":"COUNTIFS(Data!G:G,C11,Data!W:W,0,Data!U:U,\"<>\"&\"Impossible\",Data!U:U,\"<>\"&\"Progress?\")","v":0},{"$f":"IF(D11=0,\"0\",D11/$D$18)","v":"0"},{"$f":"COUNTIFS(Data!M:M,C11,Data!W:W,0,Data!U:U,\"<>\"&\"Impossible\",Data!U:U,\"<>\"&\"Progress?\")","v":0},{"$f":"IF(F11=0,\"0\",F11/$F$18)","v":"0"}]
[null,null,2,{"$f":"COUNTIFS(Data!G:G,C12,Data!W:W,0,Data!U:U,\"<>\"&\"Impossible\",Data!U:U,\"<>\"&\"Progress?\")","v":0},{"$f":"IF(D12=0,\"0\",D12/$D$18)","v":"0"},{"$f":"COUNTIFS(Data!M:M,C12,Data!W:W,0,Data!U:U,\"<>\"&\"Impossible\",Data!U:U,\"<>\"&\"Progress?\")","v":0},{"$f":"IF(F12=0,\"0\",F12/$F$18)","v":"0"}]
[null,null,3,{"$f":"COUNTIFS(Data!G:G,C13,Data!W:W,0,Data!U:U,\"<>\"&\"Impossible\",Data!U:U,\"<>\"&\"Progress?\")","v":0},"0",{"$f":"COUNTIFS(Data!M:M,C13,Data!W:W,0,Data!U:U,\"<>\"&\"Impossible\",Data!U:U,\"<>\"&\"Progress?\")","v":0},"0"]
[null,null,4,{"$f":"COUNTIFS(Data!G:G,C14,Data!W:W,0,Data!U:U,\"<>\"&\"Impossible\",Data!U:U,\"<>\"&\"Progress?\")","v":0},"0",{"$f":"COUNTIFS(Data!M:M,C14,Data!W:W,0,Data!U:U,\"<>\"&\"Impossible\",Data!U:U,\"<>\"&\"Progress?\")","v":0},"0"]
[null,null,5,{"$f":"COUNTIFS(Data!G:G,C15,Data!W:W,0,Data!U:U,\"<>\"&\"Impossible\",Data!U:U,\"<>\"&\"Progress?\")","v":0},"0",{"$f":"COUNTIFS(Data!M:M,C15,Data!W:W,0,Data!U:U,\"<>\"&\"Impossible\",Data!U:U,\"<>\"&\"Progress?\")","v":0},"0"]
[null,null,6,{"$f":"COUNTIFS(Data!G:G,C16,Data!W:W,0,Data!U:U,\"<>\"&\"Impossible\",Data!U:U,\"<>\"&\"Progress?\")","v":0},"0",{"$f":"COUNTIFS(Data!M:M,C16,Data!W:W,0,Data!U:U,\"<>\"&\"Impossible\",Data!U:U,\"<>\"&\"Progress?\")","v":0},"0"]
[null,null,7,{"$f":"COUNTIFS(Data!G:G,C17,Data!W:W,0,Data!U:U,\"<>\"&\"Impossible\",Data!U:U,\"<>\"&\"Progress?\")","v":0},"0",{"$f":"COUNTIFS(Data!M:M,C17,Data!W:W,0,Data!U:U,\"<>\"&\"Impossible\",Data!U:U,\"<>\"&\"Progress?\")","v":0},"0"]
[null,null,"Total: ",{"$f":"SUM(D11:D17)","v":0},{"$f":"SUM(E11:E17)","v":0},{"$f":"SUM(F11:F17)","v":0},{"$f":"SUM(G11:G17)","v":0}]

{"sheet":"Category A","index":8,"n_rows":18,"n_cols":9,"rows_kept":18,"cut":false,"hidden":false,"merged":[[3,1,3,7],[1,1,1,7],[9,1,9,6],[10,1,10,6],[16,1,16,6],[17,1,17,6],[5,1,6,1],[5,2,6,3],[5,4,6,4],[11,1,11,6],[12,1,12,6],[13,1,13,6],[14,1,14,6],[15,1,15,6],[5,5,6,7]]}
[]
[null," Progress Category A Across Outcomes"]
[]
[null,"Data shown exclude: \n - children with service less than 6 months*, \n - those missing entry or exit dates, \n - children with no information about child's progress at exit, and \n - situations where entry and exit data generated impossible progress category combinations."]
[]
[null,"*","You selected to view data that",null,{"$f":"IF('Contents & 6mo Restriction'!BE1,\"includes\",\"does not include\")","v":"does not include"}," children who have been in the program less than 6 months."]
[]
[]
[null,null,null,null,null,null,null,"Number","Percentage"]
[null,"Children who are in progress category A on outcomes 1, 2, AND 3\n(3 A's - all three of the progress categories for these children are A)",null,null,null,null,null,{"$f":"COUNTIFS(Data!S:S,\"a\",Data!T:T,\"a\",Data!U:U,\"a\",Data!W:W,0)","v":0},{"$f":"IF(H10=0,\"0\",H10/H$18)","v":"0"}]
[null,"Children in progress category A on outcomes 1 AND 3, but NOT 2  \n(2 A's - for two of the three outcomes the child's functioning is in progress category A, progress on outcome 2 may be anything from B - E)",null,null,null,null,null,{"$f":"COUNTIFS(Data!S:S,\"a\",Data!T:T,\"<>\"&\"a\",Data!T:T,\"<>\"&\"Impossible\",Data!T:T,\"<>\"&\"Progress?\",Data!U:U,\"a\",Data!W:W,0)","v":0},"0"]
[null,"Children in progress category A on outcomes 1 AND 2, but NOT 3  \n(2 A's - for two of the three outcomes the child's functioning is in progress category A, progress on outcome 3 may be anything from B - E)",null,null,null,null,null,{"$f":"COUNTIFS(Data!S:S,\"a\",Data!T:T,\"a\",Data!U:U,\"<>\"&\"a\",Data!U:U,\"<>\"&\"Impossible\",Data!U:U,\"<>\"&\"Progress?\",Data!W:W,0)","v":0},"0"]
[null,"Children in progress category A on outcomes 2 AND 3, but NOT 1  \n(2 A's - for two of the three outcomes the child's functioning is in progress category A, progress on outcome 1 may be anything from B - E)",null,null,null,null,null,{"$f":"COUNTIFS(Data!S:S,\"<>\"&\"a\",Data!S:S,\"<>\"&\"Impossible\",Data!S:S,\"<>\"&\"Progress?\",Data!T:T,\"a\",Data!U:U,\"a\",Data!W:W,0)","v":0},"0"]
[null,"Children who are in progress category A on outcome 1 ONLY \n(1 A - for outcome 1 the child's functioning is in progress category A, progress on outcomes 2 and 3 may be anything from B - E)",null,null,null,null,null,{"$f":"COUNTIFS(Data!S:S,\"a\",Data!T:T,\"<>\"&\"a\",Data!T:T,\"<>\"&\"Impossible\",Data!T:T,\"<>\"&\"Progress?\",Data!U:U,\"<>\"&\"a\",Data!U:U,\"<>\"&\"Impossible\",Data!U:U,\"<>\"&\"Progress?\",Data!W:W,0)","v":0},"0"]
[null,"Children who are in progress category A on outcome 2 ONLY \n(1 A - for outcome 2 the child's functioning is in progress category A, progress on outcomes 1 and 3 may be anything from B - E)",null,null,null,null,null,{"$f":"COUNTIFS(Data!S:S,\"<>\"&\"a\",Data!S:S,\"<>\"&\"Impossible\",Data!S:S,\"<>\"&\"Progress?\",Data!T:T,\"a\",Data!U:U,\"<>\"&\"a\",Data!U:U,\"<>\"&\"Impossible\",Data!U:U,\"<>\"&\"Progress?\",Data!W:W,0)","v":0},"0"]
[null,"Children who are in progress category A on outcome 3 ONLY \n(1 A - for outcome 3 the child's functioning is in progress category A, progress on outcomes 1 and 2 may be anything from B - E)",null,null,null,null,null,{"$f":"COUNTIFS(Data!S:S,\"<>\"&\"a\",Data!S:S,\"<>\"&\"Impossible\",Data!S:S,\"<>\"&\"Progress?\",Data!T:T,\"<>\"&\"a\",Data!T:T,\"<>\"&\"Impossible\",Data!T:T,\"<>\"&\"Progress?\",Data!U:U,\"a\",Data!W:W,0)","v":0},"0"]
[null,"Children who are NOT in progress category A on any outcomes \n(0 A - the child's functioning falls in progress categories B- E for all three outcomes)",null,null,null,null,null,{"$f":"COUNTIFS(Data!S:S,\"<>\"&\"a\",Data!S:S,\"<>\"&\"Impossible\",Data!S:S,\"<>\"&\"Progress?\",Data!T:T,\"<>\"&\"a\",Data!T:T,\"<>\"&\"Impossible\",Data!T:T,\"<>\"&\"Progress?\",Data!U:U,\"<>\"&\"a\",Data!U:U,\"<>\"&\"Impossible\",Data!U:U,\"<>\"&\"Progress?\",Data!W:W,0)","v":0},"0"]
[null,"Total",null,null,null,null,null,{"$f":"SUM(H10:H17)","v":0},{"$f":"SUM(I10:I17)","v":0}]

{"sheet":"Category E","index":9,"n_rows":18,"n_cols":9,"rows_kept":18,"cut":false,"hidden":false,"merged":[[3,1,3,7],[1,1,1,7],[9,1,9,6],[10,1,10,6],[16,1,16,6],[17,1,17,6],[5,1,6,1],[5,2,6,3],[5,4,6,4],[11,1,11,6],[12,1,12,6],[13,1,13,6],[14,1,14,6],[15,1,15,6],[5,5,6,7]]}
[]
[null," Progress Category E Across Outcomes"]
[]
[null,"Data shown exclude: \n - children with service less than 6 months*, \n - those missing entry or exit dates, \n - children with no information about child's progress at exit, and \n - situations where entry and exit data generated impossible progress category combinations."]
[]
[null,"*","You selected to view data that",null,{"$f":"IF('Contents & 6mo Restriction'!BE1,\"includes\",\"does not include\")","v":"does not include"}," children who have been in the program less than 6 months."]
[]
[]
[null,null,null,null,null,null,null,"Number","Percentage"]
[null,"Children who are in progress category E on outcomes 1, 2, AND 3 \n(3 E's - all three of the progress categories for these children are E)",null,null,null,null,null,{"$f":"COUNTIFS(Data!S:S,\"e\",Data!T:T,\"e\",Data!U:U,\"e\",Data!W:W,0)","v":0},{"$f":"IF(H10=0,\"0\",H10/H$18)","v":"0"}]
[null,"Children in progress category E on outcomes 1 AND 3, but NOT 2  \n(2 E's - for two of the three outcomes the child's functioning is in progress category E, progress on outcome 2 may be anything from A - D)",null,null,null,null,null,{"$f":"COUNTIFS(Data!S:S,\"e\",Data!T:T,\"<>\"&\"e\",Data!T:T,\"<>\"&\"Impossible\",Data!T:T,\"<>\"&\"Progress?\",Data!U:U,\"e\",Data!W:W,0)","v":0},"0"]
[null,"Children in progress category E on outcomes 1 AND 2, but NOT 3  \n(2 E's - for two of the three outcomes the child's functioning is in progress category E, progress on outcome 3 may be anything from A - D)",null,null,null,null,null,{"$f":"COUNTIFS(Data!S:S,\"e\",Data!T:T,\"e\",Data!U:U,\"<>\"&\"e\",Data!U:U,\"<>\"&\"Impossible\",Data!U:U,\"<>\"&\"Progress?\",Data!W:W,0)","v":0},"0"]
[null,"Children in progress category E on outcomes 2 AND 3, but NOT 1  \n(2 E's - for two of the three outcomes the child's functioning is in progress category E, progress on outcome 1 may be anything from A - D)",null,null,null,null,null,{"$f":"COUNTIFS(Data!S:S,\"<>\"&\"e\",Data!S:S,\"<>\"&\"Impossible\",Data!S:S,\"<>\"&\"Progress?\",Data!T:T,\"e\",Data!U:U,\"e\",Data!W:W,0)","v":0},"0"]
[null,"Children who are in progress category E on outcome 1 ONLY \n(1 E - for outcome 1 the child's functioning is in progress category E, progress on outcomes 2 and 3 may be anything from A - D)",null,null,null,null,null,{"$f":"COUNTIFS(Data!S:S,\"e\",Data!T:T,\"<>\"&\"e\",Data!T:T,\"<>\"&\"Impossible\",Data!T:T,\"<>\"&\"Progress?\",Data!U:U,\"<>\"&\"e\",Data!U:U,\"<>\"&\"Impossible\",Data!U:U,\"<>\"&\"Progress?\",Data!W:W,0)","v":0},"0"]
[null,"Children who are in progress category E on outcome 2 ONLY \n(1 E - for outcome 2 the child's functioning is in progress category E, progress on outcomes 1 and 3 may be anything from A - D)",null,null,null,null,null,{"$f":"COUNTIFS(Data!S:S,\"<>\"&\"e\",Data!S:S,\"<>\"&\"Impossible\",Data!S:S,\"<>\"&\"Progress?\",Data!T:T,\"e\",Data!U:U,\"<>\"&\"e\",Data!U:U,\"<>\"&\"Impossible\",Data!U:U,\"<>\"&\"Progress?\",Data!W:W,0)","v":0},"0"]
[null,"Children who are in progress category E on outcome 3 ONLY \n(1 E - for outcome 3 the child's functioning is in progress category E, progress on outcomes 1 and 2 may be anything from A - D)",null,null,null,null,null,{"$f":"COUNTIFS(Data!S:S,\"<>\"&\"e\",Data!S:S,\"<>\"&\"Impossible\",Data!S:S,\"<>\"&\"Progress?\",Data!T:T,\"<>\"&\"e\",Data!T:T,\"<>\"&\"Impossible\",Data!T:T,\"<>\"&\"Progress?\",Data!U:U,\"e\",Data!W:W,0)","v":0},"0"]
[null,"Children who are NOT in progress category E on any outcomes \n(0 E - the child's functioning falls in progress categories A- D for all three outcomes)",null,null,null,null,null,{"$f":"COUNTIFS(Data!S:S,\"<>\"&\"e\",Data!S:S,\"<>\"&\"Impossible\",Data!S:S,\"<>\"&\"Progress?\",Data!T:T,\"<>\"&\"e\",Data!T:T,\"<>\"&\"Impossible\",Data!T:T,\"<>\"&\"Progress?\",Data!U:U,\"<>\"&\"e\",Data!U:U,\"<>\"&\"Impossible\",Data!U:U,\"<>\"&\"Progress?\",Data!W:W,0)","v":0},"0"]
[null,"Total",null,null,null,null,null,{"$f":"SUM(H10:H17)","v":0},{"$f":"SUM(I10:I17)","v":0}]

{"sheet":"Lookup","index":10,"n_rows":177,"n_cols":8,"rows_kept":177,"cut":false,"hidden":false,"merged":[]}
["Value","Category","Time 1 outcome","Time 2 outcome","progress","place holder","set category","concatonate value"]
["X","--",null,null,null,"X","--",{"$f":"CONCATENATE(C2,D2,E2,F2)","v":"X"}]
["77yX","e",7,7,"y","X","e",{"$f":"CONCATENATE(C3,D3,E3,F3)","v":"77yX"}]
["77nX","Impossible",7,7,"n","X","Impossible","77nX"]
["77X","progress?",7,7,null,"X","progress?","77X"]
["76yX","e",7,6,"y","X","e","76yX"]
["76nX","Impossible",7,6,"n","X","Impossible","76nX"]
["76X","progress?",7,6,null,"X","progress?","76X"]
["75yX","b",7,5,"y","X","b","75yX"]
["75nX","a",7,5,"n","X","a","75nX"]
["75X","progress?",7,5,null,"X","progress?","75X"]
["74yX","b",7,4,"y","X","b","74yX"]
["74nX","a",7,4,"n","X","a","74nX"]
["74X","progress?",7,4,null,"X","progress?","74X"]
["73yX","b",7,3,"y","X","b","73yX"]
["73nX","a",7,3,"n","X","a","73nX"]
["73X","progress?",7,3,null,"X","progress?","73X"]
["72yX","b",7,2,"y","X","b","72yX"]
["72nX","a",7,2,"n","X","a","72nX"]
["72X","progress?",7,2,null,"X","progress?","72X"]
["71yX","b",7,1,"y","X","b","71yX"]
["71nX","a",7,1,"n","X","a","71nX"]
["71X","progress?",7,1,null,"X","progress?","71X"]
["7X","--",7,null,null,"X","--","7X"]
["7yX","Impossible",null,7,"y","X","Impossible","7yX"]
["7nX","Impossible",null,7,"n","X","Impossible","7nX"]
["7X","progress?",null,7,null,"X","progress?","7X"]
["67yX","e",6,7,"y","X","e","67yX"]
["67nX","Impossible",6,7,"n","X","Impossible","67nX"]
["67X","progress?",6,7,null,"X","progress?","67X"]
["66yX","e",6,6,"y","X","e","66yX"]
["66nX","Impossible",6,6,"n","X","Impossible","66nX"]
["66X","progress?",6,6,null,"X","progress?","66X"]
["65yX","b",6,5,"y","X","b","65yX"]
["65nX","a",6,5,"n","X","a","65nX"]
["65X","progress?",6,5,null,"X","progress?","65X"]
["64yX","b",6,4,"y","X","b","64yX"]
["64nX","a",6,4,"n","X","a","64nX"]
["64X","progress?",6,4,null,"X","progress?","64X"]
["63yX","b",6,3,"y","X","b","63yX"]
["63nX","a",6,3,"n","X","a","63nX"]
["63X","progress?",6,3,null,"X","progress?","63X"]
["62yX","b",6,2,"y","X","b","62yX"]
["62nX","a",6,2,"n","X","a","62nX"]
["62X","progress?",6,2,null,"X","progress?","62X"]
["61yX","b",6,1,"y","X","b","61yX"]
["61nX","a",6,1,"n","X","a","61nX"]
["61X","progress?",6,1,null,"X","progress?","61X"]
["6X","--",6,null,null,"X","--","6X"]
["6yX","Impossible",null,6,"y","X","Impossible","6yX"]
["6nX","Impossible",null,6,"n","X","Impossible","6nX"]
["6X","progress?",null,6,null,"X","progress?","6X"]
["57yX","d",5,7,"y","X","d","57yX"]
["57nX","Impossible",5,7,"n","X","Impossible","57nX"]
["57X","progress?",5,7,null,"X","progress?","57X"]
["56yX","d",5,6,"y","X","d","56yX"]
["56nX","Impossible",5,6,"n","X","Impossible","56nX"]
["56X","progress?",5,6,null,"X","progress?","56X"]
["55yX","b",5,5,"y","X","b","55yX"]
["55nX","Impossible",5,5,"n","X","Impossible","55nX"]
["55X","progress?",5,5,null,"X","progress?","55X"]
["54yX","b",5,4,"y","X","b","54yX"]
["54nX","a",5,4,"n","X","a","54nX"]
["54X","progress?",5,4,null,"X","progress?","54X"]
["53yX","b",5,3,"y","X","b","53yX"]
["53nX","a",5,3,"n","X","a","53nX"]
["53X","progress?",5,3,null,"X","progress?","53X"]
["52yX","b",5,2,"y","X","b","52yX"]
["52nX","a",5,2,"n","X","a","52nX"]
["52X","progress?",5,2,null,"X","progress?","52X"]
["51yX","b",5,1,"y","X","b","51yX"]
["51nX","a",5,1,"n","X","a","51nX"]
["51X","progress?",5,1,null,"X","progress?","51X"]
["5X","--",5,null,null,"X","--","5X"]
["5yX","Impossible",null,5,"y","X","Impossible","5yX"]
["5nX","Impossible",null,5,"n","X","Impossible","5nX"]
["5X","progress?",null,5,null,"X","progress?","5X"]
["47yX","d",4,7,"y","X","d","47yX"]
["47nX","Impossible",4,7,"n","X","Impossible",{"$f":"CONCATENATE(C79,D79,E79,F79)","v":"47nX"}]
["47X","progress?",4,7,null,"X","progress?","47X"]
["46yX","d",4,6,"y","X","d","46yX"]
["46nX","Impossible",4,6,"n","X","Impossible","46nX"]
["46X","progress?",4,6,null,"X","progress?","46X"]
["45yX","c",4,5,"y","X","c","45yX"]
["45nX","Impossible",4,5,"n","X","Impossible","45nX"]
["45X","progress?",4,5,null,"X","progress?","45X"]
["44yX","b",4,4,"y","X","b","44yX"]
["44nX","Impossible",4,4,"n","X","Impossible","44nX"]
["44X","progress?",4,4,null,"X","progress?","44X"]
["43yX","b",4,3,"y","X","b","43yX"]
["43nX","a",4,3,"n","X","a","43nX"]
["43X","progress?",4,3,null,"X","progress?","43X"]
["42yX","b",4,2,"y","X","b","42yX"]
["42nX","a",4,2,"n","X","a","42nX"]
["42X","progress?",4,2,null,"X","progress?","42X"]
["41yX","b",4,1,"y","X","b","41yX"]
["41nX","a",4,1,"n","X","a","41nX"]
["41X","progress?",4,1,null,"X","progress?","41X"]
["4X","--",4,null,null,"X","--","4X"]
["4yX","Impossible",null,4,"y","X","Impossible","4yX"]
["4nX","Impossible",null,4,"n","X","Impossible","4nX"]
["4X","progress?",null,4,null,"X","progress?","4X"]
["37yX","d",3,7,"y","X","d","37yX"]
["37nX","Impossible",3,7,"n","X","Impossible","37nX"]
["37X","progress?",3,7,null,"X","progress?","37X"]
["36yX","d",3,6,"y","X","d","36yX"]
["36nX","Impossible",3,6,"n","X","Impossible","36nX"]
["36X","progress?",3,6,null,"X","progress?","36X"]
["35yX","c",3,5,"y","X","c","35yX"]
["35nX","Impossible",3,5,"n","X","Impossible","35nX"]
["35X","progress?",3,5,null,"X","progress?","35X"]
["34yX","c",3,4,"y","X","c","34yX"]
["34nX","Impossible",3,4,"n","X","Impossible","34nX"]
["34X","progress?",3,4,null,"X","progress?","34X"]
["33yX","b",3,3,"y","X","b","33yX"]
["33nX","Impossible",3,3,"n","X","Impossible","33nX"]
["33X","progress?",3,3,null,"X","progress?","33X"]
["32yX","b",3,2,"y","X","b","32yX"]
["32nX","a",3,2,"n","X","a","32nX"]
["32X","progress?",3,2,null,"X","progress?","32X"]
["31yX","b",3,1,"y","X","b","31yX"]
["31nX","a",3,1,"n","X","a","31nX"]
["31X","progress?",3,1,null,"X","progress?","31X"]
["3X","--",3,null,null,"X","--","3X"]
["3yX","Impossible",null,3,"y","X","Impossible","3yX"]
["3nX","Impossible",null,3,"n","X","Impossible","3nX"]
["3X","progress?",null,3,null,"X","progress?","3X"]
["27yX","d",2,7,"y","X","d","27yX"]
["27nX","Impossible",2,7,"n","X","Impossible","27nX"]
["27X","progress?",2,7,null,"X","progress?","27X"]
["26yX","d",2,6,"y","X","d","26yX"]
["26nX","Impossible",2,6,"n","X","Impossible","26nX"]
["26X","progress?",2,6,null,"X","progress?","26X"]
["25yX","c",2,5,"y","X","c","25yX"]
["25nX","Impossible",2,5,"n","X","Impossible","25nX"]
["25X","progress?",2,5,null,"X","progress?","25X"]
["24yX","c",2,4,"y","X","c","24yX"]
["24nX","Impossible",2,4,"n","X","Impossible","24nX"]
["24X","progress?",2,4,null,"X","progress?","24X"]
["23yX","c",2,3,"y","X","c","23yX"]
["23nX","Impossible",2,3,"n","X","Impossible","23nX"]
["23X","progress?",2,3,null,"X","progress?","23X"]
["22yX","b",2,2,"y","X","b","22yX"]
["22nX","Impossible",2,2,"n","X","Impossible","22nX"]
["22X","progress?",2,2,null,"X","progress?",{"$f":"CONCATENATE(C145,D145,E145,F145)","v":"22X"}]
["21yX","b",2,1,"y","X","b","21yX"]
["21nX","a",2,1,"n","X","a","21nX"]
["21X","progress?",2,1,null,"X","progress?","21X"]
["2X","--",2,null,null,"X","--","2X"]
["2yX","Impossible",null,2,"y","X","Impossible","2yX"]
["2nX","Impossible",null,2,"n","X","Impossible","2nX"]
["2X","progress?",null,2,null,"X","progress?","2X"]
["17yX","d",1,7,"y","X","d","17yX"]
["17nX","Impossible",1,7,"n","X","Impossible","17nX"]
["17X","progress?",1,7,null,"X","progress?","17X"]
["16yX","d",1,6,"y","X","d","16yX"]
["16nX","Impossible",1,6,"n","X","Impossible","16nX"]
["16X","progress?",1,6,null,"X","progress?","16X"]
["15yX","c",1,5,"y","X","c","15yX"]
["15nX","Impossible",1,5,"n","X","Impossible","15nX"]
["15X","progress?",1,5,null,"X","progress?","15X"]
["14yX","c",1,4,"y","X","c","14yX"]
["14nX","Impossible",1,4,"n","X","Impossible","14nX"]
["14X","progress?",1,4,null,"X","progress?","14X"]
["13yX","c",1,3,"y","X","c","13yX"]
["13nX","Impossible",1,3,"n","X","Impossible","13nX"]
["13X","progress?",1,3,null,"X","progress?","13X"]
["12yX","c",1,2,"y","X","c","12yX"]
["12nX","Impossible",1,2,"n","X","Impossible","12nX"]
["12X","progress?",1,2,null,"X","progress?","12X"]
["11yX","b",1,1,"y","X","b","11yX"]
["11nX","a",1,1,"n","X","a","11nX"]
["11X","progress?",1,1,null,"X","progress?","11X"]
["1X","--",1,null,null,"X","--","1X"]
["1yX","Impossible",null,1,"y","X","Impossible","1yX"]
["1nX","Impossible",null,1,"n","X","Impossible",{"$f":"CONCATENATE(C176,D176,E176,F176)","v":"1nX"}]
["1X","progress?",null,1,null,"X","progress?","1X"]